Felt | Verdi |
AlreadyApplied | True |
Aperture | 2.8 |
ApertureValue | 2.8 |
ApproximateFocusDistance | 0.71 |
Artist | HALLGEIR-RISENFALD |
AutoLateralCA | 0 |
AutoWhiteVersion | 134348800 |
BitsPerSample | 8 |
Blacks2012 | +19 |
BlueHue | 0 |
BlueSaturation | 0 |
By-line | HALLGEIR-RISENFALD |
CameraProfile | Adobe Standard |
CircGradBasedCorrActive | true |
CircGradBasedCorrAmount | 1.000000 |
CircGradBasedCorrBrightness | 0.000000 |
CircGradBasedCorrClarity2012 | 0.000000 |
CircGradBasedCorrContrast2012 | 0.000000 |
CircGradBasedCorrDefringe | 0.000000 |
CircGradBasedCorrExposure2012 (1) | -0.195500 |
CircGradBasedCorrExposure2012 | -0.034500 |
CircGradBasedCorrHighlights2012 (1) | 0.000000 |
CircGradBasedCorrHighlights2012 | -1.000000 |
CircGradBasedCorrHue | 0.000000 |
CircGradBasedCorrLuminanceNoise | 0.000000 |
CircGradBasedCorrMaskAngle | 0.000000 |
CircGradBasedCorrMaskBottom (1) | 1.032400 |
CircGradBasedCorrMaskBottom | 0.666823 |
CircGradBasedCorrMaskFeather | +50 |
CircGradBasedCorrMaskFlipped (1) | false |
CircGradBasedCorrMaskFlipped | true |
CircGradBasedCorrMaskLeft (1) | 0.035214 |
CircGradBasedCorrMaskLeft | 0.408062 |
CircGradBasedCorrMaskMidpoint | +50 |
CircGradBasedCorrMaskRight (1) | 1.036600 |
CircGradBasedCorrMaskRight | 0.462852 |
CircGradBasedCorrMaskRoundness | 0 |
CircGradBasedCorrMaskTop (1) | -0.041973 |
CircGradBasedCorrMaskTop | 0.591459 |
CircGradBasedCorrMaskValue | 1.000000 |
CircGradBasedCorrMaskVersion | +2 |
CircGradBasedCorrMaskWhat | Mask/CircularGradient |
CircGradBasedCorrMoire | 0.000000 |
CircGradBasedCorrSaturation | 0.000000 |
CircGradBasedCorrShadows2012 | 0.000000 |
CircGradBasedCorrSharpness | 0.000000 |
CircGradBasedCorrTemperature | 0.000000 |
CircGradBasedCorrTint | 0.000000 |
CircGradBasedCorrWhat | Correction |
CircleOfConfusion | 0.020 mm |
Clarity2012 | +52 |
ColorComponents | 3 |
ColorNoiseReduction | 25 |
ColorNoiseReductionDetail | 50 |
ColorNoiseReductionSmoothness | 50 |
ColorTemperature | 5929 |
ColorTransform | YCbCr |
Contrast | Normal |
Contrast2012 | +69 |
ConvertToGrayscale | True |
Copyright | HALLGEIR RISENFALD |
CopyrightNotice | HALLGEIR RISENFALD |
CreateDate | 2014:11:02 10:05:57 |
Creator | HALLGEIR-RISENFALD |
CreatorTool | Adobe Photoshop Lightroom 5.4 (Windows) |
CropAngle | 0 |
CropBottom | 0.989726 |
CropConstrainToWarp | 0 |
CropLeft | 0.063492 |
CropRight | 1 |
CropTop | 0.030822 |
CustomRendered | Normal |
DateCreated (1) | 2014:11:02 |
DateCreated | 2014:11:02 10:05:57 |
DateTimeOriginal | 2014:11:02 10:05:57 |
DOF | 0.03 m (0.69 - 0.73 m) |
Exposure2012 | +0.48 |
ExposureCompensation | -0.7 |
ExposureMode | Manual |
ExposureProgram | Aperture-priority AE |
ExposureTime | 1/800 |
Flash | Off, Did not fire |
FNumber | 2.8 |
FocalLength | 40.0 mm |
FocalLength35efl | 40.0 mm (35 mm equivalent: 60.0 mm) |
FocalLengthIn35mmFormat | 60 mm |
Format | image/jpeg |
FOV | 33.4 deg |
GrainAmount | 0 |
GrayMixerAqua | -18 |
GrayMixerBlue | +7 |
GrayMixerGreen | -38 |
GrayMixerMagenta | +6 |
GrayMixerOrange | -17 |
GrayMixerPurple | +16 |
GrayMixerRed | -7 |
GrayMixerYellow | -22 |
GreenHue | 0 |
GreenSaturation | 0 |
HasCrop | True |
HasSettings | True |
Highlights2012 | +33 |
HyperfocalDistance | 28.53 m |
ImageHeight | 2400 |
ImageSize | 1628x2400 |
ImageWidth | 1628 |
ISO | 400 |
Lens | smc PENTAX-DA 40mm F2.8 Limited |
LensID (1) | 4 251 |
LensID | smc PENTAX-DA 40mm F2.8 Limited |
LensInfo | 40mm f/2.8 |
LensManualDistortionAmount | 0 |
LensModel | smc PENTAX-DA 40mm F2.8 Limited |
LensProfileEnable | 0 |
LensProfileSetup | LensDefaults |
LightValue | 10.6 |
LuminanceSmoothing | 0 |
Make | PENTAX |
Megapixels | 3.9 |
MeteringMode | Multi-segment |
Model | PENTAX K-5 |
ModifyDate (1) | 2015:03:07 13:00:13+01:00 |
ModifyDate | 2015:03:07 13:00:13 |
PaintCorrectionActive | true |
PaintCorrectionAmount | 1.000000 |
PaintCorrectionBrightness | 0.000000 |
PaintCorrectionClarity2012 (1) | 0.494250 |
PaintCorrectionClarity2012 (2) | -0.494250 |
PaintCorrectionClarity2012 (3) | -0.356320 |
PaintCorrectionClarity2012 | -1.000000 |
PaintCorrectionContrast2012 (2) | -0.356320 |
PaintCorrectionContrast2012 (4) | 0.000000 |
PaintCorrectionContrast2012 | -0.287360 |
PaintCorrectionDefringe | 0.000000 |
PaintCorrectionExposure2012 (1) | 0.000000 |
PaintCorrectionExposure2012 (2) | 0.057500 |
PaintCorrectionExposure2012 (3) | 0.379250 |
PaintCorrectionExposure2012 (4) | 1.000000 |
PaintCorrectionExposure2012 | 0.793000 |
PaintCorrectionHighlights2012 (1) | 0.402300 |
PaintCorrectionHighlights2012 (3) | -0.034480 |
PaintCorrectionHighlights2012 (4) | 0.000000 |
PaintCorrectionHighlights2012 | -0.379310 |
PaintCorrectionHue | 0.000000 |
PaintCorrectionLuminanceNoise | 0.000000 |
PaintCorrectionMaskCenterWeight (10) | 0.000000 |
PaintCorrectionMaskCenterWeight (5) | 0.048379 |
PaintCorrectionMaskCenterWeight (7) | 0.082873 |
PaintCorrectionMaskCenterWeight | 0.009427 |
PaintCorrectionMaskFlow | 1.000000 |
PaintCorrectionMaskRadius (1) | 0.008659 |
PaintCorrectionMaskRadius (10) | 0.004521 |
PaintCorrectionMaskRadius (5) | 0.050451 |
PaintCorrectionMaskRadius (6) | 0.063100 |
PaintCorrectionMaskRadius (8) | 0.080603 |
PaintCorrectionMaskRadius (9) | 0.009833 |
PaintCorrectionMaskRadius | 0.013720 |
PaintCorrectionMaskValue (10) | 0.000000 |
PaintCorrectionMaskValue | 0.247000 |
PaintCorrectionMaskWhat | Mask/Paint |
PaintCorrectionMoire | 0.000000 |
PaintCorrectionSaturation | 0.000000 |
PaintCorrectionShadows2012 (1) | -0.310340 |
PaintCorrectionShadows2012 (2) | 0.724140 |
PaintCorrectionShadows2012 (4) | 0.000000 |
PaintCorrectionShadows2012 | 0.287360 |
PaintCorrectionSharpness (1) | 1.000000 |
PaintCorrectionSharpness (2) | -0.655170 |
PaintCorrectionSharpness (3) | -0.448280 |
PaintCorrectionSharpness | 0.000000 |
PaintCorrectionTemperature (2) | 0.000000 |
PaintCorrectionTemperature | 0.241380 |
PaintCorrectionTint (1) | 0.000000 |
PaintCorrectionTint | 0.494250 |
PaintCorrectionWhat | Correction |
ParametricDarks | 0 |
ParametricHighlights | 0 |
ParametricHighlightSplit | 75 |
ParametricLights | 0 |
ParametricMidtoneSplit | 50 |
ParametricShadows | 0 |
ParametricShadowSplit | 25 |
PerspectiveAspect | 0 |
PerspectiveHorizontal | 0 |
PerspectiveRotate | 0.0 |
PerspectiveScale | 100 |
PerspectiveUpright | 0 |
PerspectiveVertical | 0 |
PostCropVignetteAmount | 0 |
ProcessVersion | 6.7 |
ProfileDescription | sRGB IEC61966-2.1 |
RedHue | 0 |
RedSaturation | 0 |
Rights | HALLGEIR RISENFALD |
Saturation | Normal |
ScaleFactor35efl | 1.5 |
SceneCaptureType | Standard |
SensingMethod | One-chip color area |
Shadows2012 | +48 |
ShadowTint | 0 |
SharpenDetail | 25 |
SharpenEdgeMasking | 0 |
SharpenRadius | +1.0 |
Sharpness (1) | 25 |
Sharpness | Normal |
ShutterSpeed | 1/800 |
ShutterSpeedValue | 1/800 |
Software | Adobe Photoshop Lightroom 5.4 (Windows) |
SplitToningBalance | 0 |
SplitToningHighlightHue | 0 |
SplitToningHighlightSaturation | 0 |
SplitToningShadowHue | 0 |
SplitToningShadowSaturation | 0 |
SubjectDistanceRange | Macro |
Tint | -54 |
ToneCurve | 0, 0, 255, 255 |
ToneCurveBlue | 0, 0, 255, 255 |
ToneCurveGreen | 0, 0, 255, 255 |
ToneCurveName | Linear |
ToneCurveName2012 | Linear |
ToneCurvePV2012 | 0, 0, 255, 255 |
ToneCurvePV2012Blue | 0, 0, 255, 255 |
ToneCurvePV2012Green | 0, 0, 255, 255 |
ToneCurvePV2012Red | 0, 0, 255, 255 |
ToneCurveRed | 0, 0, 255, 255 |
Version | 8.4 |
VignetteAmount | 0 |
WhiteBalance (1) | Custom |
WhiteBalance | Manual |
Whites2012 | +55 |