Felt | Verdi |
AlreadyApplied | True |
Aperture | 3.5 |
ApertureValue | 3.5 |
AutoLateralCA | 0 |
AutoWhiteVersion | 134348800 |
BitsPerSample (1) | 8 8 8 |
BitsPerSample | 8 |
Blacks2012 | 0 |
BlueHue | 0 |
BlueSaturation | 0 |
CameraProfile | Embedded |
CircleOfConfusion | 0.030 mm |
Clarity2012 | +12 |
ColorComponents | 3 |
ColorMode | RGB |
ColorNoiseReduction | 25 |
ColorNoiseReductionDetail | 50 |
ColorNoiseReductionSmoothness | 50 |
ColorSpace | sRGB |
ColorTemperature | 10500 |
ColorTransform | YCbCr |
Contrast | Normal |
Contrast2012 | 0 |
ConvertToGrayscale | False |
CreateDate | 2015:06:17 05:34:20 |
CreatorTool | Adobe Photoshop Lightroom 5.0 (Macintosh) |
CustomRendered | Normal |
DateCreated (1) | 2015:06:17 |
DateCreated | 2015:06:17 05:34:20 |
DateTimeOriginal | 2015:06:17 05:34:20 |
DefringeGreenAmount | 0 |
DefringeGreenHueHi | 60 |
DefringeGreenHueLo | 40 |
DefringePurpleAmount | 0 |
DefringePurpleHueHi | 70 |
DefringePurpleHueLo | 30 |
DigitalZoomRatio | 1 |
ExifImageHeight | 1155 |
ExifImageWidth | 1732 |
Exposure2012 | 0.00 |
ExposureCompensation | +0.3 |
ExposureProgram | Aperture-priority AE |
ExposureTime | 1/200 |
Flash | Off, Did not fire |
FNumber | 3.5 |
FocalLength | 28.0 mm |
FocalLength35efl | 28.0 mm (35 mm equivalent: 28.0 mm) |
FocalLengthIn35mmFormat | 28 mm |
Format | image/jpeg |
FOV | 65.5 deg |
GrainAmount | 0 |
GreenHue | 0 |
GreenSaturation | 0 |
HasCrop | False |
HasExtendedXMP | 69BD72721D0088595F1B064BB869F66F |
HasSettings | True |
Highlights2012 | 0 |
HueAdjustmentAqua | 0 |
HueAdjustmentBlue | 0 |
HueAdjustmentGreen | 0 |
HueAdjustmentMagenta | 0 |
HueAdjustmentOrange | 0 |
HueAdjustmentPurple | 0 |
HueAdjustmentRed | 0 |
HueAdjustmentYellow | 0 |
HyperfocalDistance | 7.46 m |
ICCProfileName | sRGB IEC61966-2.1 |
ImageHeight | 1155 |
ImageSize | 1732x1155 |
ImageWidth | 1732 |
ISO | 100 |
Lens | 28.0 mm f/1.7 |
LensInfo | 28mm f/1.53125 |
LensMake | LEICA CAMERA AG |
LensManualDistortionAmount | 0 |
LensModel | 28.0 mm f/1.7 |
LensProfileEnable | 0 |
LensProfileSetup | LensDefaults |
LensSerialNumber | N/A |
LightSource | Unknown |
LightValue | 11.3 |
LuminanceAdjustmentAqua | 0 |
LuminanceAdjustmentBlue | 0 |
LuminanceAdjustmentGreen | 0 |
LuminanceAdjustmentMagenta | 0 |
LuminanceAdjustmentOrange | 0 |
LuminanceAdjustmentPurple | 0 |
LuminanceAdjustmentRed | 0 |
LuminanceAdjustmentYellow | 0 |
LuminanceSmoothing | 0 |
Make | LEICA CAMERA AG |
MaxApertureValue | 1.7 |
Megapixels | 2.0 |
MeteringMode | Multi-segment |
Model | LEICA Q (Typ 116) |
ModifyDate (1) | 2015:06:19 11:37:45+02:00 |
ModifyDate | 2015:06:19 11:37:45 |
Orientation | Horizontal (normal) |
PaintCorrectionActive | true |
PaintCorrectionAmount | 1.000000 |
PaintCorrectionBrightness | 0.000000 |
PaintCorrectionClarity2012 (4) | 0.139923 |
PaintCorrectionClarity2012 (5) | 0.458743 |
PaintCorrectionClarity2012 | 0.000000 |
PaintCorrectionContrast2012 | 0.000000 |
PaintCorrectionDefringe | 0.000000 |
PaintCorrectionExposure2012 | 0.000000 |
PaintCorrectionHighlights2012 (1) | -1.000000 |
PaintCorrectionHighlights2012 (3) | 0.108234 |
PaintCorrectionHighlights2012 | 0.000000 |
PaintCorrectionHue | 0.000000 |
PaintCorrectionLuminanceNoise | 0.000000 |
PaintCorrectionMaskCenterWeight (9) | 0.174065 |
PaintCorrectionMaskCenterWeight | 0.321143 |
PaintCorrectionMaskFlow (16) | 1.000000 |
PaintCorrectionMaskFlow | 0.360809 |
PaintCorrectionMaskRadius (12) | 0.059649 |
PaintCorrectionMaskRadius (22) | 0.036574 |
PaintCorrectionMaskRadius (23) | 0.012050 |
PaintCorrectionMaskRadius (25) | 0.003959 |
PaintCorrectionMaskRadius (27) | 0.012752 |
PaintCorrectionMaskRadius (29) | 0.200009 |
PaintCorrectionMaskRadius (3) | 0.161785 |
PaintCorrectionMaskRadius | 0.053007 |
PaintCorrectionMaskValue (16) | 0.000000 |
PaintCorrectionMaskValue | 1.000000 |
PaintCorrectionMaskWhat | Mask/Paint |
PaintCorrectionMoire | 0.000000 |
PaintCorrectionSaturation (5) | 0.637465 |
PaintCorrectionSaturation (9) | 0.001580 |
PaintCorrectionSaturation | 0.000000 |
PaintCorrectionShadows2012 (1) | 0.004389 |
PaintCorrectionShadows2012 (2) | -0.374737 |
PaintCorrectionShadows2012 (6) | -0.260621 |
PaintCorrectionShadows2012 | -0.036780 |
PaintCorrectionSharpness | 0.000000 |
PaintCorrectionTemperature (4) | -0.238764 |
PaintCorrectionTemperature | 0.000000 |
PaintCorrectionTint | 0.000000 |
PaintCorrectionWhat | Correction |
ParametricDarks | 0 |
ParametricHighlights | 0 |
ParametricHighlightSplit | 75 |
ParametricLights | 0 |
ParametricMidtoneSplit | 50 |
ParametricShadows | 0 |
ParametricShadowSplit | 25 |
PerspectiveAspect | 0 |
PerspectiveHorizontal | 0 |
PerspectiveRotate | 0.0 |
PerspectiveScale | 100 |
PerspectiveUpright | 0 |
PerspectiveVertical | 0 |
PhotometricInterpretation | RGB |
PostCropVignetteAmount | 0 |
ProcessVersion | 6.7 |
ProfileDescription | sRGB IEC61966-2.1 |
RedHue | 0 |
RedSaturation | 0 |
SamplesPerPixel | 3 |
Saturation (1) | +4 |
Saturation | Normal |
SaturationAdjustmentAqua | 0 |
SaturationAdjustmentBlue | 0 |
SaturationAdjustmentGreen | 0 |
SaturationAdjustmentMagenta | 0 |
SaturationAdjustmentOrange | 0 |
SaturationAdjustmentPurple | 0 |
SaturationAdjustmentRed | 0 |
SaturationAdjustmentYellow | 0 |
ScaleFactor35efl | 1.0 |
SceneCaptureType | Standard |
SensingMethod | One-chip color area |
SensitivityType | Standard Output Sensitivity |
SerialNumber | 4930556 |
Shadows2012 | 0 |
ShadowTint | 0 |
SharpenDetail | 25 |
SharpenEdgeMasking | 0 |
SharpenRadius | +1.0 |
Sharpness (1) | 25 |
Sharpness | Normal |
ShutterSpeed | 1/200 |
ShutterSpeedValue | 1/200 |
Software | Adobe Photoshop CS6 (Macintosh) |
SplitToningBalance | 0 |
SplitToningHighlightHue | 0 |
SplitToningHighlightSaturation | 0 |
SplitToningShadowHue | 0 |
SplitToningShadowSaturation | 0 |
Tint | +10 |
ToneCurveName2012 | Linear |
ToneCurvePV2012 | 0, 0, 255, 255 |
ToneCurvePV2012Blue | 0, 0, 255, 255 |
ToneCurvePV2012Green | 0, 0, 255, 255 |
ToneCurvePV2012Red | 0, 0, 255, 255 |
URL_List | |
Version | 8.2 |
Vibrance | +4 |
VignetteAmount | 0 |
WhiteBalance (1) | As Shot |
WhiteBalance | Auto |
Whites2012 | 0 |