Felt | Verdi |
AlreadyApplied | True |
Aperture | 11.0 |
ApertureValue | 11.0 |
ApproximateFocusDistance | 4294967295 |
AutoLateralCA | 0 |
BitsPerSample | 8 |
Blacks2012 | +32 |
BlueHue | 0 |
BlueSaturation | +4 |
Brightness | +50 |
CameraProfile | Adobe Standard |
CircleOfConfusion | 0.019 mm |
Clarity | 0 |
Clarity2012 | 0 |
ColorComponents | 3 |
ColorMode | RGB |
ColorNoiseReduction | 45 |
ColorNoiseReductionDetail | 50 |
ColorSpace | Uncalibrated |
ColorTemperature | 5150 |
ColorTransform | YCbCr |
Contrast | +25 |
Contrast2012 | +50 |
ConvertToGrayscale | False |
CreateDate | 2013:04:03 09:30:13 |
CropAngle | -1.589979 |
CropBottom | 0.836854 |
CropConstrainToWarp | 1 |
CropHeight | 16 |
CropLeft | 0 |
CropRight | 1 |
CropTop | 0.047071 |
CropUnit | Unknown (3) |
CropWidth | 9 |
CustomRendered | Normal |
DateCreated (1) | 2013:04:03 |
DateCreated | 2013:04:03 09:30:13.027 |
DateTimeOriginal | 2013:04:03 09:30:13 |
Defringe | 0 |
DOF | inf (2.52 m - inf) |
ExifImageHeight | 2872 |
ExifImageWidth | 5106 |
Exposure | 0.00 |
Exposure2012 | 0.00 |
ExposureCompensation | 0 |
ExposureMode | Manual |
ExposureProgram | Manual |
ExposureTime | 1/160 |
FillLight | 0 |
Firmware | 1.1.1 |
Flash | Off, Did not fire |
FlashCompensation | 0 |
FNumber | 11.0 |
FocalLength | 23.0 mm |
FocalLength35efl | 23.0 mm (35 mm equivalent: 36.2 mm) |
Format | image/jpeg |
FOV | 52.9 deg |
GradientBasedCorrActive | true |
GradientBasedCorrAmount | 1.000000 |
GradientBasedCorrBrightness | 0.000000 |
GradientBasedCorrClarity | 0.000000 |
GradientBasedCorrClarity2012 | 0.000000 |
GradientBasedCorrContrast | 0.000000 |
GradientBasedCorrContrast2012 | 0.000000 |
GradientBasedCorrExposure | 0.000000 |
GradientBasedCorrExposure2012 | 0.000000 |
GradientBasedCorrHighlights2012 | 0.000000 |
GradientBasedCorrHue | 0.000000 |
GradientBasedCorrLuminanceNoise | 0.000000 |
GradientBasedCorrMaskFullX | 0.584753 |
GradientBasedCorrMaskFullY | -0.002751 |
GradientBasedCorrMaskValue | 1.000000 |
GradientBasedCorrMaskWhat | Mask/Gradient |
GradientBasedCorrMaskZeroX | 0.593513 |
GradientBasedCorrMaskZeroY | 0.470607 |
GradientBasedCorrMoire | 0.000000 |
GradientBasedCorrSaturation | 0.000000 |
GradientBasedCorrShadows2012 | 0.000000 |
GradientBasedCorrSharpness | 0.000000 |
GradientBasedCorrTemperature | 0.180000 |
GradientBasedCorrTint | 0.150000 |
GradientBasedCorrWhat | Correction |
GrainAmount | 0 |
GreenHue | 0 |
GreenSaturation | 0 |
HasCrop | True |
HasSettings | True |
HighlightRecovery | 0 |
Highlights2012 | -47 |
HueAdjustmentAqua | 0 |
HueAdjustmentBlue | 0 |
HueAdjustmentGreen | 0 |
HueAdjustmentMagenta | 0 |
HueAdjustmentOrange | 0 |
HueAdjustmentPurple | 0 |
HueAdjustmentRed | 0 |
HueAdjustmentYellow | 0 |
HyperfocalDistance | 2.52 m |
ICCProfileName | Adobe RGB (1998) |
ImageHeight | 2872 |
ImageNumber | 0 |
ImageSize | 5106x2872 |
ImageWidth | 5106 |
ISO | 200 |
Lens | 17-70mm |
LensID (1) | 137 |
LensID | Sigma 17-70mm f/2.8-4 DC Macro OS HSM | C |
LensInfo | 17-70mm f/? |
LensManualDistortionAmount | 0 |
LensModel | 17-70mm |
LensProfileEnable | 0 |
LensProfileSetup | LensDefaults |
LensSerialNumber | 0000000000 |
LightValue | 13.2 |
LuminanceAdjustmentAqua | 0 |
LuminanceAdjustmentBlue | 0 |
LuminanceAdjustmentGreen | 0 |
LuminanceAdjustmentMagenta | 0 |
LuminanceAdjustmentOrange | 0 |
LuminanceAdjustmentPurple | 0 |
LuminanceAdjustmentRed | 0 |
LuminanceAdjustmentYellow | 0 |
LuminanceNoiseReductionContrast | 0 |
LuminanceNoiseReductionDetail | 50 |
LuminanceSmoothing | 45 |
Make | Canon |
MaxApertureValue | 3.1 |
Megapixels | 14.7 |
MeteringMode | Multi-segment |
Model | Canon EOS 60D |
ModifyDate (1) | 2013:04:07 09:13:35+02:00 |
ModifyDate | 2013:04:07 09:13:35 |
Orientation | Horizontal (normal) |
PaintCorrectionActive | true |
PaintCorrectionAmount | 1.000000 |
PaintCorrectionBrightness | 0.000000 |
PaintCorrectionClarity | 0.000000 |
PaintCorrectionClarity2012 | 0.000000 |
PaintCorrectionContrast | 0.000000 |
PaintCorrectionContrast2012 (2) | 0.090000 |
PaintCorrectionContrast2012 (3) | -0.110000 |
PaintCorrectionContrast2012 (4) | 0.000000 |
PaintCorrectionContrast2012 (5) | 0.140000 |
PaintCorrectionContrast2012 | 0.160000 |
PaintCorrectionExposure | 0.000000 |
PaintCorrectionExposure2012 (2) | 0.000000 |
PaintCorrectionExposure2012 (5) | 0.187500 |
PaintCorrectionExposure2012 | 0.175000 |
PaintCorrectionHighlights2012 (1) | 0.420000 |
PaintCorrectionHighlights2012 (2) | 0.720000 |
PaintCorrectionHighlights2012 (4) | 0.000000 |
PaintCorrectionHighlights2012 (5) | 0.200000 |
PaintCorrectionHighlights2012 | 0.380000 |
PaintCorrectionHue | 0.000000 |
PaintCorrectionLuminanceNoise (1) | 0.000000 |
PaintCorrectionLuminanceNoise | 0.120000 |
PaintCorrectionMaskCenterWeight (22) | 1.000000 |
PaintCorrectionMaskCenterWeight (33) | 0.000000 |
PaintCorrectionMaskCenterWeight (34) | 0.087789 |
PaintCorrectionMaskCenterWeight (37) | 0.143200 |
PaintCorrectionMaskCenterWeight | 0.501304 |
PaintCorrectionMaskFlow | 0.888889 |
PaintCorrectionMaskRadius (1) | 0.177750 |
PaintCorrectionMaskRadius (11) | 0.210747 |
PaintCorrectionMaskRadius (14) | 0.316336 |
PaintCorrectionMaskRadius (15) | 0.019367 |
PaintCorrectionMaskRadius (19) | 0.072161 |
PaintCorrectionMaskRadius (2) | 0.085360 |
PaintCorrectionMaskRadius (20) | 0.263541 |
PaintCorrectionMaskRadius (22) | 0.015355 |
PaintCorrectionMaskRadius (23) | 0.002418 |
PaintCorrectionMaskRadius (24) | 0.010180 |
PaintCorrectionMaskRadius (26) | 0.184350 |
PaintCorrectionMaskRadius (28) | 0.454922 |
PaintCorrectionMaskRadius (3) | 0.045764 |
PaintCorrectionMaskRadius (30) | 0.705695 |
PaintCorrectionMaskRadius (31) | 0.105158 |
PaintCorrectionMaskRadius (33) | 0.342733 |
PaintCorrectionMaskRadius (34) | 0.188231 |
PaintCorrectionMaskRadius (36) | 0.022960 |
PaintCorrectionMaskRadius (37) | 0.033645 |
PaintCorrectionMaskRadius (39) | 0.019741 |
PaintCorrectionMaskRadius (4) | 0.197548 |
PaintCorrectionMaskRadius (40) | 0.013047 |
PaintCorrectionMaskRadius (5) | 0.098559 |
PaintCorrectionMaskRadius | 0.006352 |
PaintCorrectionMaskValue (20) | 1.000000 |
PaintCorrectionMaskValue | 0.000000 |
PaintCorrectionMaskWhat | Mask/Paint |
PaintCorrectionMoire | 0.000000 |
PaintCorrectionSaturation (1) | -0.120000 |
PaintCorrectionSaturation (11) | 0.060000 |
PaintCorrectionSaturation (3) | -0.150000 |
PaintCorrectionSaturation (9) | 0.040000 |
PaintCorrectionSaturation | 0.000000 |
PaintCorrectionShadows2012 (2) | 0.800000 |
PaintCorrectionShadows2012 (5) | -0.190000 |
PaintCorrectionShadows2012 | 0.000000 |
PaintCorrectionSharpness | 0.000000 |
PaintCorrectionTemperature (1) | -0.160000 |
PaintCorrectionTemperature (2) | -0.120000 |
PaintCorrectionTemperature (3) | 0.120000 |
PaintCorrectionTemperature (4) | 0.010000 |
PaintCorrectionTemperature (5) | 0.100000 |
PaintCorrectionTemperature | 0.420000 |
PaintCorrectionTint (2) | 0.070000 |
PaintCorrectionTint (3) | 0.030000 |
PaintCorrectionTint | 0.000000 |
PaintCorrectionWhat | Correction |
ParametricDarks | 0 |
ParametricHighlights | 0 |
ParametricHighlightSplit | 75 |
ParametricLights | 0 |
ParametricMidtoneSplit | 50 |
ParametricShadows | 0 |
ParametricShadowSplit | 25 |
PerspectiveHorizontal | 0 |
PerspectiveRotate | 0.0 |
PerspectiveScale | 100 |
PerspectiveVertical | 0 |
PostCropVignetteAmount | -17 |
PostCropVignetteFeather | 50 |
PostCropVignetteHighlightContrast | 0 |
PostCropVignetteMidpoint | 50 |
PostCropVignetteRoundness | 0 |
PostCropVignetteStyle | 1 |
ProcessVersion | 6.7 |
ProfileDescription | Adobe RGB (1998) |
Rating | 0 |
RawFileName | IMG_8289.CR2 |
RecommendedExposureIndex | 200 |
RedHue | 0 |
RedSaturation | -2 |
Saturation | 0 |
SaturationAdjustmentAqua | 0 |
SaturationAdjustmentBlue | 0 |
SaturationAdjustmentGreen | 0 |
SaturationAdjustmentMagenta | 0 |
SaturationAdjustmentOrange | 0 |
SaturationAdjustmentPurple | 0 |
SaturationAdjustmentRed | 0 |
SaturationAdjustmentYellow | 0 |
ScaleFactor35efl | 1.6 |
SceneCaptureType | Standard |
SensitivityType | Recommended Exposure Index |
SerialNumber | 2431424055 |
Shadows | 5 |
Shadows2012 | +100 |
ShadowTint | 0 |
SharpenDetail | 25 |
SharpenEdgeMasking | 0 |
SharpenRadius | +1.0 |
Sharpness | 25 |
ShutterSpeed | 1/160 |
ShutterSpeedValue | 1/160 |
Software | Adobe Photoshop CS6 (Windows) |
SplitToningBalance | 0 |
SplitToningHighlightHue | 0 |
SplitToningHighlightSaturation | 0 |
SplitToningShadowHue | 0 |
SplitToningShadowSaturation | 0 |
Tint | +6 |
ToneCurve | 0, 0, 32, 22, 64, 56, 128, 128, 192, 196, 255, 255 |
ToneCurveBlue | 0, 0, 255, 255 |
ToneCurveGreen | 0, 0, 255, 255 |
ToneCurveName | Medium Contrast |
ToneCurveName2012 | Custom |
ToneCurvePV2012 | 0, 0, 255, 255 |
ToneCurvePV2012Blue | 0, 0, 38, 42, 145, 142, 255, 255 |
ToneCurvePV2012Green | 0, 0, 255, 255 |
ToneCurvePV2012Red | 0, 0, 255, 255 |
ToneCurveRed | 0, 0, 255, 255 |
URL_List | |
Version | 7.0 |
Vibrance | +28 |
VignetteAmount | 0 |
WhiteBalance (1) | Custom |
WhiteBalance | Auto |
Whites2012 | 0 |