Felt | Verdi |
AlreadyApplied | True |
Aperture | 1.7 |
ApertureValue | 1.7 |
AutoLateralCA | 0 |
AutoWhiteVersion | 134348800 |
BitsPerSample | 8 |
Blacks2012 | 0 |
BlueHue | 0 |
BlueSaturation | 0 |
CameraProfile | Embedded |
CircleOfConfusion | 0.030 mm |
Clarity2012 | +12 |
ColorComponents | 3 |
ColorNoiseReduction | 25 |
ColorNoiseReductionDetail | 50 |
ColorNoiseReductionSmoothness | 50 |
ColorSpace | sRGB |
ColorTemperature | 7250 |
ColorTransform | YCbCr |
Contrast | Normal |
Contrast2012 | 0 |
ConvertToGrayscale | False |
CreateDate | 2015:09:11 15:27:33 |
CreatorTool | Adobe Photoshop Lightroom 5.0 (Macintosh) |
CustomRendered | Normal |
DateCreated (1) | 2015:09:11 |
DateCreated | 2015:09:11 15:27:33 |
DateTimeOriginal | 2015:09:11 15:27:33 |
DefringeGreenAmount | 0 |
DefringeGreenHueHi | 60 |
DefringeGreenHueLo | 40 |
DefringePurpleAmount | 0 |
DefringePurpleHueHi | 70 |
DefringePurpleHueLo | 30 |
DigitalZoomRatio | 1 |
Exposure2012 | +0.10 |
ExposureCompensation | 0 |
ExposureProgram | Aperture-priority AE |
ExposureTime | 1/8000 |
Flash | Off, Did not fire |
FNumber | 1.7 |
FocalLength | 28.0 mm |
FocalLength35efl | 28.0 mm (35 mm equivalent: 28.0 mm) |
FocalLengthIn35mmFormat | 28 mm |
Format | image/jpeg |
FOV | 65.5 deg |
GrainAmount | 0 |
GreenHue | 0 |
GreenSaturation | 0 |
HasCrop | False |
HasExtendedXMP | 5D943EF43F845808688176B3ECD421AC |
HasSettings | True |
Highlights2012 | 0 |
HueAdjustmentAqua | 0 |
HueAdjustmentBlue | 0 |
HueAdjustmentGreen | 0 |
HueAdjustmentMagenta | 0 |
HueAdjustmentOrange | 0 |
HueAdjustmentPurple | 0 |
HueAdjustmentRed | 0 |
HueAdjustmentYellow | 0 |
HyperfocalDistance | 15.35 m |
ImageHeight | 1633 |
ImageSize | 2449x1633 |
ImageWidth | 2449 |
ISO | 100 |
Lens | 28.0 mm f/1.7 |
LensInfo | 28mm f/1.53125 |
LensMake | LEICA CAMERA AG |
LensManualDistortionAmount | 0 |
LensModel | 28.0 mm f/1.7 |
LensProfileEnable | 0 |
LensProfileSetup | LensDefaults |
LensSerialNumber | N/A |
LightSource | Unknown |
LightValue | 14.5 |
LuminanceAdjustmentAqua | 0 |
LuminanceAdjustmentBlue | 0 |
LuminanceAdjustmentGreen | 0 |
LuminanceAdjustmentMagenta | 0 |
LuminanceAdjustmentOrange | 0 |
LuminanceAdjustmentPurple | 0 |
LuminanceAdjustmentRed | 0 |
LuminanceAdjustmentYellow | 0 |
LuminanceSmoothing | 0 |
Make | LEICA CAMERA AG |
MaxApertureValue | 1.7 |
Megapixels | 4.0 |
MeteringMode | Multi-segment |
Model | LEICA Q (Typ 116) |
ModifyDate (1) | 2015:09:20 12:15:10+02:00 |
ModifyDate | 2015:09:20 12:15:10 |
PaintCorrectionActive | true |
PaintCorrectionAmount | 1.000000 |
PaintCorrectionBrightness | 0.000000 |
PaintCorrectionClarity2012 (11) | 0.486745 |
PaintCorrectionClarity2012 (2) | 0.784498 |
PaintCorrectionClarity2012 (4) | 1.000000 |
PaintCorrectionClarity2012 (7) | 0.000000 |
PaintCorrectionClarity2012 | 0.394136 |
PaintCorrectionContrast2012 (11) | 0.262202 |
PaintCorrectionContrast2012 | 0.000000 |
PaintCorrectionDefringe | 0.000000 |
PaintCorrectionExposure2012 | 0.000000 |
PaintCorrectionHighlights2012 (11) | 0.451018 |
PaintCorrectionHighlights2012 (4) | 0.345242 |
PaintCorrectionHighlights2012 (6) | 0.060920 |
PaintCorrectionHighlights2012 (7) | 0.321366 |
PaintCorrectionHighlights2012 (8) | 0.202159 |
PaintCorrectionHighlights2012 | 0.000000 |
PaintCorrectionHue | 0.000000 |
PaintCorrectionLuminanceNoise | 0.000000 |
PaintCorrectionMaskCenterWeight (111) | 0.016761 |
PaintCorrectionMaskCenterWeight (144) | 0.246578 |
PaintCorrectionMaskCenterWeight (16) | 0.496389 |
PaintCorrectionMaskCenterWeight (5) | 0.153289 |
PaintCorrectionMaskCenterWeight (51) | 0.462464 |
PaintCorrectionMaskCenterWeight (7) | 0.097612 |
PaintCorrectionMaskCenterWeight (91) | 0.235368 |
PaintCorrectionMaskCenterWeight | 0.000000 |
PaintCorrectionMaskFlow (15) | 0.847607 |
PaintCorrectionMaskFlow (59) | 0.609159 |
PaintCorrectionMaskFlow (63) | 0.651571 |
PaintCorrectionMaskFlow (7) | 0.624245 |
PaintCorrectionMaskFlow | 0.883389 |
PaintCorrectionMaskRadius (102) | 0.045085 |
PaintCorrectionMaskRadius (105) | 0.085159 |
PaintCorrectionMaskRadius (107) | 0.025357 |
PaintCorrectionMaskRadius (109) | 0.079458 |
PaintCorrectionMaskRadius (113) | 0.040050 |
PaintCorrectionMaskRadius (114) | 0.021854 |
PaintCorrectionMaskRadius (121) | 0.012973 |
PaintCorrectionMaskRadius (13) | 0.021729 |
PaintCorrectionMaskRadius (134) | 0.007842 |
PaintCorrectionMaskRadius (138) | 0.023993 |
PaintCorrectionMaskRadius (15) | 0.009724 |
PaintCorrectionMaskRadius (20) | 0.070508 |
PaintCorrectionMaskRadius (22) | 0.037887 |
PaintCorrectionMaskRadius (37) | 0.009649 |
PaintCorrectionMaskRadius (49) | 0.030638 |
PaintCorrectionMaskRadius (5) | 0.047361 |
PaintCorrectionMaskRadius (58) | 0.020363 |
PaintCorrectionMaskRadius (62) | 0.017097 |
PaintCorrectionMaskRadius (7) | 0.017422 |
PaintCorrectionMaskRadius (85) | 0.013936 |
PaintCorrectionMaskRadius (90) | 0.080010 |
PaintCorrectionMaskRadius (91) | 0.188985 |
PaintCorrectionMaskRadius (93) | 0.337382 |
PaintCorrectionMaskRadius (94) | 0.077009 |
PaintCorrectionMaskRadius (97) | 0.151761 |
PaintCorrectionMaskRadius (99) | 0.034046 |
PaintCorrectionMaskRadius | 0.014312 |
PaintCorrectionMaskValue (87) | 0.000000 |
PaintCorrectionMaskValue | 1.000000 |
PaintCorrectionMaskWhat | Mask/Paint |
PaintCorrectionMoire | 0.000000 |
PaintCorrectionSaturation (13) | 0.001580 |
PaintCorrectionSaturation (15) | 0.297402 |
PaintCorrectionSaturation (17) | 1.000000 |
PaintCorrectionSaturation (19) | -0.006320 |
PaintCorrectionSaturation (9) | 0.506145 |
PaintCorrectionSaturation | 0.000000 |
PaintCorrectionShadows2012 (10) | 0.476124 |
PaintCorrectionShadows2012 (2) | 0.695576 |
PaintCorrectionShadows2012 (3) | 1.000000 |
PaintCorrectionShadows2012 (6) | 0.258339 |
PaintCorrectionShadows2012 | 0.000000 |
PaintCorrectionSharpness | 0.000000 |
PaintCorrectionTemperature | 0.000000 |
PaintCorrectionTint | 0.000000 |
PaintCorrectionWhat | Correction |
ParametricDarks | 0 |
ParametricHighlights | 0 |
ParametricHighlightSplit | 75 |
ParametricLights | 0 |
ParametricMidtoneSplit | 50 |
ParametricShadows | 0 |
ParametricShadowSplit | 25 |
PerspectiveAspect | 0 |
PerspectiveHorizontal | 0 |
PerspectiveRotate | 0.0 |
PerspectiveScale | 100 |
PerspectiveUpright | 0 |
PerspectiveVertical | 0 |
PostCropVignetteAmount | 0 |
ProcessVersion | 6.7 |
ProfileDescription | sRGB IEC61966-2.1 |
RedHue | 0 |
RedSaturation | 0 |
Saturation (1) | +10 |
Saturation | Normal |
SaturationAdjustmentAqua | 0 |
SaturationAdjustmentBlue | 0 |
SaturationAdjustmentGreen | 0 |
SaturationAdjustmentMagenta | 0 |
SaturationAdjustmentOrange | 0 |
SaturationAdjustmentPurple | 0 |
SaturationAdjustmentRed | 0 |
SaturationAdjustmentYellow | 0 |
ScaleFactor35efl | 1.0 |
SceneCaptureType | Standard |
SensingMethod | One-chip color area |
SensitivityType | Standard Output Sensitivity |
SerialNumber | 4930556 |
Shadows2012 | 0 |
ShadowTint | 0 |
SharpenDetail | 25 |
SharpenEdgeMasking | 0 |
SharpenRadius | +1.0 |
Sharpness (1) | 25 |
Sharpness | Normal |
ShutterSpeed | 1/8000 |
ShutterSpeedValue | 1/8000 |
Software | Adobe Photoshop Lightroom 5.0 (Macintosh) |
SplitToningBalance | 0 |
SplitToningHighlightHue | 0 |
SplitToningHighlightSaturation | 0 |
SplitToningShadowHue | 0 |
SplitToningShadowSaturation | 0 |
Tint | +5 |
ToneCurveName2012 | Linear |
ToneCurvePV2012 | 0, 0, 255, 255 |
ToneCurvePV2012Blue | 0, 0, 255, 255 |
ToneCurvePV2012Green | 0, 0, 255, 255 |
ToneCurvePV2012Red | 0, 0, 255, 255 |
Version | 8.2 |
Vibrance | +25 |
VignetteAmount | 0 |
WhiteBalance (1) | As Shot |
WhiteBalance | Auto |
Whites2012 | 0 |