Felt | Verdi |
AlreadyApplied | True |
Aperture | 4.8 |
ApertureValue | 4.8 |
Artist | Picasa |
BitsPerSample (1) | 16 16 16 |
BitsPerSample | 8 |
Blacks2012 | -56 |
By-line | Picasa |
CircleOfConfusion | 0.008 mm |
Clarity2012 | 0 |
ColorComponents | 3 |
ColorMode | RGB |
ColorSpace | Uncalibrated |
Contrast | High |
Contrast2012 | +18 |
CreateDate | 2017:01:18 14:48:41 |
Creator | Picasa |
CreatorTool | Adobe Photoshop Lightroom 6.8 (Macintosh) |
CustomRendered | Normal |
DateCreated (1) | 2017:01:18 14:48:41 |
DateCreated | 2017:01:18 |
DateTimeOriginal | 2017:01:18 14:48:41 |
Dehaze | +100 |
DigitalZoomRatio | 0 |
ExifImageHeight | 1069 |
ExifImageWidth | 1600 |
Exposure2012 | -0.70 |
ExposureCompensation | 0 |
ExposureMode | Auto |
ExposureProgram | Aperture-priority AE |
ExposureTime | 1/1000 |
Flash | No Flash |
FNumber | 4.8 |
FocalLength | 50.0 mm |
FocalLength35efl | 50.0 mm (35 mm equivalent: 185.9 mm) |
Format | image/jpeg |
FOV | 11.1 deg |
GPSAltitude (1) | 0 m |
GPSAltitude | 0 m Above Sea Level |
GPSAltitudeRef | Above Sea Level |
GPSDOP | 0 |
GPSSpeed | 0 |
GPSStatus | Measurement Void |
GPSTrack | 0 |
GPSVersionID | 2.2.0.0 |
GrainAmount | 0 |
HasCrop | False |
HasSettings | True |
Highlights2012 | +65 |
HyperfocalDistance | 64.44 m |
ICCProfileName | ProPhoto RGB |
ImageHeight (1) | 3992 |
ImageHeight | 1069 |
ImageSize | 1600x1069 |
ImageWidth (1) | 5976 |
ImageWidth | 1600 |
ISO | 640 |
Lens | Apo-Summicron-M 1:2/50 ASPH. |
LensInfo | 50mm f/2-16 |
LensMake | Leica Camera AG |
LensManualDistortionAmount | 0 |
LensModel | Apo-Summicron-M 1:2/50 ASPH. |
LensProfileEnable | 0 |
LensProfileSetup | LensDefaults |
LensSerialNumber | ------- |
LightSource | Unknown |
LightValue | 11.8 |
LuminanceNoiseReductionContrast | 0 |
LuminanceNoiseReductionDetail | 50 |
LuminanceSmoothing | 28 |
Make | Leica Camera AG |
MaxApertureValue | 2.0 |
Megapixels | 1.7 |
MeteringMode | Multi-spot |
Model | LEICA M MONOCHROM (Typ 246) |
ModifyDate (1) | 2017:01:19 01:16:18+01:00 |
ModifyDate | 2017:01:19 01:16:18 |
ParametricDarks | -19 |
ParametricHighlights | 0 |
ParametricHighlightSplit | 75 |
ParametricLights | +23 |
ParametricMidtoneSplit | 50 |
ParametricShadows | +15 |
ParametricShadowSplit | 25 |
PerspectiveAspect | 0 |
PerspectiveHorizontal | 0 |
PerspectiveRotate | 0.0 |
PerspectiveScale | 100 |
PerspectiveUpright | 0 |
PerspectiveVertical | 0 |
PerspectiveX | 0.00 |
PerspectiveY | 0.00 |
PhotometricInterpretation | RGB |
PlanarConfiguration | Chunky |
PostCropVignetteAmount | -33 |
PostCropVignetteFeather | 50 |
PostCropVignetteMidpoint | 50 |
PostCropVignetteRoundness | 0 |
PostCropVignetteStyle | 3 |
ProcessVersion | 6.7 |
ProfileDescription | ProPhoto RGB |
RelatedImageHeight | 3992 |
RelatedImageWidth | 5976 |
SamplesPerPixel | 3 |
ScaleFactor35efl | 3.7 |
SceneCaptureType | Standard |
SceneType | Directly photographed |
SerialNumber | 4974401 |
Shadows2012 | +28 |
SharpenDetail | 25 |
SharpenEdgeMasking | 0 |
SharpenRadius | +1.0 |
Sharpness (1) | 150 |
Sharpness | Hard |
ShutterSpeed | 1/1000 |
ShutterSpeedValue | 1/1000 |
Software | Adobe Photoshop CC 2015.5 (Macintosh) |
SplitToningBalance | 0 |
SplitToningHighlightHue | 0 |
SplitToningHighlightSaturation | 0 |
SplitToningShadowHue | 0 |
SplitToningShadowSaturation | 0 |
ToneCurve | 0, 0, 255, 255 |
ToneCurveBlue | 0, 0, 255, 255 |
ToneCurveGreen | 0, 0, 255, 255 |
ToneCurveName | Linear |
ToneCurveName2012 | Linear |
ToneCurvePV2012 | 0, 0, 255, 255 |
ToneCurvePV2012Blue | 0, 0, 255, 255 |
ToneCurvePV2012Green | 0, 0, 255, 255 |
ToneCurvePV2012Red | 0, 0, 255, 255 |
ToneCurveRed | 0, 0, 255, 255 |
ToneMapStrength | 0 |
URL_List | |
Version | 9.8 |
VignetteAmount | 0 |
Whites2012 | -19 |