Felt | Verdi |
AlreadyApplied | True |
Aperture | 5.6 |
ApertureValue | 5.6 |
Artist | KYRRE SUNDAL |
AutoLateralCA | 1 |
BitsPerSample (1) | 8 8 8 |
BitsPerSample | 8 |
Blacks2012 | -12 |
BlueHue | -8 |
BlueSaturation | -11 |
BrightnessValue | 11.68 |
By-line | KYRRE SUNDAL |
CameraProfile | Adobe Standard |
CircleOfConfusion | 0.006 mm |
Clarity2012 | +20 |
ColorComponents | 3 |
ColorMode | RGB |
ColorNoiseReduction | 0 |
ColorSpace | sRGB |
ColorTemperature | 5150 |
ColorTransform | YCbCr |
Contrast2012 | -100 |
ConvertToGrayscale | False |
CreateDate | 2019:03:16 17:10:40 |
Creator | KYRRE SUNDAL |
CreatorTool | Adobe Lightroom CC 2.0.2 (Macintosh) |
CropAngle | 0 |
CropBottom | 0.859674 |
CropConstrainToWarp | 0 |
CropLeft | 0.244377 |
CropRight | 0.771026 |
CropTop | 0.0697 |
CustomRendered | Normal |
DateCreated (1) | 2019:03:16 |
DateCreated | 2019:03:16 17:10:40 |
DateTimeOriginal | 2019:03:16 17:10:40 |
DefringeGreenAmount | 0 |
DefringeGreenHueHi | 60 |
DefringeGreenHueLo | 40 |
DefringePurpleAmount | 0 |
DefringePurpleHueHi | 70 |
DefringePurpleHueLo | 30 |
Dehaze | -19 |
ExifImageHeight | 1600 |
ExifImageWidth | 1600 |
Exposure2012 | +0.58 |
ExposureCompensation | 0 |
ExposureMode | Auto |
ExposureProgram | Aperture-priority AE |
ExposureTime | 1/480 |
Flash | No Flash |
FNumber | 5.6 |
FocalLength | 23.0 mm |
FocalLength35efl | 23.0 mm (35 mm equivalent: 112.3 mm) |
Format | image/jpeg |
FOV | 18.2 deg |
Good | True |
GradientBasedCorrActive | true |
GradientBasedCorrAmount | 1.000000 |
GradientBasedCorrBrightness | 0.000000 |
GradientBasedCorrClarity2012 | 0.111624 |
GradientBasedCorrContrast2012 | 0.000000 |
GradientBasedCorrCorrectionRangeMaskColorAmount | 0.500000 |
GradientBasedCorrCorrectionRangeMaskDepthFeather | 0.500000 |
GradientBasedCorrCorrectionRangeMaskDepthMax | 1.000000 |
GradientBasedCorrCorrectionRangeMaskDepthMin | 0.000000 |
GradientBasedCorrCorrectionRangeMaskLumFeather | 0.500000 |
GradientBasedCorrCorrectionRangeMaskLumMax | 1.000000 |
GradientBasedCorrCorrectionRangeMaskLumMin | 0.000000 |
GradientBasedCorrCorrectionRangeMaskType | 0 |
GradientBasedCorrCorrectionRangeMaskVersion | +2 |
GradientBasedCorrDefringe | 0.000000 |
GradientBasedCorrExposure2012 | 0.200000 |
GradientBasedCorrHighlights2012 | 0.000000 |
GradientBasedCorrHue | 151.000000 |
GradientBasedCorrLocalBlacks2012 | 0.000000 |
GradientBasedCorrLocalDehaze | 0.169705 |
GradientBasedCorrLocalWhites2012 | 0.000000 |
GradientBasedCorrLuminanceNoise | 0.000000 |
GradientBasedCorrMaskFullX | 0.546806 |
GradientBasedCorrMaskFullY | -0.266759 |
GradientBasedCorrMaskValue | 1.000000 |
GradientBasedCorrMaskWhat | Mask/Gradient |
GradientBasedCorrMaskZeroX | 0.546806 |
GradientBasedCorrMaskZeroY | 0.280489 |
GradientBasedCorrMoire | -1.000000 |
GradientBasedCorrSaturation (1) | -0.727075 |
GradientBasedCorrSaturation | 0.000000 |
GradientBasedCorrShadows2012 | 0.000000 |
GradientBasedCorrSharpness | 0.000000 |
GradientBasedCorrTemperature | 0.000000 |
GradientBasedCorrTint | 0.000000 |
GradientBasedCorrWhat | Correction |
GrainAmount | 0 |
GreenHue | +50 |
GreenSaturation | -12 |
HasCrop | True |
HasSettings | True |
Highlights2012 | +16 |
HueAdjustmentAqua | +5 |
HueAdjustmentBlue | -4 |
HueAdjustmentGreen | +15 |
HueAdjustmentMagenta | +25 |
HueAdjustmentOrange | +12 |
HueAdjustmentPurple | +10 |
HueAdjustmentRed | +8 |
HueAdjustmentYellow | +10 |
HyperfocalDistance | 15.35 m |
ICCProfileName | sRGB IEC61966-2.1 |
ImageHeight (1) | 3160 |
ImageHeight | 1600 |
ImageSize | 1600x1600 |
ImageWidth (1) | 3160 |
ImageWidth | 1600 |
ISO | 200 |
LateralChromaticAberrationCorrectionAlreadyApplied | True |
LensManualDistortionAmount | 0 |
LensProfileEnable | 0 |
LensProfileSetup | LensDefaults |
LightSource | Unknown |
LightValue | 12.9 |
LookName | |
LuminanceAdjustmentAqua | +28 |
LuminanceAdjustmentBlue | +79 |
LuminanceAdjustmentGreen | 0 |
LuminanceAdjustmentMagenta | 0 |
LuminanceAdjustmentOrange | -8 |
LuminanceAdjustmentPurple | 0 |
LuminanceAdjustmentRed | -20 |
LuminanceAdjustmentYellow | -3 |
LuminanceNoiseReductionContrast | 0 |
LuminanceNoiseReductionDetail | 40 |
LuminanceSmoothing | 10 |
Make | FUJIFILM |
MaxApertureValue | 2.0 |
Megapixels | 2.6 |
MeteringMode | Multi-segment |
Model | X100F |
ModifyDate (1) | 2019:03:20 21:36:22+01:00 |
ModifyDate | 2019:03:20 21:36:22 |
Orientation | Horizontal (normal) |
OverrideLookVignette | False |
ParametricDarks | +37 |
ParametricHighlights | -8 |
ParametricHighlightSplit | 75 |
ParametricLights | -11 |
ParametricMidtoneSplit | 48 |
ParametricShadows | -16 |
ParametricShadowSplit | 20 |
PerspectiveAspect | 0 |
PerspectiveHorizontal | 0 |
PerspectiveRotate | 0.0 |
PerspectiveScale | 100 |
PerspectiveUpright | 5 |
PerspectiveVertical | 0 |
PerspectiveX | 0.00 |
PerspectiveY | 0.00 |
PhotometricInterpretation | RGB |
PostCropVignetteAmount | 0 |
ProcessVersion | 11.0 |
ProfileDescription | sRGB IEC61966-2.1 |
RawFileName | DSCF3793.RAF |
RedHue | +30 |
RedSaturation | -12 |
SamplesPerPixel | 3 |
Saturation | -15 |
SaturationAdjustmentAqua | -41 |
SaturationAdjustmentBlue | -49 |
SaturationAdjustmentGreen | -20 |
SaturationAdjustmentMagenta | -20 |
SaturationAdjustmentOrange | 0 |
SaturationAdjustmentPurple | 0 |
SaturationAdjustmentRed | -42 |
SaturationAdjustmentYellow | -6 |
ScaleFactor35efl | 4.9 |
SceneCaptureType | Standard |
SceneType | Directly photographed |
SensingMethod | One-chip color area |
SensitivityType | Standard Output Sensitivity |
SerialNumber | 74M03107 |
Shadows2012 | +100 |
ShadowTint | 0 |
SharpenDetail | 25 |
SharpenEdgeMasking | 0 |
SharpenRadius | +1.0 |
Sharpness (1) | 40 |
Sharpness | Normal |
ShutterSpeed | 1/480 |
ShutterSpeedValue | 1/480 |
Software | Adobe Photoshop CC 2018 (Macintosh) |
SplitToningBalance | 0 |
SplitToningHighlightHue | 0 |
SplitToningHighlightSaturation | 0 |
SplitToningShadowHue | 0 |
SplitToningShadowSaturation | 0 |
SubjectDistanceRange | Unknown |
Tint | +11 |
ToneCurve | 0, 0, 255, 255 |
ToneCurveBlue | 0, 0, 255, 255 |
ToneCurveGreen | 0, 0, 255, 255 |
ToneCurveName | Linear |
ToneCurveName2012 | Custom |
ToneCurvePV2012 | 0, 13, 49, 59, 106, 121, 192, 198, 255, 255 |
ToneCurvePV2012Blue | 0, 0, 45, 21, 88, 78, 126, 139, 172, 193, 206, 220, 255, 255 |
ToneCurvePV2012Green | 0, 0, 52, 27, 89, 77, 129, 139, 179, 200, 208, 223, 255, 255 |
ToneCurvePV2012Red | 0, 0, 51, 22, 87, 71, 123, 128, 210, 223, 255, 255 |
ToneCurveRed | 0, 0, 255, 255 |
ToneMapStrength | 0 |
URL_List | |
Version | 11.0 |
Vibrance | +16 |
VignetteAmount | 0 |
VignetteCorrectionAlreadyApplied | True |
WhiteBalance (1) | Custom |
WhiteBalance | Auto |
Whites2012 | +41 |