Felt | Verdi |
AlreadyApplied | True |
Aperture | 8.0 |
ApertureValue | 8.0 |
Artist | Vidar Lennart Fredhim |
AutoLateralCA | 0 |
BitsPerSample | 8 |
Blacks2012 | 0 |
BlueHue | 0 |
BlueSaturation | 0 |
By-line | Vidar Lennart Fredhim |
CameraProfile | Adobe Standard |
CameraProfilesApertureValue | 6 |
CameraProfilesAuthor | Adobe |
CameraProfilesAutoScale | False |
CameraProfilesCameraPrettyName | Nikon Z 6 2 |
CameraProfilesCameraRawProfile | True |
CameraProfilesFocalLength | 105 |
CameraProfilesFocusDistance | 10000 |
CameraProfilesLens | VR 105mm f/2.8G |
CameraProfilesLensPrettyName | VR 105mm f/2.8G |
CameraProfilesMake | NIKON CORPORATION |
CameraProfilesModel | NIKON Z 6_2 |
CameraProfilesPerspectiveModelRadialDistortParam1 | -0.116354 |
CameraProfilesPerspectiveModelRadialDistortParam2 | 0.320441 |
CameraProfilesPerspectiveModelRadialDistortParam3 | 2.000966 |
CameraProfilesPerspectiveModelScaleFactor | 0.996528 |
CameraProfilesPerspectiveModelVersion | 2 |
CameraProfilesPerspectiveModelVignetteModelVignetteModelParam1 | 1 |
CameraProfilesProfileName | Camera Settings |
CameraProfilesSensorFormatFactor | 1.002437 |
CameraProfilesUniqueCameraModel | Nikon Z 6 2 |
CFAPattern | [Red,Green][Green,Blue] |
CircleOfConfusion | 0.030 mm |
City | Bjørnevatn |
Clarity2012 | +19 |
ColorComponents | 3 |
ColorGradeBlending | 50 |
ColorGradeGlobalHue | 0 |
ColorGradeGlobalLum | 0 |
ColorGradeGlobalSat | 0 |
ColorGradeHighlightLum | 0 |
ColorGradeMidtoneHue | 0 |
ColorGradeMidtoneLum | 0 |
ColorGradeMidtoneSat | 0 |
ColorGradeShadowLum | 0 |
ColorNoiseReduction | 25 |
ColorNoiseReductionDetail | 50 |
ColorNoiseReductionSmoothness | 50 |
ColorSpace | sRGB |
ColorTemperature | 5200 |
ColorTransform | YCbCr |
Contrast | Normal |
Contrast2012 | +53 |
Copyright | Vidar Lennart Fredheim |
CopyrightNotice | Vidar Lennart Fredheim |
Country | Norway |
Country-PrimaryLocationCode | NO |
Country-PrimaryLocationName | Norway |
CountryCode | NO |
CreateDate (1) | 2024:06:28 12:55:15.25+02:00 |
CreateDate | 2024:06:28 12:55:15 |
Creator | Vidar Lennart Fredhim |
CreatorTool | Adobe Photoshop Lightroom Classic 13.4 (Windows) |
CropAngle | 0 |
CropBottom | 1 |
CropConstrainToWarp | 0 |
CropLeft | 0.149999 |
CropRight | 0.925808 |
CropTop | 0.12548 |
CustomRendered | Custom |
DateCreated (1) | 2024:06:28 |
DateCreated | 2024:06:28 12:55:15.25+02:00 |
DateTimeOriginal | 2024:06:28 12:55:15 |
DefringeGreenAmount | 0 |
DefringeGreenHueHi | 60 |
DefringeGreenHueLo | 40 |
DefringePurpleAmount | 0 |
DefringePurpleHueHi | 70 |
DefringePurpleHueLo | 30 |
Dehaze | 0 |
DistortionCorrectionAlreadyApplied | True |
Exposure2012 | 0.00 |
ExposureCompensation | 0 |
ExposureMode | Manual |
ExposureProgram | Manual |
ExposureTime | 1/250 |
Flash | No Flash |
FNumber | 8.0 |
FocalLength | 105.0 mm |
FocalLength35efl | 105.0 mm (35 mm equivalent: 105.0 mm) |
FocalLengthIn35mmFormat | 105 mm |
Format | image/jpeg |
FOV | 19.5 deg |
GainControl | None |
GPSLatitude (1) | 69 deg 39' 27.41" |
GPSLatitude | 69 deg 39' 27.41" N |
GPSLatitudeRef | North |
GPSLongitude (1) | 29 deg 52' 57.86" |
GPSLongitude | 29 deg 52' 57.86" E |
GPSLongitudeRef | East |
GPSPosition | 69 deg 39' 27.41" N, 29 deg 52' 57.86" E |
GPSVersionID | 2.2.0.0 |
GrainAmount | 0 |
GreenHue | 0 |
GreenSaturation | 0 |
HasCrop | True |
HasSettings | True |
HDREditMode | 0 |
Highlights2012 | 0 |
HueAdjustmentAqua | 0 |
HueAdjustmentBlue | 0 |
HueAdjustmentGreen | 0 |
HueAdjustmentMagenta | 0 |
HueAdjustmentOrange | 0 |
HueAdjustmentPurple | 0 |
HueAdjustmentRed | 0 |
HueAdjustmentYellow | 0 |
HyperfocalDistance | 45.87 m |
ImageHeight | 3519 |
ImageNumber | 10593 |
ImageSize | 4692x3519 |
ImageWidth | 4692 |
ISO | 160 |
Keywords | 2024, Sandnesdalen, Skogstjerne, Sør-Varanger, blomst, juni |
LateralChromaticAberrationCorrectionAlreadyApplied | True |
Lens | VR 105mm f/2.8G |
LensInfo | 105mm f/2.8 |
LensManualDistortionAmount | 0 |
LensModel | VR 105mm f/2.8G |
LensProfileDistortionScale | 100 |
LensProfileEnable | 1 |
LensProfileIsEmbedded | True |
LensProfileName | Camera Settings |
LensProfileSetup | LensDefaults |
LensProfileVignettingScale | 100 |
LightSource | Unknown |
LightValue | 13.3 |
LookAmount | 1 |
LookGroup | Profiles |
LookName | Adobe Color |
LookParametersCameraProfile | Adobe Standard |
LookParametersConvertToGrayscale | False |
LookParametersLookTable | E1095149FDB39D7A057BAB208837E2E1 |
LookParametersProcessVersion | 15.4 |
LookParametersToneCurvePV2012 | 0, 0, 22, 16, 40, 35, 127, 127, 224, 230, 240, 246, 255, 255 |
LookParametersToneCurvePV2012Blue | 0, 0, 255, 255 |
LookParametersToneCurvePV2012Green | 0, 0, 255, 255 |
LookParametersToneCurvePV2012Red | 0, 0, 255, 255 |
LookParametersVersion | 16.4 |
LookSupportsAmount | false |
LookSupportsMonochrome | false |
LookSupportsOutputReferred | false |
LuminanceAdjustmentAqua | 0 |
LuminanceAdjustmentBlue | 0 |
LuminanceAdjustmentGreen | -27 |
LuminanceAdjustmentMagenta | 0 |
LuminanceAdjustmentOrange | 0 |
LuminanceAdjustmentPurple | 0 |
LuminanceAdjustmentRed | 0 |
LuminanceAdjustmentYellow | 0 |
LuminanceSmoothing | 0 |
Make | NIKON CORPORATION |
Megapixels | 16.5 |
MeteringMode | Spot |
Model | NIKON Z 6_2 |
ModifyDate (1) | 2024:06:30 20:45:50+02:00 |
ModifyDate | 2024:06:30 20:45:50 |
OverrideLookVignette | False |
ParametricDarks | 0 |
ParametricHighlights | 0 |
ParametricHighlightSplit | 75 |
ParametricLights | 0 |
ParametricMidtoneSplit | 50 |
ParametricShadows | 0 |
ParametricShadowSplit | 25 |
PerspectiveAspect | 0 |
PerspectiveHorizontal | 0 |
PerspectiveRotate | 0.0 |
PerspectiveScale | 100 |
PerspectiveUpright | 0 |
PerspectiveVertical | 0 |
PerspectiveX | 0.00 |
PerspectiveY | 0.00 |
Pick | 0 |
PointColors | -1.000000, -1.000000, -1.000000, -1.000000, -1.000000, -1.000000, -1.000000, -1.000000, -1.000000, -1.000000, -1.000000, -1.000000, -1.000000, -1.000000, -1.000000, -1.000000, -1.000000, -1.000000, -1.000000 |
PostCropVignetteAmount | 0 |
PreservedFileName | _DSC4740.NEF |
ProcessVersion | 15.4 |
ProfileDescription | sRGB IEC61966-2.1 |
Province-State | Finnmark |
Rating | 1 |
RawFileName | 20240628-_DSC4740.NEF |
RecommendedExposureIndex | 160 |
RedHue | 0 |
RedSaturation | 0 |
Rights | Vidar Lennart Fredheim |
Saturation (1) | 0 |
Saturation | Normal |
SaturationAdjustmentAqua | 0 |
SaturationAdjustmentBlue | 0 |
SaturationAdjustmentGreen | +47 |
SaturationAdjustmentMagenta | 0 |
SaturationAdjustmentOrange | 0 |
SaturationAdjustmentPurple | 0 |
SaturationAdjustmentRed | 0 |
SaturationAdjustmentYellow | 0 |
ScaleFactor35efl | 1.0 |
SceneCaptureType | Standard |
SceneType | Directly photographed |
SensingMethod | One-chip color area |
SensitivityType | Recommended Exposure Index |
SerialNumber | 6001609 |
Shadows2012 | 0 |
ShadowTint | 0 |
SharpenDetail | 64 |
SharpenEdgeMasking | 67 |
SharpenRadius | +1.0 |
Sharpness (1) | 67 |
Sharpness | Normal |
ShutterSpeed | 1/250 |
ShutterSpeedValue | 1/250 |
Software | Adobe Photoshop Lightroom Classic 13.4 (Windows) |
SplitToningBalance | 0 |
SplitToningHighlightHue | 0 |
SplitToningHighlightSaturation | 0 |
SplitToningShadowHue | 0 |
SplitToningShadowSaturation | 0 |
State | Finnmark |
Subject | 2024, Sandnesdalen, Skogstjerne, Sør-Varanger, blomst, juni |
SubjectDistanceRange | Unknown |
Texture | +39 |
Tint | +19 |
ToneCurveName2012 | Linear |
ToneCurvePV2012 | 0, 0, 255, 255 |
ToneCurvePV2012Blue | 0, 0, 255, 255 |
ToneCurvePV2012Green | 0, 0, 255, 255 |
ToneCurvePV2012Red | 0, 0, 255, 255 |
Version | 16.4 |
Vibrance | 0 |
VignetteAmount | 0 |
VignetteCorrectionAlreadyApplied | True |
WeightedFlatSubject | 2024, juni, Sør-Varanger, Sandnesdalen, blomst, Skogstjerne |
WhiteBalance (1) | As Shot |
WhiteBalance | Auto |
Whites2012 | 0 |