Felt | Verdi |
AlreadyApplied | True |
Aperture | 6.3 |
ApertureValue | 6.3 |
BitsPerSample | 8 |
BlueHue | 0 |
BlueSaturation | 0 |
Brightness | +62 |
CameraProfile | ACR 3.1 |
CFAPattern | [Red,Green][Green,Blue] |
ChromaticAberrationB | 0 |
ChromaticAberrationR | 0 |
CircleOfConfusion | 0.020 mm |
Clarity | 100 |
ColorComponents | 3 |
ColorMode | RGB |
ColorNoiseReduction | 25 |
ColorSpace (1) | Unknown (-1) |
ColorSpace | Uncalibrated |
ColorTemperature | 5400 |
Contrast (2) | +49 |
Contrast | Normal |
ConvertToGrayscale | False |
CopyrightFlag | False |
CreateDate (1) | 2007:09:24 15:40:27+02:00 |
CreateDate | 2007:07:06 13:12:29 |
CreatorTool | Adobe Photoshop CS3 Windows |
CustomRendered | Normal |
DateTimeDigitized | 2007:07:06 13:12:29+02:00 |
DateTimeOriginal (1) | 2007:07:06 13:12:29+02:00 |
DateTimeOriginal | 2007:07:06 13:12:29 |
Defringe | 0 |
ExifImageHeight | 768 |
ExifImageWidth | 554 |
Exposure | +0.65 |
ExposureCompensation | 0 |
ExposureMode | Auto |
ExposureProgram | Shutter speed priority AE |
ExposureTime | 1/1000 |
FillLight | 2 |
Flash | Off, Did not fire |
FlashFired | False |
FlashFunction | False |
FlashMode | Off |
FlashRedEyeMode | False |
FlashReturn | No return detection |
FNumber | 6.3 |
FocalLength | 55.0 mm |
FocalLength35efl | 55.0 mm (35 mm equivalent: 82.0 mm) |
FocalLengthIn35mmFormat | 82 mm |
Format | image/jpeg |
FOV | 24.8 deg |
GreenHue | -12 |
GreenSaturation | -27 |
HasCrop | False |
HasSettings | True |
HighlightRecovery | 44 |
HueAdjustmentAqua | 0 |
HueAdjustmentBlue | +31 |
HueAdjustmentGreen | +66 |
HueAdjustmentMagenta | +23 |
HueAdjustmentOrange | -52 |
HueAdjustmentPurple | +17 |
HueAdjustmentRed | +91 |
HueAdjustmentYellow | +1 |
HyperfocalDistance | 23.83 m |
ICCProfileName | Adobe RGB (1998) |
ImageHeight | 768 |
ImageSize | 554x768 |
ImageWidth | 554 |
ISO | 400 |
Lens | smc PENTAX-DA 18-55mm F3.5-5.6 AL |
LensID (1) | 4 252 |
LensID | smc PENTAX-DA 18-55mm F3.5-5.6 AL |
LensInfo | 18-55mm f/3.5-5.6 |
LightValue | 13.3 |
LuminanceAdjustmentAqua | 0 |
LuminanceAdjustmentBlue | 0 |
LuminanceAdjustmentGreen | 0 |
LuminanceAdjustmentMagenta | 0 |
LuminanceAdjustmentOrange | 0 |
LuminanceAdjustmentPurple | 0 |
LuminanceAdjustmentRed | 0 |
LuminanceAdjustmentYellow | 0 |
LuminanceSmoothing | 0 |
Make | PENTAX Corporation |
Megapixels | 0.425 |
MeteringMode | Multi-segment |
Model | PENTAX *ist DS |
ModifyDate (1) | 2007:09:24 15:40:27+02:00 |
ModifyDate | 2007:09:24 15:40:27 |
Orientation | Horizontal (normal) |
ParametricDarks | 0 |
ParametricHighlights | 0 |
ParametricHighlightSplit | 75 |
ParametricLights | 0 |
ParametricMidtoneSplit | 50 |
ParametricShadows | 0 |
ParametricShadowSplit | 25 |
ProfileDescription | Adobe RGB (1998) |
Rating | 0 |
RawFileName | IMGP0881.PEF |
RedHue | -5 |
RedSaturation | 0 |
Saturation (2) | 0 |
Saturation | Normal |
SaturationAdjustmentAqua | 0 |
SaturationAdjustmentBlue | 0 |
SaturationAdjustmentGreen | 0 |
SaturationAdjustmentMagenta | 0 |
SaturationAdjustmentOrange | 0 |
SaturationAdjustmentPurple | 0 |
SaturationAdjustmentRed | 0 |
SaturationAdjustmentYellow | 0 |
ScaleFactor35efl | 1.5 |
SceneCaptureType | Standard |
SceneType | Directly photographed |
SensingMethod | One-chip color area |
Shadows | 5 |
ShadowTint | -19 |
SharpenDetail | 25 |
SharpenEdgeMasking | 0 |
SharpenRadius | +1.0 |
Sharpness (2) | 25 |
Sharpness | Normal |
ShutterSpeed | 1/1000 |
ShutterSpeedValue | 1/1000 |
SidecarForExtension | PEF |
Software | Adobe Photoshop CS3 Windows |
SplitToningBalance | -2 |
SplitToningHighlightHue | 164 |
SplitToningHighlightSaturation | 2 |
SplitToningShadowHue | 182 |
SplitToningShadowSaturation | 0 |
SubjectDistanceRange | Distant |
Tint | +15 |
ToneCurve | 0, 0, 32, 22, 64, 56, 128, 128, 192, 196, 255, 255 |
ToneCurveName | Medium Contrast |
URL_List | |
Version | 4.2 |
Vibrance | 0 |
VignetteAmount | 0 |
WhiteBalance (2) | As Shot |
WhiteBalance | Auto |