Felt | Verdi |
AlreadyApplied | True |
Aperture | 5.6 |
ApertureValue | 5.6 |
BitsPerSample | 8 |
BlueHue | +11 |
BlueSaturation | -70 |
Brightness | 0 |
CameraProfile | ACR 2.4 |
CFAPattern | [Blue,Green][Green,Red] |
ChromaticAberrationB | 0 |
ChromaticAberrationR | 0 |
CircleOfConfusion | 0.020 mm |
Clarity | 0 |
ColorComponents | 3 |
ColorMode | RGB |
ColorNoiseReduction | 25 |
ColorSpace | sRGB |
Contrast (2) | +25 |
Contrast | High |
ConvertToGrayscale | False |
CopyrightFlag | False |
CreateDate (1) | 2008:10:29 12:09:11+01:00 |
CreateDate | 2008:10:27 18:37:18 |
CreatorTool | Adobe Photoshop CS3 Windows |
CustomRendered | Normal |
DateTimeDigitized | 2008:10:27 18:37:18+01:00 |
DateTimeOriginal (1) | 2008:10:27 18:37:18+01:00 |
DateTimeOriginal | 2008:10:27 18:37:18 |
Defringe | 0 |
ExifImageHeight | 532 |
ExifImageWidth | 800 |
Exposure | +0.38 |
ExposureCompensation | -1/2 |
ExposureMode | Manual |
ExposureProgram | Manual |
ExposureTime | 1/125 |
FillLight | 0 |
Flash | On, Did not fire |
FlashFired | False |
FlashFunction | False |
FlashMode | On |
FlashRedEyeMode | False |
FlashReturn | No return detection |
FNumber | 5.6 |
FocalLength | 58.0 mm |
FocalLength35efl | 58.0 mm (35 mm equivalent: 87.0 mm) |
FocalLengthIn35mmFormat | 87 mm |
Format | image/jpeg |
FOV | 23.4 deg |
GreenHue | 0 |
GreenSaturation | +25 |
HasCrop | False |
HasSettings | True |
HierarchicalSubject | E3, Olympus, ab1600, akam, bli, bryllup, bryllupsfotograf, choco boco, fashion, fotofashion, fotograf, høst, konfirmasjon, lundamo, makeup, model, modell, mote, oktober, stil, style, tanta til beate, tfp, trondheim |
HighlightRecovery | 0 |
HueAdjustmentAqua | 0 |
HueAdjustmentBlue | 0 |
HueAdjustmentGreen | 0 |
HueAdjustmentMagenta | 0 |
HueAdjustmentOrange | 0 |
HueAdjustmentPurple | 0 |
HueAdjustmentRed | 0 |
HueAdjustmentYellow | 0 |
HyperfocalDistance | 29.99 m |
ICCProfileName | sRGB IEC61966-2.1 |
ImageHeight (1) | 3104 |
ImageHeight | 532 |
ImageSize | 800x532 |
ImageWidth (1) | 4672 |
ImageWidth | 800 |
IncrementalTemperature | +10 |
IncrementalTint | 0 |
ISO | 200 |
Keywords | E3, Olympus, ab1600, akam, bli, bryllup, bryllupsfotograf, choco boco, fashion, fotofashion, fotograf, høst, konfirmasjon, lundamo, makeup, model, modell, mote, oktober, stil, style, tanta til beate, tfp, trondheim |
Lens | smc PENTAX-DA* 50-135mm F2.8 ED [IF] SDM |
LensID (1) | 8 241 |
LensID | smc PENTAX-DA* 50-135mm F2.8 ED [IF] SDM |
LensInfo | 50-135mm f/2.8 |
LightValue | 10.9 |
LuminanceAdjustmentAqua | 0 |
LuminanceAdjustmentBlue | 0 |
LuminanceAdjustmentGreen | 0 |
LuminanceAdjustmentMagenta | 0 |
LuminanceAdjustmentOrange | 0 |
LuminanceAdjustmentPurple | 0 |
LuminanceAdjustmentRed | 0 |
LuminanceAdjustmentYellow | 0 |
LuminanceSmoothing | 0 |
Make | PENTAX |
Megapixels | 0.426 |
MeteringMode | Multi-segment |
Model | PENTAX K20D |
ModifyDate (1) | 2008:10:29 12:09:11+01:00 |
ModifyDate | 2008:10:29 12:09:11 |
Orientation | Horizontal (normal) |
ParametricDarks | -3 |
ParametricHighlights | 0 |
ParametricHighlightSplit | 75 |
ParametricLights | 0 |
ParametricMidtoneSplit | 50 |
ParametricShadows | -14 |
ParametricShadowSplit | 25 |
ProfileDescription | sRGB IEC61966-2.1 |
RedHue | +96 |
RedSaturation | +3 |
Saturation (2) | -67 |
Saturation | Normal |
SaturationAdjustmentAqua | 0 |
SaturationAdjustmentBlue | 0 |
SaturationAdjustmentGreen | 0 |
SaturationAdjustmentMagenta | 0 |
SaturationAdjustmentOrange | 0 |
SaturationAdjustmentPurple | 0 |
SaturationAdjustmentRed | 0 |
SaturationAdjustmentYellow | 0 |
ScaleFactor35efl | 1.5 |
SceneCaptureType | Standard |
SensingMethod | One-chip color area |
Shadows | 0 |
ShadowTint | +8 |
SharpenDetail | 25 |
SharpenEdgeMasking | 0 |
SharpenRadius | +1.0 |
Sharpness (2) | 25 |
Sharpness | Hard |
ShutterSpeed | 1/125 |
ShutterSpeedValue | 1/125 |
Software | Adobe Photoshop CS3 Windows |
SplitToningBalance | 0 |
SplitToningHighlightHue | 0 |
SplitToningHighlightSaturation | 0 |
SplitToningShadowHue | 0 |
SplitToningShadowSaturation | 0 |
Subject | E3, Olympus, ab1600, akam, bli, bryllup, bryllupsfotograf, choco boco, fashion, fotofashion, fotograf, høst, konfirmasjon, lundamo, makeup, model, modell, mote, oktober, stil, style, tanta til beate, tfp, trondheim |
SubjectDistanceRange | Close |
ToneCurve | 0, 0, 255, 255 |
ToneCurveName | Linear |
URL_List | |
Version | 4.4.1 |
Vibrance | 0 |
VignetteAmount | 0 |
WhiteBalance (2) | Custom |
WhiteBalance | Auto |