Felt | Verdi |
AlreadyApplied | True |
Aperture | 5.0 |
ApertureValue | 5.0 |
BitsPerSample | 8 |
BlueHue | 0 |
BlueSaturation | 0 |
Brightness | +50 |
CameraProfile | Adobe Standard |
ChromaticAberrationB | 0 |
ChromaticAberrationR | 0 |
CircleOfConfusion | 0.023 mm |
Clarity | +29 |
ColorComponents | 3 |
ColorNoiseReduction | 25 |
ColorTemperature | 5214 |
Contrast | +25 |
ConvertToGrayscale | False |
CreateDate (1) | 2009:03:21 08:49:00.30+01:00 |
CreateDate | 2009:03:21 08:49:00 |
CreatorTool | Adobe Photoshop Lightroom |
CropAngle | 0 |
CropBottom | 0.885714 |
CropHeight | 838 |
CropLeft | 0.123167 |
CropRight | 0.844575 |
CropTop | 0 |
CropUnit | pixels |
CropWidth | 1024 |
CustomRendered | Normal |
DateTimeDigitized | 2009:03:21 08:49:00.30+01:00 |
DateTimeOriginal (1) | 2009:03:21 08:49:00.30+01:00 |
DateTimeOriginal | 2009:03:21 08:49:00 |
Defringe | 0 |
ExifImageHeight | 838 |
ExifImageWidth | 1024 |
Exposure | 0.00 |
ExposureCompensation | -2/3 |
ExposureMode | Auto |
ExposureProgram | Aperture-priority AE |
ExposureTime | 1/1000 |
FillLight | 0 |
Firmware | 1.2.3 |
Flash | No Flash |
FlashCompensation | 0 |
FlashFired | False |
FlashFunction | False |
FlashMode | Unknown |
FlashRedEyeMode | False |
FlashReturn | No return detection |
FNumber | 5.0 |
FocalLength | 500.0 mm |
FocalLength35efl | 500.0 mm (35 mm equivalent: 640.7 mm) |
FOV | 3.2 deg |
GreenHue | 0 |
GreenSaturation | 0 |
HasCrop | True |
HasSettings | True |
HighlightRecovery | 10 |
HueAdjustmentAqua | 0 |
HueAdjustmentBlue | 0 |
HueAdjustmentGreen | 0 |
HueAdjustmentMagenta | 0 |
HueAdjustmentOrange | 0 |
HueAdjustmentPurple | 0 |
HueAdjustmentRed | 0 |
HueAdjustmentYellow | 0 |
HyperfocalDistance | 2132.37 m |
ImageHeight | 838 |
ImageNumber | 0 |
ImageSize | 1024x838 |
ImageWidth | 1024 |
ISO | 500 |
Keywords | Västbacken, bohuslän, fågel, större hackspett |
Lens | EF500mm f/4L IS USM |
LensInfo | 500mm f/? |
LightValue | 12.3 |
LuminanceAdjustmentAqua | 0 |
LuminanceAdjustmentBlue | 0 |
LuminanceAdjustmentGreen | 0 |
LuminanceAdjustmentMagenta | 0 |
LuminanceAdjustmentOrange | 0 |
LuminanceAdjustmentPurple | 0 |
LuminanceAdjustmentRed | 0 |
LuminanceAdjustmentYellow | 0 |
LuminanceSmoothing | 35 |
Make | Canon |
MaxApertureValue | 4.0 |
Megapixels | 0.858 |
MeteringMode | Multi-segment |
Model | Canon EOS-1D Mark III |
ModifyDate (1) | 2009:03:21 21:31:58+01:00 |
ModifyDate | 2009:03:21 21:31:58 |
PaintCorrectionActive | true |
PaintCorrectionAmount | 1.000000 |
PaintCorrectionBrightness | 0.425000 |
PaintCorrectionClarity | 0.000000 |
PaintCorrectionContrast | 0.675000 |
PaintCorrectionExposure (1) | -0.400000 |
PaintCorrectionExposure (2) | -0.300000 |
PaintCorrectionExposure | 0.125000 |
PaintCorrectionHue | 230.000000 |
PaintCorrectionMaskCenterWeight | 0.131575 |
PaintCorrectionMaskFlow | 0.629000 |
PaintCorrectionMaskRadius (1) | 0.036031 |
PaintCorrectionMaskRadius | 0.029713 |
PaintCorrectionMaskValue | 0.500000 |
PaintCorrectionMaskWhat | Mask/Paint |
PaintCorrectionSaturation (5) | 0.450000 |
PaintCorrectionSaturation | 0.000000 |
PaintCorrectionSharpness | 0.000000 |
PaintCorrectionWhat | Correction |
ParametricDarks | -3 |
ParametricHighlights | +33 |
ParametricHighlightSplit | 75 |
ParametricLights | 0 |
ParametricMidtoneSplit | 50 |
ParametricShadows | 0 |
ParametricShadowSplit | 25 |
PostCropVignetteAmount | 0 |
ProfileDescription | sRGB IEC61966-2.1 |
RedHue | 0 |
RedSaturation | 0 |
Saturation | 0 |
SaturationAdjustmentAqua | 0 |
SaturationAdjustmentBlue | 0 |
SaturationAdjustmentGreen | 0 |
SaturationAdjustmentMagenta | 0 |
SaturationAdjustmentOrange | +4 |
SaturationAdjustmentPurple | 0 |
SaturationAdjustmentRed | +8 |
SaturationAdjustmentYellow | 0 |
ScaleFactor35efl | 1.3 |
SceneCaptureType | Standard |
SerialNumber | 545186 |
Shadows | 5 |
ShadowTint | 0 |
SharpenDetail | 51 |
SharpenEdgeMasking | 51 |
SharpenRadius | +0.8 |
Sharpness | 70 |
ShutterSpeed | 1/1000 |
ShutterSpeedValue | 1/1000 |
SplitToningBalance | 0 |
SplitToningHighlightHue | 0 |
SplitToningHighlightSaturation | 0 |
SplitToningShadowHue | 0 |
SplitToningShadowSaturation | 0 |
Subject | Västbacken, bohuslän, fågel, större hackspett |
Tint | +1 |
ToneCurve | 0, 0, 32, 22, 64, 56, 128, 128, 192, 196, 255, 255 |
ToneCurveName | Medium Contrast |
Version | 5.2 |
Vibrance | +10 |
VignetteAmount | 0 |
WhiteBalance (2) | Custom |
WhiteBalance | Manual |