Felt | Verdi |
AlreadyApplied | True |
Aperture | 8.0 |
ApertureValue | 8.0 |
BitsPerSample | 8 |
BlueHue | 0 |
BlueSaturation | 0 |
Brightness | +68 |
CameraProfile | ACR 2.4 |
ChromaticAberrationB | 0 |
ChromaticAberrationR | 0 |
Clarity | +21 |
ColorComponents | 3 |
ColorMode | RGB |
ColorNoiseReduction | 94 |
ColorSpace (1) | Unknown (-1) |
ColorSpace | Uncalibrated |
ColorTemperature | 6200 |
Contrast | +29 |
ConvertToGrayscale | False |
CopyrightFlag | False |
CreateDate (1) | 2009:04:13 14:29:09+02:00 |
CreateDate | 2009:04:07 11:46:24 |
CreatorTool | Adobe Photoshop Elements 5.0 Windows |
DateTimeDigitized | 2009:04:07 11:46:24+02:00 |
DateTimeOriginal (1) | 2009:04:07 11:46:24+02:00 |
DateTimeOriginal | 2009:04:07 11:46:24 |
Defringe | 0 |
ExifImageHeight | 1274 |
ExifImageWidth | 1024 |
Exposure | -0.15 |
ExposureCompensation | -1/3 |
ExposureProgram | Aperture-priority AE |
ExposureTime | 1/200 |
FillLight | 0 |
Firmware | 1.01 |
Flash | Fired |
FlashFired | True |
FNumber | 8.0 |
FocalLength | 5.8 mm |
FocalLength35efl | 5.8 mm |
Format | image/jpeg |
GreenHue | 0 |
GreenSaturation | +6 |
HasCrop | False |
HasSettings | True |
HighlightRecovery | 38 |
HueAdjustmentAqua | 0 |
HueAdjustmentBlue | 0 |
HueAdjustmentGreen | 0 |
HueAdjustmentMagenta | 0 |
HueAdjustmentOrange | 0 |
HueAdjustmentPurple | 0 |
HueAdjustmentRed | 0 |
HueAdjustmentYellow | 0 |
ICCProfileName | Adobe RGB (1998) |
ImageHeight (1) | 3072 |
ImageHeight | 1274 |
ImageSize | 1024x1274 |
ImageWidth (1) | 2304 |
ImageWidth | 1024 |
ISO | 100 |
Lens | 5.8-20.7 mm |
LensInfo | 5.8125-20.6875mm f/? |
LightValue | 13.6 |
LuminanceAdjustmentAqua | -53 |
LuminanceAdjustmentBlue | +2 |
LuminanceAdjustmentGreen | +47 |
LuminanceAdjustmentMagenta | +100 |
LuminanceAdjustmentOrange | +44 |
LuminanceAdjustmentPurple | +100 |
LuminanceAdjustmentRed | +49 |
LuminanceAdjustmentYellow | -2 |
LuminanceSmoothing | 96 |
Make | Canon |
MaxApertureValue | 2.9 |
Megapixels | 1.3 |
MeteringMode | Multi-segment |
Model | Canon PowerShot S70 |
ModifyDate (1) | 2009:04:13 14:30:23+02:00 |
ModifyDate | 2009:04:13 14:30:23 |
Orientation | Horizontal (normal) |
ParametricDarks | -13 |
ParametricHighlights | -100 |
ParametricHighlightSplit | 75 |
ParametricLights | +44 |
ParametricMidtoneSplit | 50 |
ParametricShadows | -13 |
ParametricShadowSplit | 25 |
PostCropVignetteAmount | 0 |
ProfileDescription | Adobe RGB (1998) |
RawFileName | CRW_1864.CRW |
RedHue | 0 |
RedSaturation | 0 |
Saturation | +1 |
SaturationAdjustmentAqua | -100 |
SaturationAdjustmentBlue | -100 |
SaturationAdjustmentGreen | -100 |
SaturationAdjustmentMagenta | -100 |
SaturationAdjustmentOrange | -100 |
SaturationAdjustmentPurple | -100 |
SaturationAdjustmentRed | -99 |
SaturationAdjustmentYellow | 0 |
Shadows | 26 |
ShadowTint | 0 |
SharpenDetail | 25 |
SharpenEdgeMasking | 0 |
SharpenRadius | +1.0 |
Sharpness | 25 |
ShutterSpeed | 1/200 |
ShutterSpeedValue | 1/200 |
Software | Adobe Photoshop Elements 5.0 Windows |
SplitToningBalance | 0 |
SplitToningHighlightHue | 0 |
SplitToningHighlightSaturation | 0 |
SplitToningShadowHue | 0 |
SplitToningShadowSaturation | 0 |
Tint | 0 |
ToneCurve | 0, 0, 32, 22, 64, 56, 128, 128, 192, 196, 255, 255 |
ToneCurveName | Medium Contrast |
URL_List | |
Version | 4.6 |
Vibrance | -2 |
VignetteAmount | 0 |
WhiteBalance | Custom |