Felt | Verdi |
AlreadyApplied | True |
Aperture | 8.0 |
ApertureValue | 8.0 |
BitsPerSample | 8 |
BlueHue | 0 |
BlueSaturation | 0 |
Brightness | +50 |
CameraProfile | ACR 4.4 |
ChromaticAberrationB | 0 |
ChromaticAberrationR | 0 |
CircleOfConfusion | 0.030 mm |
Clarity | 0 |
ColorComponents | 3 |
ColorNoiseReduction | 25 |
ColorTemperature | 5650 |
Contrast | +25 |
ConvertToGrayscale | True |
CreateDate (1) | 2009:06:19 13:29:22+02:00 |
CreateDate | 2009:06:19 13:29:22 |
CreatorTool | Adobe Photoshop Lightroom |
CropAngle | -0.332588 |
CropBottom | 0.87988 |
CropHeight | 2212 |
CropLeft | 0.005406 |
CropRight | 1 |
CropTop | 0.128999 |
CropUnit | pixels |
CropWidth | 4332 |
CustomRendered | Normal |
DateTimeDigitized | 2009:06:19 13:29:22+02:00 |
DateTimeOriginal (1) | 2009:06:19 13:29:22+02:00 |
DateTimeOriginal | 2009:06:19 13:29:22 |
Defringe | 0 |
ExifImageHeight | 2212 |
ExifImageWidth | 4332 |
Exposure | 0.00 |
ExposureCompensation | 0 |
ExposureMode | Manual |
ExposureProgram | Manual |
ExposureTime | 1/400 |
FillLight | 0 |
Firmware | 1.1.1 |
Flash | Off, Did not fire |
FlashCompensation | 0 |
FlashFired | False |
FlashFunction | False |
FlashMode | Off |
FlashRedEyeMode | False |
FlashReturn | No return detection |
FNumber | 8.0 |
FocalLength | 17.0 mm |
FocalLength35efl | 17.0 mm (35 mm equivalent: 17.0 mm) |
FOV | 93.2 deg |
GrayMixerAqua | -15 |
GrayMixerBlue | -67 |
GrayMixerGreen | +100 |
GrayMixerMagenta | +100 |
GrayMixerOrange | +100 |
GrayMixerPurple | -100 |
GrayMixerRed | +100 |
GrayMixerYellow | +100 |
GreenHue | 0 |
GreenSaturation | 0 |
HasCrop | True |
HasSettings | True |
HighlightRecovery | 0 |
HyperfocalDistance | 1.20 m |
ImageHeight | 2212 |
ImageNumber | 2 |
ImageSize | 4332x2212 |
ImageWidth | 4332 |
ISO | 100 |
Keywords | Husøya, familien på tre, sommer |
Lens | EF17-40mm f/4L USM |
LensInfo | 17-40mm f/? |
LightValue | 14.6 |
LuminanceSmoothing | 0 |
Make | Canon |
MaxApertureValue | 4.0 |
Megapixels | 9.6 |
MeteringMode | Spot |
Model | Canon EOS 5D |
ModifyDate (1) | 2009:07:02 18:55:11+02:00 |
ModifyDate | 2009:07:02 18:55:11 |
ParametricDarks | -39 |
ParametricHighlights | 0 |
ParametricHighlightSplit | 75 |
ParametricLights | +72 |
ParametricMidtoneSplit | 50 |
ParametricShadows | 0 |
ParametricShadowSplit | 25 |
PostCropVignetteAmount | 0 |
ProfileDescription | sRGB IEC61966-2.1 |
RedHue | 0 |
RedSaturation | 0 |
ScaleFactor35efl | 1.0 |
SceneCaptureType | Standard |
SerialNumber | 2921205756 |
Shadows | 5 |
ShadowTint | 0 |
SharpenDetail | 83 |
SharpenEdgeMasking | 74 |
SharpenRadius | +0.5 |
Sharpness | 68 |
ShutterSpeed | 1/400 |
ShutterSpeedValue | 1/400 |
SplitToningBalance | 0 |
SplitToningHighlightHue | 37 |
SplitToningHighlightSaturation | 22 |
SplitToningShadowHue | 0 |
SplitToningShadowSaturation | 0 |
Subject | Husøya, familien på tre, sommer |
Tint | +16 |
ToneCurve | 0, 0, 32, 22, 64, 56, 128, 128, 192, 196, 255, 255 |
ToneCurveName | Medium Contrast |
Version | 4.5 |
VignetteAmount | 0 |
WhiteBalance (2) | As Shot |
WhiteBalance | Auto |