Felt | Verdi |
AlreadyApplied | True |
Aperture | 5.7 |
ApertureValue | 5.7 |
BitsPerSample | 8 |
BlackClip | 0.223800 |
BlueHue | 0 |
BlueSaturation | 0 |
Brightness | +29 |
By-line | Jan Erik Arud |
CameraProfile | Embedded |
ChromaticAberrationB | 0 |
ChromaticAberrationR | 0 |
Clarity | 0 |
ColorComponents | 3 |
ColorNoiseReduction | 12 |
ColorSaturation | 42 |
ColorTemperature | 0 |
Contrast | -23 |
ConvertToGrayscale | False |
Copyright | Jan Erik Arud |
CopyrightFlag | True |
CopyrightNotice | Jan Erik Arud |
CreateDate | 2009:07:14 21:12:31+02:00 |
Creator | Jan Erik Arud |
CreatorTool | Adobe Photoshop Lightroom |
CreatorWorkEmail | arud@bluezone.no |
CreatorWorkURL | http://www.flickr.com/photos/jarud/ |
CropAngle | 0.466375 |
CropBottom | 1 |
CropHeight | 849 |
CropLeft | 0.008728 |
CropRight | 0.991272 |
CropTop | 0 |
CropUnit | pixels |
CropWidth | 1280 |
DateTimeOriginal (1) | 2009:07:14 21:12:31+02:00 |
DateTimeOriginal | 2009:07:14 21:12:31 |
Defringe | 2 |
ExifImageHeight | 849 |
ExifImageWidth | 1280 |
Exposure | +0.56 |
FillLight | 12 |
FNumber | 5.7 |
FocalLength | 24.0 mm |
FocalLength35efl | 24.0 mm |
Gamma | 1.536875 |
GradientBasedCorrActive | true |
GradientBasedCorrAmount | 1.000000 |
GradientBasedCorrBrightness (1) | 0.050000 |
GradientBasedCorrBrightness | -0.149425 |
GradientBasedCorrClarity (1) | -1.000000 |
GradientBasedCorrClarity | 0.816092 |
GradientBasedCorrContrast (1) | 0.000000 |
GradientBasedCorrContrast | 0.126437 |
GradientBasedCorrExposure (1) | -0.050000 |
GradientBasedCorrExposure | 0.000000 |
GradientBasedCorrHue (1) | 0.000000 |
GradientBasedCorrHue | 225.000000 |
GradientBasedCorrMaskFullX (1) | 0.609145 |
GradientBasedCorrMaskFullX (2) | 0.574537 |
GradientBasedCorrMaskFullX (3) | 0.463094 |
GradientBasedCorrMaskFullX | 0.671663 |
GradientBasedCorrMaskFullY (1) | -0.297273 |
GradientBasedCorrMaskFullY (2) | -0.010140 |
GradientBasedCorrMaskFullY (3) | -0.270522 |
GradientBasedCorrMaskFullY | -0.217241 |
GradientBasedCorrMaskValue | 1.000000 |
GradientBasedCorrMaskWhat | Mask/Gradient |
GradientBasedCorrMaskZeroX (1) | 0.596620 |
GradientBasedCorrMaskZeroX (2) | 0.565078 |
GradientBasedCorrMaskZeroX (3) | 0.737920 |
GradientBasedCorrMaskZeroX | 0.665595 |
GradientBasedCorrMaskZeroY (1) | 1.106110 |
GradientBasedCorrMaskZeroY (2) | 1.041750 |
GradientBasedCorrMaskZeroY (3) | 0.601072 |
GradientBasedCorrMaskZeroY | 0.606421 |
GradientBasedCorrSaturation (1) | -0.325000 |
GradientBasedCorrSaturation (2) | 0.000000 |
GradientBasedCorrSaturation (3) | 0.325000 |
GradientBasedCorrSaturation (5) | 0.241379 |
GradientBasedCorrSaturation | 0.430000 |
GradientBasedCorrSharpness (1) | -1.000000 |
GradientBasedCorrSharpness | 0.000000 |
GradientBasedCorrWhat | Correction |
GreenHue | 0 |
GreenSaturation | 0 |
HasCrop | True |
HasSettings | True |
HighlightRecovery | 21 |
HighlightsSmoothing | 0 |
HueAdjustmentAqua | 0 |
HueAdjustmentBlue | 0 |
HueAdjustmentGreen | 0 |
HueAdjustmentMagenta | 0 |
HueAdjustmentOrange | 0 |
HueAdjustmentPurple | 0 |
HueAdjustmentRed | 0 |
HueAdjustmentYellow | 0 |
ImageHeight | 849 |
ImageSize | 1280x849 |
ImageWidth | 1280 |
IncrementalTemperature | 0 |
IncrementalTint | 0 |
ISO | 100 |
Label | Yellow |
LuminanceAdjustmentAqua | 0 |
LuminanceAdjustmentBlue | 0 |
LuminanceAdjustmentGreen | 0 |
LuminanceAdjustmentMagenta | 0 |
LuminanceAdjustmentOrange | 0 |
LuminanceAdjustmentPurple | 0 |
LuminanceAdjustmentRed | 0 |
LuminanceAdjustmentYellow | 0 |
LuminanceSmoothing | 12 |
Luminosity | 6 |
Marked | True |
Megapixels | 1.1 |
Method | Details Enhancer |
Microcontrast | 2 |
Microsmoothing | 30 |
Model | Canon EOS-1D Mark III |
ModifyDate (1) | 2009:07:16 01:39:47+02:00 |
ModifyDate | 2009:07:16 01:39:47 |
PaintCorrectionActive | true |
PaintCorrectionAmount | 1.000000 |
PaintCorrectionBrightness (1) | 0.000000 |
PaintCorrectionBrightness | -0.100000 |
PaintCorrectionClarity (1) | 0.810000 |
PaintCorrectionClarity | -1.000000 |
PaintCorrectionContrast | 0.000000 |
PaintCorrectionExposure (1) | 0.309705 |
PaintCorrectionExposure | -0.075000 |
PaintCorrectionHue (1) | 6.000000 |
PaintCorrectionHue | 0.000000 |
PaintCorrectionMaskCenterWeight | 0.000000 |
PaintCorrectionMaskFlow | 1.000000 |
PaintCorrectionMaskRadius (1) | 0.269851 |
PaintCorrectionMaskRadius | 0.309859 |
PaintCorrectionMaskValue | 1.000000 |
PaintCorrectionMaskWhat | Mask/Paint |
PaintCorrectionSaturation (3) | -0.180000 |
PaintCorrectionSaturation | 0.000000 |
PaintCorrectionSharpness (1) | 0.000000 |
PaintCorrectionSharpness | -1.000000 |
PaintCorrectionWhat | Correction |
ParametricDarks | +23 |
ParametricHighlights | 0 |
ParametricHighlightSplit | 75 |
ParametricLights | 0 |
ParametricMidtoneSplit | 50 |
ParametricShadows | 0 |
ParametricShadowSplit | 25 |
PostCropVignetteAmount | 0 |
ProfileDescription | sRGB IEC61966-2.1 |
Rating | 1 |
RedHue | 0 |
RedSaturation | 0 |
Rights | Jan Erik Arud |
Saturation | +17 |
SaturationAdjustmentAqua | 0 |
SaturationAdjustmentBlue | 0 |
SaturationAdjustmentGreen | 0 |
SaturationAdjustmentMagenta | 0 |
SaturationAdjustmentOrange | 0 |
SaturationAdjustmentPurple | 0 |
SaturationAdjustmentRed | 0 |
SaturationAdjustmentYellow | 0 |
SaturationHighlights | 2 |
SaturationShadows | 0 |
Shadows | 1 |
ShadowsClipping | 0 |
ShadowsSmoothing | 0 |
ShadowTint | 0 |
SharpenDetail | 89 |
SharpenEdgeMasking | 0 |
SharpenRadius | +1.0 |
Sharpness | 23 |
Smoothing | Very High |
SplitToningBalance | 0 |
SplitToningHighlightHue | 34 |
SplitToningHighlightSaturation | 26 |
SplitToningShadowHue | 0 |
SplitToningShadowSaturation | 0 |
Strength | 53 |
ToneCurve | 0, 0, 255, 255 |
ToneCurveName | Linear |
Version (1) | 3.1 |
Version | 5.4 |
Vibrance | +19 |
VignetteAmount | +5 |
VignetteMidpoint | 50 |
WhiteBalance | As Shot |
WhiteClip | 0.000000 |