Felt | Verdi |
AlreadyApplied | True |
Aperture | 6.3 |
ApertureValue | 6.3 |
BitsPerSample (1) | 16, 16, 16 |
BitsPerSample (2) | 16 16 16 |
BitsPerSample | 8 |
BlueHue | 0 |
BlueSaturation | 0 |
Brightness | +36 |
CameraProfile | Adobe Standard |
ChromaticAberrationB | 0 |
ChromaticAberrationR | 0 |
CircleOfConfusion | 0.031 mm |
Clarity | +10 |
ColorComponents | 3 |
ColorMode | RGB |
ColorNoiseReduction | 5 |
ColorSpace | sRGB |
ColorTemperature | 4976 |
Contrast | +48 |
ConvertToGrayscale | False |
CopyrightFlag | False |
CreateDate (1) | 2009:08:03 20:27:02+02:00 |
CreateDate | 2009:07:20 13:33:35 |
CreatorTool | Adobe Photoshop CS3 Windows |
CropAngle | 0 |
CropBottom | 1 |
CropHeight | 3744 |
CropLeft | 0.055422 |
CropRight | 1 |
CropTop | 0 |
CropUnit | pixels |
CropWidth | 5305 |
CustomRendered | Normal |
DateTimeDigitized | 2009:07:20 13:33:35.75+02:00 |
DateTimeOriginal (1) | 2009:07:20 13:33:35.75+02:00 |
DateTimeOriginal | 2009:07:20 13:33:35 |
Defringe | 0 |
ExifImageHeight | 800 |
ExifImageWidth | 579 |
Exposure | -0.57 |
ExposureCompensation | +1/3 |
ExposureMode | Auto |
ExposureProgram | Aperture-priority AE |
ExposureTime | 1/125 |
FillLight | 10 |
Firmware | 1.1.0 |
Flash | Off, Did not fire |
FlashCompensation | 0 |
FlashFired | False |
FlashFunction | False |
FlashMode | Off |
FlashRedEyeMode | False |
FlashReturn | No return detection |
FNumber | 6.3 |
FocalLength | 210.0 mm |
FocalLength35efl | 210.0 mm (35 mm equivalent: 204.9 mm) |
Format | image/jpeg |
FOV | 10.0 deg |
GreenHue | 0 |
GreenSaturation | 0 |
HasCrop | True |
HasSettings | True |
HighlightRecovery | 100 |
HueAdjustmentAqua | 0 |
HueAdjustmentBlue | 0 |
HueAdjustmentGreen | 0 |
HueAdjustmentMagenta | 0 |
HueAdjustmentOrange | 0 |
HueAdjustmentPurple | 0 |
HueAdjustmentRed | 0 |
HueAdjustmentYellow | 0 |
HyperfocalDistance | 227.37 m |
ICCProfileName | sRGB IEC61966-2.1 |
ImageHeight (2) | 5176 |
ImageHeight | 800 |
ImageNumber | 0 |
ImageSize | 579x800 |
ImageWidth (2) | 3744 |
ImageWidth | 579 |
ISO | 200 |
Lens | EF100-400mm f/4.5-5.6L IS USM |
LensInfo | 100-400mm f/? |
LightValue | 11.3 |
LuminanceAdjustmentAqua | 0 |
LuminanceAdjustmentBlue | 0 |
LuminanceAdjustmentGreen | -19 |
LuminanceAdjustmentMagenta | 0 |
LuminanceAdjustmentOrange | 0 |
LuminanceAdjustmentPurple | 0 |
LuminanceAdjustmentRed | 0 |
LuminanceAdjustmentYellow | -19 |
LuminanceSmoothing | 24 |
Make | Canon |
MaxApertureValue | 5.2 |
Megapixels | 0.463 |
MeteringMode | Multi-segment |
Model | Canon EOS 5D Mark II |
ModifyDate (1) | 2009:08:03 20:27:02+02:00 |
ModifyDate | 2009:08:03 20:27:02 |
Orientation | Horizontal (normal) |
ParametricDarks | 0 |
ParametricHighlights | -31 |
ParametricHighlightSplit | 75 |
ParametricLights | -29 |
ParametricMidtoneSplit | 50 |
ParametricShadows | 0 |
ParametricShadowSplit | 25 |
PhotometricInterpretation | RGB |
PlanarConfiguration | Chunky |
PostCropVignetteAmount | 0 |
ProfileDescription | sRGB IEC61966-2.1 |
RedHue | 0 |
RedSaturation | 0 |
SamplesPerPixel | 3 |
Saturation | -5 |
SaturationAdjustmentAqua | -48 |
SaturationAdjustmentBlue | -33 |
SaturationAdjustmentGreen | -19 |
SaturationAdjustmentMagenta | -12 |
SaturationAdjustmentOrange | 0 |
SaturationAdjustmentPurple | -10 |
SaturationAdjustmentRed | 0 |
SaturationAdjustmentYellow | 0 |
ScaleFactor35efl | 1.0 |
SceneCaptureType | Standard |
SerialNumber | 530320270 |
Shadows | 5 |
ShadowTint | 0 |
SharpenDetail | 32 |
SharpenEdgeMasking | 0 |
SharpenRadius | +1.0 |
Sharpness | 59 |
ShutterSpeed | 1/125 |
ShutterSpeedValue | 1/125 |
Software | Adobe Photoshop CS3 Windows |
SplitToningBalance | 0 |
SplitToningHighlightHue | 0 |
SplitToningHighlightSaturation | 0 |
SplitToningShadowHue | 0 |
SplitToningShadowSaturation | 0 |
Tint | +4 |
ToneCurve | 0, 0, 32, 22, 64, 56, 128, 128, 192, 196, 255, 255 |
ToneCurveName | Medium Contrast |
URL_List | |
Version | 5.4 |
Vibrance | -7 |
VignetteAmount | 0 |
WhiteBalance (2) | Custom |
WhiteBalance | Auto |