Felt | Verdi |
AlreadyApplied | True |
Aperture | 1.8 |
ApertureValue | 1.8 |
Artist | Ole Erik Lovold |
BitsPerSample | 8 |
BlueHue | 0 |
BlueSaturation | 0 |
Brightness | +50 |
By-line | Ole Erik Løvold |
CameraProfile | Adobe Standard |
ChromaticAberrationB | 0 |
ChromaticAberrationR | 0 |
CircleOfConfusion | 0.030 mm |
Clarity | 0 |
ColorComponents | 3 |
ColorNoiseReduction | 25 |
ColorTemperature | 6167 |
Contrast | +93 |
ConvertToGrayscale | False |
CreateDate (1) | 2009:08:23 18:57:50+02:00 |
CreateDate | 2009:08:23 18:57:50 |
Creator | Ole Erik Løvold |
CreatorTool | Adobe Photoshop Lightroom |
CropAngle | 0.10747 |
CropBottom | 0.989077 |
CropHeight | 2839 |
CropLeft | 0.059536 |
CropRight | 0.916931 |
CropTop | 0.011692 |
CropUnit | pixels |
CropWidth | 3750 |
CustomRendered | Normal |
DateTimeDigitized | 2009:08:23 18:57:50+02:00 |
DateTimeOriginal (1) | 2009:08:23 18:57:50+02:00 |
DateTimeOriginal | 2009:08:23 18:57:50 |
Defringe | 2 |
ExifImageHeight | 3750 |
ExifImageWidth | 2839 |
Exposure | +0.95 |
ExposureCompensation | +2/3 |
ExposureMode | Auto |
ExposureProgram | Aperture-priority AE |
ExposureTime | 1/400 |
FillLight | 0 |
Firmware | 1.1.0 |
Flash | Off, Did not fire |
FlashCompensation | 0 |
FlashFired | False |
FlashFunction | False |
FlashMode | Off |
FlashRedEyeMode | False |
FlashReturn | No return detection |
FNumber | 1.8 |
FocalLength | 85.0 mm |
FocalLength35efl | 85.0 mm (35 mm equivalent: 85.2 mm) |
FOV | 23.9 deg |
GradientBasedCorrActive | true |
GradientBasedCorrAmount | 1.000000 |
GradientBasedCorrBrightness | 0.000000 |
GradientBasedCorrClarity | 0.000000 |
GradientBasedCorrContrast | 0.000000 |
GradientBasedCorrExposure | 0.325000 |
GradientBasedCorrHue | 0.000000 |
GradientBasedCorrMaskFullX | -0.002231 |
GradientBasedCorrMaskFullY | 0.541806 |
GradientBasedCorrMaskValue | 1.000000 |
GradientBasedCorrMaskWhat | Mask/Gradient |
GradientBasedCorrMaskZeroX | 0.662649 |
GradientBasedCorrMaskZeroY | 0.488294 |
GradientBasedCorrSaturation | 0.000000 |
GradientBasedCorrSharpness | 0.000000 |
GradientBasedCorrWhat | Correction |
GreenHue | 0 |
GreenSaturation | 0 |
HasCrop | True |
HasSettings | True |
HighlightRecovery | 0 |
HueAdjustmentAqua | 0 |
HueAdjustmentBlue | 0 |
HueAdjustmentGreen | -60 |
HueAdjustmentMagenta | 0 |
HueAdjustmentOrange | 0 |
HueAdjustmentPurple | 0 |
HueAdjustmentRed | 0 |
HueAdjustmentYellow | 0 |
HyperfocalDistance | 133.87 m |
ImageHeight | 3750 |
ImageNumber | 3 |
ImageSize | 2839x3750 |
ImageWidth | 2839 |
ISO | 100 |
Lens | EF85mm f/1.8 USM |
LensInfo | 85mm f/? |
LightValue | 10.3 |
LuminanceAdjustmentAqua | 0 |
LuminanceAdjustmentBlue | 0 |
LuminanceAdjustmentGreen | 0 |
LuminanceAdjustmentMagenta | 0 |
LuminanceAdjustmentOrange | 0 |
LuminanceAdjustmentPurple | 0 |
LuminanceAdjustmentRed | 0 |
LuminanceAdjustmentYellow | 0 |
LuminanceSmoothing | 65 |
Make | Canon |
MaxApertureValue | 1.8 |
Megapixels | 10.6 |
MeteringMode | Multi-segment |
Model | Canon EOS 5D |
ModifyDate (1) | 2009:08:23 19:33:59+02:00 |
ModifyDate | 2009:08:23 19:33:59 |
OwnerName | Ole Erik Løvold |
ParametricDarks | 0 |
ParametricHighlights | 0 |
ParametricHighlightSplit | 75 |
ParametricLights | 0 |
ParametricMidtoneSplit | 50 |
ParametricShadows | 0 |
ParametricShadowSplit | 25 |
PostCropVignetteAmount | 0 |
ProfileDescription | sRGB IEC61966-2.1 |
RedHue | 0 |
RedSaturation | 0 |
Saturation | +5 |
SaturationAdjustmentAqua | 0 |
SaturationAdjustmentBlue | 0 |
SaturationAdjustmentGreen | 0 |
SaturationAdjustmentMagenta | -12 |
SaturationAdjustmentOrange | 0 |
SaturationAdjustmentPurple | -2 |
SaturationAdjustmentRed | 0 |
SaturationAdjustmentYellow | 0 |
ScaleFactor35efl | 1.0 |
SceneCaptureType | Standard |
SerialNumber | 1531004271 |
Shadows | 7 |
ShadowTint | 0 |
SharpenDetail | 25 |
SharpenEdgeMasking | 0 |
SharpenRadius | +1.0 |
Sharpness | 25 |
ShutterSpeed | 1/400 |
ShutterSpeedValue | 1/400 |
SplitToningBalance | 0 |
SplitToningHighlightHue | 0 |
SplitToningHighlightSaturation | 0 |
SplitToningShadowHue | 0 |
SplitToningShadowSaturation | 0 |
Tint | -25 |
ToneCurve | 0, 0, 32, 22, 64, 56, 128, 128, 192, 196, 255, 255 |
ToneCurveName | Medium Contrast |
Version | 5.4 |
Vibrance | +2 |
VignetteAmount | 0 |
WhiteBalance (2) | Custom |
WhiteBalance | Auto |