Felt | Verdi |
AlreadyApplied | True |
BitsPerSample | 8 |
BlueHue | 0 |
BlueSaturation | 0 |
Brightness | 0 |
CameraProfile | Embedded |
ChromaticAberrationB | 0 |
ChromaticAberrationR | 0 |
Clarity | +26 |
ColorComponents | 1 |
ColorNoiseReduction | 65 |
ColorSpace | Unknown (-1) |
Contrast | 0 |
ConvertToGrayscale | True |
CreateDate | 2008:04:20 08:48:17+02:00 |
CreatorTool | Adobe Photoshop Lightroom |
CropAngle | -1.35649 |
CropBottom | 0.883979 |
CropHeight | 616 |
CropLeft | 0.036127 |
CropRight | 0.973737 |
CropTop | 0.061164 |
CropUnit | pixels |
CropWidth | 1024 |
Defringe | 0 |
ExifImageHeight | 616 |
ExifImageWidth | 1024 |
Exposure | 0.00 |
FillLight | 0 |
Format | image/tiff |
GrayMixerAqua | +21 |
GrayMixerBlue | +9 |
GrayMixerGreen | +60 |
GrayMixerMagenta | +4 |
GrayMixerOrange | -18 |
GrayMixerPurple | -100 |
GrayMixerRed | -9 |
GrayMixerYellow | -14 |
GreenHue | 0 |
GreenSaturation | 0 |
HasCrop | True |
HasSettings | True |
HighlightRecovery | 0 |
ImageHeight | 616 |
ImageSize | 1024x616 |
ImageWidth | 1024 |
IncrementalTemperature | 0 |
IncrementalTint | 0 |
Keywords | veggpryd |
Label | Blue |
LuminanceSmoothing | 0 |
Make | Nikon |
Megapixels | 0.631 |
Model | Nikon COOLSCAN V ED |
ModifyDate (1) | 2009:10:25 16:24:28+01:00 |
ModifyDate | 2009:10:25 16:24:28 |
ParametricDarks | 0 |
ParametricHighlights | 0 |
ParametricHighlightSplit | 75 |
ParametricLights | +71 |
ParametricMidtoneSplit | 50 |
ParametricShadows | 0 |
ParametricShadowSplit | 25 |
PostCropVignetteAmount | 0 |
ProfileDescription | sRGB IEC61966-2.1 |
RedHue | 0 |
RedSaturation | 0 |
Shadows | 7 |
ShadowTint | 0 |
SharpenDetail | 25 |
SharpenEdgeMasking | 0 |
SharpenRadius | +1.0 |
Sharpness | 0 |
Software | Adobe Photoshop CS3 Windows |
SplitToningBalance | 0 |
SplitToningHighlightHue | 0 |
SplitToningHighlightSaturation | 0 |
SplitToningShadowHue | 0 |
SplitToningShadowSaturation | 0 |
Subject | veggpryd |
ToneCurve | 0, 0, 32, 16, 64, 50, 128, 128, 192, 202, 255, 255 |
ToneCurveName | Strong Contrast |
Version | 5.4 |
VignetteAmount | 0 |
WhiteBalance | As Shot |