Felt | Verdi |
AlreadyApplied | True |
Aperture | 10.0 |
ApertureValue | 10.0 |
BitsPerSample | 8 |
BlueHue | -7 |
BlueSaturation | +2 |
Brightness | +25 |
By-line | Thomas Holm |
CameraProfile | Adobe Standard |
CFAPattern | [Red,Green][Green,Blue] |
ChromaticAberrationB | 0 |
ChromaticAberrationR | 0 |
Clarity | +33 |
ColorComponents | 3 |
ColorNoiseReduction | 8 |
ColorTemperature | 4857 |
Contrast (2) | +11 |
Contrast | Normal |
ConvertToGrayscale | False |
Copyright | (C) ThomasHolm.no |
CopyrightFlag | True |
CopyrightNotice | © ThomasHolm.no |
CreateDate (1) | 2009:11:21 15:47:34+01:00 |
CreateDate | 2009:11:21 15:47:34 |
Creator | Thomas Holm |
CreatorTool | Adobe Photoshop Lightroom |
CreatorWorkURL | www.thomasholm.no |
CustomRendered | Normal |
DateTimeDigitized | 2009:11:21 15:47:34+01:00 |
DateTimeOriginal (1) | 2009:11:21 15:47:34+01:00 |
DateTimeOriginal | 2009:11:21 15:47:34 |
Defringe | 0 |
Description | |
DigitalZoomRatio | 1 |
ExifImageHeight | 768 |
ExifImageWidth | 1024 |
Exposure | +1.52 |
ExposureCompensation | 0 |
ExposureMode | Auto |
ExposureProgram | Shutter speed priority AE |
ExposureTime | 1/125 |
FillLight | 5 |
Flash | On, Did not fire |
FlashCompensation | 0 |
FlashFired | False |
FlashFunction | False |
FlashMode | On |
FlashRedEyeMode | False |
FlashReturn | No return detection |
FNumber | 10.0 |
FocalLength | 55.0 mm |
FocalLength35efl | 55.0 mm |
GainControl | High gain up |
GreenHue | +5 |
GreenSaturation | +7 |
HasCrop | False |
HasSettings | True |
HighlightRecovery | 33 |
HueAdjustmentAqua | +7 |
HueAdjustmentBlue | +2 |
HueAdjustmentGreen | -2 |
HueAdjustmentMagenta | -5 |
HueAdjustmentOrange | +14 |
HueAdjustmentPurple | +5 |
HueAdjustmentRed | +10 |
HueAdjustmentYellow | +10 |
ImageHeight | 768 |
ImageSize | 1024x768 |
ImageWidth | 1024 |
ISO | 400 |
Keywords | ATV, frogner, jorde |
Lens | 50.0-200.0 mm f/2.8-3.5 |
LensInfo | 50-200mm f/2.8-3.5 |
LensSerialNumber | 240011463 |
LightSource | Cloudy |
LightValue | 11.6 |
LuminanceAdjustmentAqua | 0 |
LuminanceAdjustmentBlue | 0 |
LuminanceAdjustmentGreen | +5 |
LuminanceAdjustmentMagenta | 0 |
LuminanceAdjustmentOrange | -12 |
LuminanceAdjustmentPurple | -5 |
LuminanceAdjustmentRed | -21 |
LuminanceAdjustmentYellow | -10 |
LuminanceSmoothing | 54 |
Make | OLYMPUS IMAGING CORP. |
Marked | True |
MaxApertureValue | 2.8 |
Megapixels | 0.786 |
MeteringMode | Center-weighted average |
Model | E-3 |
ModifyDate (1) | 2009:11:23 20:12:56+01:00 |
ModifyDate | 2009:11:23 20:12:56 |
ParametricDarks | -19 |
ParametricHighlights | -5 |
ParametricHighlightSplit | 75 |
ParametricLights | +31 |
ParametricMidtoneSplit | 50 |
ParametricShadows | -24 |
ParametricShadowSplit | 25 |
PostCropVignetteAmount | 0 |
ProfileDescription | sRGB IEC61966-2.1 |
RedHue | 0 |
RedSaturation | 0 |
Rights | © ThomasHolm.no |
Saturation (2) | +5 |
Saturation | High |
SaturationAdjustmentAqua | -10 |
SaturationAdjustmentBlue | -7 |
SaturationAdjustmentGreen | +10 |
SaturationAdjustmentMagenta | +2 |
SaturationAdjustmentOrange | -10 |
SaturationAdjustmentPurple | +12 |
SaturationAdjustmentRed | +2 |
SaturationAdjustmentYellow | +7 |
SceneCaptureType | Standard |
SerialNumber | D70519750 |
Shadows | 33 |
ShadowTint | 0 |
SharpenDetail | 67 |
SharpenEdgeMasking | 57 |
SharpenRadius | +1.3 |
Sharpness (2) | 91 |
Sharpness | Normal |
ShutterSpeed | 1/125 |
ShutterSpeedValue | 1/125 |
Software | Version 1.4 |
SplitToningBalance | 0 |
SplitToningHighlightHue | 0 |
SplitToningHighlightSaturation | 0 |
SplitToningShadowHue | 0 |
SplitToningShadowSaturation | 0 |
Subject | ATV, frogner, jorde |
Tint | -4 |
ToneCurve | 0, 0, 32, 22, 64, 56, 128, 128, 192, 196, 255, 255 |
ToneCurveName | Medium Contrast |
UsageTerms | No copying without permission! |
Version | 5.4 |
Vibrance | +29 |
VignetteAmount | 0 |
WhiteBalance (2) | Custom |
WhiteBalance | Manual |