Felt | Verdi |
AlreadyApplied | True |
Aperture | 22.0 |
ApertureValue | 22.0 |
Artist | Andre |
BitsPerSample | 8 |
BlueHue | 0 |
BlueSaturation | 0 |
Brightness | +50 |
By-line | Andre |
CameraProfile | Adobe Standard |
ChromaticAberrationB | 0 |
ChromaticAberrationR | 0 |
CircleOfConfusion | 0.019 mm |
Clarity | 0 |
ColorComponents | 3 |
ColorNoiseReduction | 25 |
ColorTemperature | 8808 |
Contrast | +25 |
ConvertToGrayscale | False |
CreateDate (1) | 2010:01:12 10:49:40.98+01:00 |
CreateDate | 2010:01:12 10:49:40 |
Creator | Andre |
CreatorTool | Adobe Photoshop Lightroom |
CropAngle | 0 |
CropBottom | 0.929204 |
CropHeight | 633 |
CropLeft | 0.035398 |
CropRight | 0.964602 |
CropTop | 0 |
CropUnit | pixels |
CropWidth | 950 |
CustomRendered | Normal |
DateTimeDigitized | 2010:01:12 10:49:40.98+01:00 |
DateTimeOriginal (1) | 2010:01:12 10:49:40.98+01:00 |
DateTimeOriginal | 2010:01:12 10:49:40 |
Defringe | 0 |
DOF | inf (0.71 m - inf) |
ExifImageHeight | 633 |
ExifImageWidth | 950 |
Exposure | +0.83 |
ExposureCompensation | 0 |
ExposureMode | Manual |
ExposureProgram | Manual |
ExposureTime | 1/6 |
FillLight | 53 |
Firmware | 1.1.1 |
Flash | Off, Did not fire |
FlashCompensation | 0 |
FlashFired | False |
FlashFunction | False |
FlashMode | Off |
FlashRedEyeMode | False |
FlashReturn | No return detection |
FNumber | 22.0 |
FocalLength | 17.0 mm |
FocalLength35efl | 17.0 mm (35 mm equivalent: 27.5 mm) |
FOV | 66.4 deg |
GradientBasedCorrActive | true |
GradientBasedCorrAmount | 1.000000 |
GradientBasedCorrBrightness | 0.000000 |
GradientBasedCorrClarity | 0.000000 |
GradientBasedCorrContrast (1) | 0.678161 |
GradientBasedCorrContrast | 0.000000 |
GradientBasedCorrExposure (1) | -0.333333 |
GradientBasedCorrExposure | -0.126437 |
GradientBasedCorrHue (1) | 26.000000 |
GradientBasedCorrHue | 0.000000 |
GradientBasedCorrMaskFullX (1) | 0.503465 |
GradientBasedCorrMaskFullX | 0.469340 |
GradientBasedCorrMaskFullY (1) | 0.272520 |
GradientBasedCorrMaskFullY | 0.952212 |
GradientBasedCorrMaskValue | 1.000000 |
GradientBasedCorrMaskWhat | Mask/Gradient |
GradientBasedCorrMaskZeroX (1) | 0.505896 |
GradientBasedCorrMaskZeroX | 0.474057 |
GradientBasedCorrMaskZeroY (1) | 0.513274 |
GradientBasedCorrMaskZeroY | 0.584071 |
GradientBasedCorrSaturation (1) | 0.517241 |
GradientBasedCorrSaturation (2) | 0.350000 |
GradientBasedCorrSaturation | 0.000000 |
GradientBasedCorrSharpness | 0.000000 |
GradientBasedCorrWhat | Correction |
GreenHue | 0 |
GreenSaturation | 0 |
HasCrop | True |
HasSettings | True |
HighlightRecovery | 0 |
HueAdjustmentAqua | -40 |
HueAdjustmentBlue | 0 |
HueAdjustmentGreen | -48 |
HueAdjustmentMagenta | 0 |
HueAdjustmentOrange | -54 |
HueAdjustmentPurple | 0 |
HueAdjustmentRed | +54 |
HueAdjustmentYellow | -48 |
HyperfocalDistance | 0.71 m |
ImageHeight | 633 |
ImageNumber | 0 |
ImageSize | 950x633 |
ImageWidth | 950 |
ISO | 100 |
Keywords | tur pŒ kalvell 2010 vinter |
Lens | EF17-40mm f/4L USM |
LensID (1) | 231 |
LensID | Canon EF 17-40mm f/4L USM |
LensInfo | 17-40mm f/? |
LightValue | 11.5 |
LuminanceAdjustmentAqua | 0 |
LuminanceAdjustmentBlue | 0 |
LuminanceAdjustmentGreen | 0 |
LuminanceAdjustmentMagenta | 0 |
LuminanceAdjustmentOrange | 0 |
LuminanceAdjustmentPurple | 0 |
LuminanceAdjustmentRed | 0 |
LuminanceAdjustmentYellow | 0 |
LuminanceSmoothing | 0 |
Make | Canon |
MaxApertureValue | 4.0 |
Megapixels | 0.601 |
MeteringMode | Multi-segment |
Model | Canon EOS 40D |
ModifyDate (1) | 2010:01:12 14:21:31+01:00 |
ModifyDate | 2010:01:12 14:21:31 |
OwnerName | Andre |
ParametricDarks | 0 |
ParametricHighlights | 0 |
ParametricHighlightSplit | 75 |
ParametricLights | 0 |
ParametricMidtoneSplit | 50 |
ParametricShadows | 0 |
ParametricShadowSplit | 25 |
PostCropVignetteAmount | -6 |
PostCropVignetteFeather | 50 |
PostCropVignetteMidpoint | 50 |
PostCropVignetteRoundness | 0 |
ProfileDescription | sRGB IEC61966-2.1 |
Rating | 5 |
RedHue | 0 |
RedSaturation | 0 |
Saturation | 0 |
SaturationAdjustmentAqua | 0 |
SaturationAdjustmentBlue | +4 |
SaturationAdjustmentGreen | 0 |
SaturationAdjustmentMagenta | 0 |
SaturationAdjustmentOrange | 0 |
SaturationAdjustmentPurple | 0 |
SaturationAdjustmentRed | 0 |
SaturationAdjustmentYellow | +42 |
ScaleFactor35efl | 1.6 |
SceneCaptureType | Standard |
SerialNumber | 630333389 |
Shadows | 38 |
ShadowTint | 0 |
SharpenDetail | 25 |
SharpenEdgeMasking | 0 |
SharpenRadius | +1.0 |
Sharpness | 25 |
ShutterSpeed | 1/6 |
ShutterSpeedValue | 1/6 |
SplitToningBalance | 0 |
SplitToningHighlightHue | 0 |
SplitToningHighlightSaturation | 0 |
SplitToningShadowHue | 0 |
SplitToningShadowSaturation | 0 |
Subject | tur på kalvell 2010 vinter |
SubjectDistance | 4294967295 m |
Tint | -10 |
ToneCurve | 0, 0, 32, 22, 64, 56, 128, 128, 192, 196, 255, 255 |
ToneCurveName | Medium Contrast |
Version | 5.6 |
Vibrance | +29 |
VignetteAmount | 0 |
WhiteBalance (2) | Custom |
WhiteBalance | Auto |