Felt | Verdi |
AlreadyApplied | True |
Aperture | 5.3 |
ApertureValue | 5.3 |
BitsPerSample | 8 |
BlueHue | 0 |
BlueSaturation | 0 |
Brightness | +74 |
CameraProfile | ACR 4.4 |
CFAPattern | [Red,Green][Green,Blue] |
ChromaticAberrationB | 0 |
ChromaticAberrationR | 0 |
CircleOfConfusion | 0.020 mm |
Clarity | +17 |
ColorComponents | 3 |
ColorMode | RGB |
ColorNoiseReduction | 25 |
ColorSpace | sRGB |
ColorTemperature | 8800 |
Contrast (2) | +44 |
Contrast | Normal |
ConvertToGrayscale | False |
Copyright | RB |
CopyrightNotice | RB |
CreateDate (1) | 2010:01:15 14:29:06.60+01:00 |
CreateDate | 2010:01:15 14:29:06 |
CreatorTool | Ver.1.10 |
CropAngle | 0 |
CropBottom | 0.899485 |
CropLeft | 0.222603 |
CropRight | 0.981164 |
CropTop | 0.002577 |
CustomRendered | Normal |
DateAcquired | 2010:01:15 14:00:55.969 |
DateTimeDigitized | 2010:01:15 14:29:06.60+01:00 |
DateTimeOriginal (1) | 2010:01:15 14:29:06.60+01:00 |
DateTimeOriginal | 2010:01:15 14:29:06 |
Defringe | 0 |
DigitalZoomRatio | 1 |
ExifImageHeight | 1024 |
ExifImageWidth | 804 |
Exposure | +0.35 |
ExposureCompensation | +5 |
ExposureMode | Manual |
ExposureProgram | Manual |
ExposureTime | 1/125 |
FillLight | 22 |
Flash | No Flash |
FlashFired | False |
FlashFunction | False |
FlashMode | Unknown |
FlashRedEyeMode | False |
FlashReturn | No return detection |
FNumber | 5.3 |
FocalLength | 90.0 mm |
FocalLength35efl | 90.0 mm (35 mm equivalent: 135.0 mm) |
FocalLengthIn35mmFormat | 135 mm |
Format | image/jpeg |
FOV | 15.2 deg |
GainControl | None |
GreenHue | 0 |
GreenSaturation | 0 |
HasCrop | True |
HasSettings | True |
HighlightRecovery | 43 |
HueAdjustmentAqua | 0 |
HueAdjustmentBlue | 0 |
HueAdjustmentGreen | 0 |
HueAdjustmentMagenta | 0 |
HueAdjustmentOrange | 0 |
HueAdjustmentPurple | 0 |
HueAdjustmentRed | 0 |
HueAdjustmentYellow | 0 |
HyperfocalDistance | 76.30 m |
ICCProfileName | sRGB IEC61966-2.1 |
ImageHeight | 1024 |
ImageNumber | 12587 |
ImageSize | 804x1024 |
ImageWidth | 804 |
ISO | 250 |
Keywords | Elg, rein og Raija |
Lens | 18.0-200.0 mm f/3.5-6.3 |
LensInfo | 18-200mm f/3.5-6.3 |
LightSource | Cloudy |
LightValue | 10.5 |
LuminanceAdjustmentAqua | 0 |
LuminanceAdjustmentBlue | 0 |
LuminanceAdjustmentGreen | 0 |
LuminanceAdjustmentMagenta | 0 |
LuminanceAdjustmentOrange | 0 |
LuminanceAdjustmentPurple | 0 |
LuminanceAdjustmentRed | 0 |
LuminanceAdjustmentYellow | 0 |
LuminanceSmoothing | 0 |
Make | NIKON CORPORATION |
MaxApertureValue | 5.5 |
Megapixels | 0.823 |
MeteringMode | Multi-segment |
Model | NIKON D300 |
ModifyDate (1) | 2010:01:19 04:14:12+01:00 |
ModifyDate | 2010:01:19 04:14:12 |
Orientation | Horizontal (normal) |
ParametricDarks | +12 |
ParametricHighlights | -8 |
ParametricHighlightSplit | 75 |
ParametricLights | +16 |
ParametricMidtoneSplit | 50 |
ParametricShadows | -19 |
ParametricShadowSplit | 25 |
PostCropVignetteAmount | 0 |
ProfileDescription | sRGB IEC61966-2.1 |
Rating | 0 |
RawFileName | Elg, rein og Raija 193.NEF |
RedHue | 0 |
RedSaturation | 0 |
Rights | RB |
Saturation (2) | -5 |
Saturation | Normal |
SaturationAdjustmentAqua | 0 |
SaturationAdjustmentBlue | 0 |
SaturationAdjustmentGreen | 0 |
SaturationAdjustmentMagenta | 0 |
SaturationAdjustmentOrange | 0 |
SaturationAdjustmentPurple | 0 |
SaturationAdjustmentRed | 0 |
SaturationAdjustmentYellow | 0 |
ScaleFactor35efl | 1.5 |
SceneCaptureType | Standard |
SceneType | Directly photographed |
SensingMethod | One-chip color area |
SerialNumber | 4172913 |
Shadows | 10 |
ShadowTint | 0 |
SharpenDetail | 25 |
SharpenEdgeMasking | 0 |
SharpenRadius | +1.0 |
Sharpness (2) | 25 |
Sharpness | Normal |
ShutterSpeed | 1/125 |
ShutterSpeedValue | 1/125 |
SidecarForExtension | NEF |
Software | Adobe Photoshop CS4 Windows |
SplitToningBalance | 0 |
SplitToningHighlightHue | 0 |
SplitToningHighlightSaturation | 0 |
SplitToningShadowHue | 0 |
SplitToningShadowSaturation | 0 |
Subject | Elg, rein og Raija |
SubjectDistanceRange | Unknown |
Tint | +31 |
ToneCurve | 0, 0, 32, 22, 64, 56, 128, 128, 192, 196, 255, 255 |
ToneCurveName | Medium Contrast |
URL_List | |
Version | 5.0 |
Vibrance | +12 |
VignetteAmount | +14 |
VignetteMidpoint | 50 |
WhiteBalance (2) | Custom |
WhiteBalance | Manual |