Felt | Verdi |
AlreadyApplied | True |
Aperture | 9.0 |
ApertureValue | 9.0 |
BitsPerSample | 8 |
BlueHue | 0 |
BlueSaturation | 0 |
Brightness | +12 |
CameraProfile | Adobe Standard |
CFAPattern | [Blue,Green][Green,Red] |
ChromaticAberrationB | 0 |
ChromaticAberrationR | 0 |
CircleOfConfusion | 0.020 mm |
Clarity | +14 |
ColorComponents | 3 |
ColorNoiseReduction | 25 |
ColorTemperature | 5350 |
Contrast (2) | +10 |
Contrast | Low |
ConvertToGrayscale | False |
CreateDate (1) | 2010:05:12 16:35:09.60+02:00 |
CreateDate | 2010:05:12 16:35:08 |
CreatorTool | Adobe Photoshop Lightroom |
CropAngle | -3.45 |
CropBottom | 0.916867 |
CropHeight | 1837 |
CropLeft | 0.023191 |
CropRight | 0.976809 |
CropTop | 0.083133 |
CropUnit | pixels |
CropWidth | 2763 |
CustomRendered | Normal |
DateTimeDigitized | 2010:05:12 16:35:08.60+02:00 |
DateTimeOriginal (1) | 2010:05:12 16:35:09.60+02:00 |
DateTimeOriginal | 2010:05:12 16:35:09 |
Defringe | 0 |
DigitalZoomRatio | 1 |
ExifImageHeight | 2763 |
ExifImageWidth | 1837 |
Exposure | 0.00 |
ExposureCompensation | 0 |
ExposureMode | Manual |
ExposureProgram | Manual |
ExposureTime | 1/250 |
FillLight | 0 |
Flash | No Flash |
FlashFired | False |
FlashFunction | False |
FlashMode | Unknown |
FlashRedEyeMode | False |
FlashReturn | No return detection |
FNumber | 9.0 |
FocalLength | 18.0 mm |
FocalLength35efl | 18.0 mm (35 mm equivalent: 27.0 mm) |
FocalLengthIn35mmFormat | 27 mm |
FOV | 67.4 deg |
GainControl | None |
GradientBasedCorrActive | true |
GradientBasedCorrAmount | 1.000000 |
GradientBasedCorrBrightness (1) | -0.250000 |
GradientBasedCorrBrightness | -0.575000 |
GradientBasedCorrClarity | 0.375000 |
GradientBasedCorrContrast | 0.875000 |
GradientBasedCorrExposure (1) | 0.100000 |
GradientBasedCorrExposure | -0.050000 |
GradientBasedCorrHue | 232.000000 |
GradientBasedCorrMaskFullX (1) | 0.022499 |
GradientBasedCorrMaskFullX | 0.030542 |
GradientBasedCorrMaskFullY (1) | 0.573969 |
GradientBasedCorrMaskFullY | 0.591619 |
GradientBasedCorrMaskValue | 1.000000 |
GradientBasedCorrMaskWhat | Mask/Gradient |
GradientBasedCorrMaskZeroX (1) | 0.630908 |
GradientBasedCorrMaskZeroX | 0.148369 |
GradientBasedCorrMaskZeroY (1) | 0.518802 |
GradientBasedCorrMaskZeroY | 0.580798 |
GradientBasedCorrSaturation (1) | 0.150000 |
GradientBasedCorrSaturation (3) | 0.000000 |
GradientBasedCorrSaturation | 0.020000 |
GradientBasedCorrSharpness | 0.525000 |
GradientBasedCorrWhat | Correction |
GreenHue | 0 |
GreenSaturation | 0 |
HasCrop | True |
HasSettings | True |
HighlightRecovery | 25 |
HueAdjustmentAqua | 0 |
HueAdjustmentBlue | 0 |
HueAdjustmentGreen | 0 |
HueAdjustmentMagenta | 0 |
HueAdjustmentOrange | 0 |
HueAdjustmentPurple | 0 |
HueAdjustmentRed | 0 |
HueAdjustmentYellow | 0 |
HyperfocalDistance | 1.80 m |
ImageHeight | 2763 |
ImageNumber | 5563 |
ImageSize | 1837x2763 |
ImageWidth | 1837 |
ISO | 200 |
Lens | 18.0-55.0 mm f/3.5-5.6 |
LensInfo | 18-55mm f/3.5-5.6 |
LightSource | Cloudy |
LightValue | 13.3 |
LuminanceAdjustmentAqua | 0 |
LuminanceAdjustmentBlue | 0 |
LuminanceAdjustmentGreen | 0 |
LuminanceAdjustmentMagenta | 0 |
LuminanceAdjustmentOrange | 0 |
LuminanceAdjustmentPurple | 0 |
LuminanceAdjustmentRed | 0 |
LuminanceAdjustmentYellow | 0 |
LuminanceSmoothing | 35 |
Make | NIKON CORPORATION |
MaxApertureValue | 3.5 |
Megapixels | 5.1 |
MeteringMode | Spot |
Model | NIKON D40 |
ModifyDate (1) | 2010:05:14 12:53:03+02:00 |
ModifyDate | 2010:05:14 12:53:03 |
PaintCorrectionActive | true |
PaintCorrectionAmount | 1.000000 |
PaintCorrectionBrightness (1) | -0.275000 |
PaintCorrectionBrightness (2) | -0.600000 |
PaintCorrectionBrightness | 0.500000 |
PaintCorrectionClarity (1) | 1.000000 |
PaintCorrectionClarity (2) | 0.175000 |
PaintCorrectionClarity | 0.375000 |
PaintCorrectionContrast (2) | 0.300000 |
PaintCorrectionContrast | 0.875000 |
PaintCorrectionExposure (2) | 0.025000 |
PaintCorrectionExposure | 0.475000 |
PaintCorrectionHue | 232.000000 |
PaintCorrectionMaskCenterWeight | 0.004936 |
PaintCorrectionMaskFlow (1) | 1.000000 |
PaintCorrectionMaskFlow | 0.500000 |
PaintCorrectionMaskRadius (1) | 0.352427 |
PaintCorrectionMaskRadius (2) | 0.283658 |
PaintCorrectionMaskRadius | 0.125401 |
PaintCorrectionMaskValue | 0.538000 |
PaintCorrectionMaskWhat | Mask/Paint |
PaintCorrectionSaturation (1) | 0.000000 |
PaintCorrectionSaturation (3) | 0.350000 |
PaintCorrectionSaturation (5) | 1.000000 |
PaintCorrectionSaturation | 0.020000 |
PaintCorrectionSharpness (1) | 1.000000 |
PaintCorrectionSharpness (2) | 0.200000 |
PaintCorrectionSharpness | 0.525000 |
PaintCorrectionWhat | Correction |
ParametricDarks | 0 |
ParametricHighlights | -17 |
ParametricHighlightSplit | 75 |
ParametricLights | 0 |
ParametricMidtoneSplit | 50 |
ParametricShadows | 0 |
ParametricShadowSplit | 25 |
PostCropVignetteAmount | 0 |
ProfileDescription | sRGB IEC61966-2.1 |
RedHue | 0 |
RedSaturation | 0 |
Saturation (2) | +26 |
Saturation | Normal |
SaturationAdjustmentAqua | +45 |
SaturationAdjustmentBlue | +43 |
SaturationAdjustmentGreen | +71 |
SaturationAdjustmentMagenta | -100 |
SaturationAdjustmentOrange | +52 |
SaturationAdjustmentPurple | -100 |
SaturationAdjustmentRed | 0 |
SaturationAdjustmentYellow | +62 |
ScaleFactor35efl | 1.5 |
SceneCaptureType | Standard |
SceneType | Directly photographed |
SensingMethod | One-chip color area |
SerialNumber | 6112446 |
Shadows | 8 |
ShadowTint | 0 |
SharpenDetail | 25 |
SharpenEdgeMasking | 0 |
SharpenRadius | +1.0 |
Sharpness (2) | 25 |
Sharpness | Normal |
ShutterSpeed | 1/250 |
ShutterSpeedValue | 1/250 |
Software | Ver.1.10 |
SplitToningBalance | 0 |
SplitToningHighlightHue | 0 |
SplitToningHighlightSaturation | 0 |
SplitToningShadowHue | 0 |
SplitToningShadowSaturation | 0 |
SubjectDistanceRange | Unknown |
Tint | +2 |
ToneCurve | 0, 0, 32, 22, 64, 56, 128, 128, 192, 196, 255, 255 |
ToneCurveName | Medium Contrast |
Version | 5.3 |
Vibrance | 0 |
VignetteAmount | 0 |
WhiteBalance (2) | As Shot |
WhiteBalance | Manual |