Felt | Verdi |
AlreadyApplied | True |
Aperture | 5.6 |
ApertureValue | 5.6 |
Artist | Kurt Rodseth |
BitsPerSample (1) | 8 8 8 |
BitsPerSample | 8 |
BlueHue | 0 |
BlueSaturation | 0 |
Brightness | +62 |
By-line | Kurt Rodseth |
CameraProfile | Camera D2X Mode 2 |
CFAPattern | [Red,Green][Green,Blue] |
ChromaticAberrationB | 0 |
ChromaticAberrationR | 0 |
CircleOfConfusion | 0.030 mm |
Clarity | +13 |
ColorComponents | 3 |
ColorMode | RGB |
ColorNoiseReduction | 25 |
ColorNoiseReductionDetail | 50 |
ColorSpace | sRGB |
ColorTemperature | 4400 |
Contrast (1) | +23 |
Contrast | Normal |
ConvertToGrayscale | False |
Copyright | Kurt Rodseth |
CopyrightNotice | Kurt Rodseth |
CreateDate (1) | 2010:05:13 04:51:49.62+02:00 |
CreateDate | 2010:05:13 04:51:49 |
Creator | Kurt Rodseth |
CreatorTool | Ver.1.01 |
CropAngle | 0 |
CropBottom | 0.961801 |
CropConstrainToWarp | 0 |
CropHeight | 1917 |
CropLeft | 0.325407 |
CropRight | 0.678726 |
CropTop | 0.28501 |
CropUnit | pixels |
CropWidth | 1504 |
CustomRendered | Normal |
DateCreated (1) | 2010:05:13 |
DateCreated | 2010:05:13 04:51:49.062 |
DateTimeOriginal | 2010:05:13 04:51:49 |
Defringe | 0 |
DigitalZoomRatio | 1 |
DOF | inf (2139.56 m - inf) |
ExifImageHeight | 1200 |
ExifImageWidth | 941 |
Exposure | 0.00 |
ExposureCompensation | 0 |
ExposureMode | Auto |
ExposureProgram | Aperture-priority AE |
ExposureTime | 1/640 |
FillLight | 8 |
Flash | No Flash |
FNumber | 5.6 |
FocalLength | 600.0 mm |
FocalLength35efl | 600.0 mm (35 mm equivalent: 600.0 mm) |
FocalLengthIn35mmFormat | 600 mm |
Format | image/jpeg |
FOV | 3.4 deg |
GainControl | Low gain up |
GrainAmount | 0 |
GreenHue | 0 |
GreenSaturation | 0 |
HasCrop | True |
HasSettings | True |
HighlightRecovery | 29 |
HueAdjustmentAqua | 0 |
HueAdjustmentBlue | 0 |
HueAdjustmentGreen | 0 |
HueAdjustmentMagenta | 0 |
HueAdjustmentOrange | 0 |
HueAdjustmentPurple | 0 |
HueAdjustmentRed | 0 |
HueAdjustmentYellow | 0 |
HyperfocalDistance | 2139.56 m |
ICCProfileName | sRGB IEC61966-2.1 |
ImageHeight (1) | 1917 |
ImageHeight | 1200 |
ImageNumber | 16134 |
ImageSize | 941x1200 |
ImageWidth (1) | 1504 |
ImageWidth | 941 |
ISO | 400 |
Keywords | BWC, Boreal Wildlife Center, Finnland, bjørn |
Lens | 300.0 mm f/2.8 |
LensID (1) | 130 |
LensID | AF-S VR Nikkor 300mm f/2.8G IF-ED |
LensInfo | 300mm f/2.8 |
LensManualDistortionAmount | 0 |
LensProfileEnable | 0 |
LensProfileSetup | LensDefaults |
LightSource | Unknown |
LightValue | 12.3 |
LuminanceAdjustmentAqua | 0 |
LuminanceAdjustmentBlue | 0 |
LuminanceAdjustmentGreen | 0 |
LuminanceAdjustmentMagenta | 0 |
LuminanceAdjustmentOrange | 0 |
LuminanceAdjustmentPurple | 0 |
LuminanceAdjustmentRed | 0 |
LuminanceAdjustmentYellow | 0 |
LuminanceNoiseReductionContrast | 0 |
LuminanceNoiseReductionDetail | 50 |
LuminanceSmoothing | 68 |
Make | NIKON CORPORATION |
MaxApertureValue | 5.7 |
Megapixels | 1.1 |
MeteringMode | Multi-segment |
Model | NIKON D3S |
ModifyDate (1) | 2010:06:11 16:29:15+02:00 |
ModifyDate | 2010:06:11 16:29:15 |
Orientation | Horizontal (normal) |
PaintCorrectionActive | true |
PaintCorrectionAmount | 1.000000 |
PaintCorrectionBrightness (1) | 0.448276 |
PaintCorrectionBrightness (2) | -0.793103 |
PaintCorrectionBrightness (3) | 0.172414 |
PaintCorrectionBrightness | -1.000000 |
PaintCorrectionClarity (3) | 0.885057 |
PaintCorrectionClarity (4) | 0.402299 |
PaintCorrectionClarity | 0.317647 |
PaintCorrectionContrast (1) | 0.000000 |
PaintCorrectionContrast (3) | -0.448276 |
PaintCorrectionContrast | -0.200000 |
PaintCorrectionExposure (1) | 1.000000 |
PaintCorrectionExposure (2) | 0.586207 |
PaintCorrectionExposure (4) | -0.080460 |
PaintCorrectionExposure | -0.035294 |
PaintCorrectionHue | 0.000000 |
PaintCorrectionMaskCenterWeight | 0.086261 |
PaintCorrectionMaskFlow | 0.487931 |
PaintCorrectionMaskRadius (1) | 0.024278 |
PaintCorrectionMaskRadius (12) | 0.007288 |
PaintCorrectionMaskRadius (8) | 0.015773 |
PaintCorrectionMaskRadius (9) | 0.002475 |
PaintCorrectionMaskRadius | 0.003452 |
PaintCorrectionMaskValue | 0.574713 |
PaintCorrectionMaskWhat | Mask/Paint |
PaintCorrectionSaturation | 0.000000 |
PaintCorrectionSharpness (3) | 1.000000 |
PaintCorrectionSharpness | 0.218391 |
PaintCorrectionWhat | Correction |
ParametricDarks | -2 |
ParametricHighlights | +52 |
ParametricHighlightSplit | 75 |
ParametricLights | -6 |
ParametricMidtoneSplit | 50 |
ParametricShadows | -8 |
ParametricShadowSplit | 25 |
PerspectiveHorizontal | 0 |
PerspectiveRotate | 0.0 |
PerspectiveScale | 100 |
PerspectiveVertical | 0 |
PhotometricInterpretation | RGB |
PostCropVignetteAmount | 0 |
ProcessVersion | 5.7 |
ProfileDescription | sRGB IEC61966-2.1 |
Rating | 2 |
RedHue | 0 |
RedSaturation | 0 |
Rights | Kurt Rodseth |
Saturation (1) | 0 |
Saturation | Normal |
SaturationAdjustmentAqua | 0 |
SaturationAdjustmentBlue | -100 |
SaturationAdjustmentGreen | 0 |
SaturationAdjustmentMagenta | 0 |
SaturationAdjustmentOrange | 0 |
SaturationAdjustmentPurple | 0 |
SaturationAdjustmentRed | 0 |
SaturationAdjustmentYellow | 0 |
ScaleFactor35efl | 1.0 |
SceneCaptureType | Standard |
SceneType | Directly photographed |
SensingMethod | One-chip color area |
SerialNumber | 2006940 |
Shadows | 6 |
ShadowTint | 0 |
SharpenDetail | 25 |
SharpenEdgeMasking | 0 |
SharpenRadius | +1.0 |
Sharpness (1) | 114 |
Sharpness | Hard |
ShutterSpeed | 1/640 |
ShutterSpeedValue | 1/640 |
Software | Adobe Photoshop CS5 Macintosh |
SplitToningBalance | 0 |
SplitToningHighlightHue | 0 |
SplitToningHighlightSaturation | 0 |
SplitToningShadowHue | 0 |
SplitToningShadowSaturation | 0 |
Subject | BWC, Boreal Wildlife Center, Finnland, bjørn |
SubjectDistance | 4294967295 m |
SubjectDistanceRange | Unknown |
Tint | +15 |
ToneCurve | 0, 0, 32, 22, 64, 56, 128, 128, 192, 196, 255, 255 |
ToneCurveName | Medium Contrast |
URL_List | |
Version | 6.1 |
Vibrance | 0 |
VignetteAmount | 0 |
WhiteBalance (1) | As Shot |
WhiteBalance | Auto |