Felt | Verdi |
AlreadyApplied | True |
Aperture | 2.8 |
ApertureValue | 2.8 |
Artist | Klaus Tingvold |
BitsPerSample | 8 |
BlueHue | 0 |
BlueSaturation | 0 |
Brightness | 0 |
By-line | Klaus Tingvold |
CameraProfile | Adobe Standard |
ChromaticAberrationB | 0 |
ChromaticAberrationR | 0 |
CircleOfConfusion | 0.019 mm |
Clarity | +100 |
ColorComponents | 3 |
ColorNoiseReduction | 73 |
ColorTemperature | 3786 |
Contrast | 0 |
ConvertToGrayscale | False |
CreateDate (1) | 2011:01:08 23:29:39.76+01:00 |
CreateDate | 2011:01:08 23:29:39 |
Creator | Klaus Tingvold |
CreatorTool | Adobe Photoshop Lightroom |
CropAngle | 0 |
CropBottom | 0.442202 |
CropHeight | 1528 |
CropLeft | 0 |
CropRight | 0.630355 |
CropTop | 0 |
CropUnit | pixels |
CropWidth | 3268 |
CustomRendered | Normal |
DateTimeDigitized | 2011:01:08 23:29:39.76+01:00 |
DateTimeOriginal (1) | 2011:01:08 23:29:39.76+01:00 |
DateTimeOriginal | 2011:01:08 23:29:39 |
Defringe | 0 |
DOF | inf (2.26 m - inf) |
ExifImageHeight | 1528 |
ExifImageWidth | 3268 |
Exposure | +1.14 |
ExposureCompensation | 0 |
ExposureMode | Manual |
ExposureProgram | Manual |
ExposureTime | 15 |
FillLight | 17 |
Firmware | 1.2.2 |
Flash | Off, Did not fire |
FlashCompensation | 0 |
FlashFired | False |
FlashFunction | False |
FlashMode | Off |
FlashRedEyeMode | False |
FlashReturn | No return detection |
FNumber | 2.8 |
FocalLength | 11.0 mm |
FocalLength35efl | 11.0 mm (35 mm equivalent: 17.3 mm) |
FOV | 92.4 deg |
GreenHue | 0 |
GreenSaturation | 0 |
HasCrop | True |
HasSettings | True |
HighlightRecovery | 0 |
HueAdjustmentAqua | 0 |
HueAdjustmentBlue | 0 |
HueAdjustmentGreen | 0 |
HueAdjustmentMagenta | 0 |
HueAdjustmentOrange | 0 |
HueAdjustmentPurple | 0 |
HueAdjustmentRed | 0 |
HueAdjustmentYellow | 0 |
HyperfocalDistance | 2.26 m |
ImageHeight | 1528 |
ImageNumber | 0 |
ImageSize | 3268x1528 |
ImageWidth | 3268 |
ISO | 800 |
Keywords | Aurora |
Lens | 11-16mm |
LensID (1) | 160 |
LensID | Tokina AT-X 116 AF Pro DX 11-16mm f/2.8 |
LensInfo | 11-16mm f/? |
LightValue | -3.9 |
LuminanceAdjustmentAqua | 0 |
LuminanceAdjustmentBlue | 0 |
LuminanceAdjustmentGreen | 0 |
LuminanceAdjustmentMagenta | 0 |
LuminanceAdjustmentOrange | 0 |
LuminanceAdjustmentPurple | 0 |
LuminanceAdjustmentRed | 0 |
LuminanceAdjustmentYellow | 0 |
LuminanceSmoothing | 75 |
Make | Canon |
MaxApertureValue | 2.8 |
Megapixels | 5.0 |
MeteringMode | Multi-segment |
Model | Canon EOS 7D |
ModifyDate (1) | 2011:01:09 21:03:45+01:00 |
ModifyDate | 2011:01:09 21:03:45 |
ParametricDarks | 0 |
ParametricHighlights | 0 |
ParametricHighlightSplit | 75 |
ParametricLights | -38 |
ParametricMidtoneSplit | 50 |
ParametricShadows | 0 |
ParametricShadowSplit | 25 |
PostCropVignetteAmount | 0 |
ProfileDescription | sRGB IEC61966-2.1 |
RedHue | 0 |
RedSaturation | 0 |
Saturation | 0 |
SaturationAdjustmentAqua | 0 |
SaturationAdjustmentBlue | 0 |
SaturationAdjustmentGreen | 0 |
SaturationAdjustmentMagenta | 0 |
SaturationAdjustmentOrange | 0 |
SaturationAdjustmentPurple | 0 |
SaturationAdjustmentRed | 0 |
SaturationAdjustmentYellow | 0 |
ScaleFactor35efl | 1.6 |
SceneCaptureType | Standard |
SerialNumber | 330426034 |
Shadows | 8 |
ShadowTint | 0 |
SharpenDetail | 89 |
SharpenEdgeMasking | 68 |
SharpenRadius | +2.0 |
Sharpness | 95 |
ShutterSpeed | 15 |
ShutterSpeedValue | 15 |
SplitToningBalance | 0 |
SplitToningHighlightHue | 197 |
SplitToningHighlightSaturation | 88 |
SplitToningShadowHue | 244 |
SplitToningShadowSaturation | 0 |
Subject | Aurora |
SubjectDistance | 4294967295 m |
Tint | +19 |
ToneCurve | 0, 0, 32, 22, 64, 56, 128, 128, 192, 196, 255, 255 |
ToneCurveName | Medium Contrast |
Version | 5.6 |
Vibrance | 0 |
VignetteAmount | 0 |
WhiteBalance (2) | Custom |
WhiteBalance | Auto |