Felt | Verdi |
AlreadyApplied | True |
Aperture | 7.1 |
ApertureValue | 7.1 |
ApproximateFocusDistance | 6.73 |
Artist | Linn Bryhn Jacobsen |
BitsPerSample | 8 |
BlueHue | 0 |
BlueSaturation | 0 |
Brightness | +50 |
By-line | Linn Bryhn Jacobsen |
CameraProfile | Adobe Standard |
ChromaticAberrationB | 0 |
ChromaticAberrationR | 0 |
CircleOfConfusion | 0.020 mm |
Clarity | +10 |
ColorComponents | 3 |
ColorNoiseReduction | 25 |
ColorNoiseReductionDetail | 50 |
ColorTemperature | 6828 |
Contrast (2) | +25 |
Contrast | High |
ConvertToGrayscale | False |
Copyright | Linn Bryhn Jacobsen |
CopyrightFlag | True |
CopyrightNotice | Linn Bryhn Jacobsen |
CreateDate (1) | 2011:02:27 10:09:51+01:00 |
CreateDate | 2011:02:27 10:09:51 |
Creator | Linn Bryhn Jacobsen |
CreatorAddress | EftasÄsen 1 |
CreatorCity | Oslo |
CreatorCountry | Norway |
CreatorPostalCode | N-0687 |
CreatorTool | Adobe Photoshop Lightroom 3.3 |
CreatorWorkEmail | lbjacobs@online.no |
CropAngle | 0 |
CropBottom | 0.780172 |
CropConstrainToWarp | 0 |
CropHeight | 1449 |
CropLeft | 0.358705 |
CropRight | 0.718363 |
CropTop | 0.255747 |
CropUnit | pixels |
CropWidth | 1500 |
CustomRendered | Normal |
DateTimeDigitized | 2011:02:27 10:09:51+01:00 |
DateTimeOriginal (1) | 2011:02:27 10:09:51+01:00 |
DateTimeOriginal | 2011:02:27 10:09:51 |
Defringe | 0 |
DOF | 0.31 m (6.58 - 6.89 m) |
ExifImageHeight | 1449 |
ExifImageWidth | 1500 |
Exposure | 0.00 |
ExposureCompensation | 0 |
ExposureMode | Auto |
ExposureProgram | Shutter speed priority AE |
ExposureTime | 1/400 |
FillLight | 9 |
Flash | Off, Did not fire |
FlashFired | False |
FlashFunction | False |
FlashMode | Off |
FlashRedEyeMode | False |
FlashReturn | No return detection |
FNumber | 7.1 |
FocalLength | 200.0 mm |
FocalLength35efl | 200.0 mm (35 mm equivalent: 300.0 mm) |
FocalLengthIn35mmFormat | 300 mm |
FOV | 6.9 deg |
GrainAmount | 0 |
GreenHue | 0 |
GreenSaturation | 0 |
HasCrop | True |
HasSettings | True |
HierarchicalSubject | natur|Dyr, natur|Dyr|Ekorn |
HighlightRecovery | 0 |
HueAdjustmentAqua | 0 |
HueAdjustmentBlue | 0 |
HueAdjustmentGreen | 0 |
HueAdjustmentMagenta | 0 |
HueAdjustmentOrange | -9 |
HueAdjustmentPurple | 0 |
HueAdjustmentRed | 0 |
HueAdjustmentYellow | -14 |
HyperfocalDistance | 281.26 m |
ImageHeight | 1449 |
ImageSize | 1500x1449 |
ImageWidth | 1500 |
ISO | 400 |
Keywords | Dyr, Ekorn, natur |
Lens | smc PENTAX-DA* 200mm F2.8 ED [IF] SDM |
LensID (1) | 8 235 |
LensID | smc PENTAX-DA* 200mm F2.8 ED [IF] SDM |
LensInfo | 200mm f/2.8 |
LensManualDistortionAmount | 0 |
LensModel | smc PENTAX-DA* 200mm F2.8 ED [IF] SDM |
LensProfileEnable | 0 |
LensProfileSetup | LensDefaults |
LightValue | 12.3 |
LuminanceAdjustmentAqua | 0 |
LuminanceAdjustmentBlue | 0 |
LuminanceAdjustmentGreen | 0 |
LuminanceAdjustmentMagenta | 0 |
LuminanceAdjustmentOrange | 0 |
LuminanceAdjustmentPurple | 0 |
LuminanceAdjustmentRed | 0 |
LuminanceAdjustmentYellow | 0 |
LuminanceNoiseReductionContrast | 0 |
LuminanceNoiseReductionDetail | 50 |
LuminanceSmoothing | 45 |
Make | PENTAX |
Marked | True |
Megapixels | 2.2 |
MeteringMode | Spot |
Model | PENTAX K-5 |
ModifyDate (1) | 2011:02:28 21:11:31+01:00 |
ModifyDate | 2011:02:28 21:11:31 |
PaintCorrectionActive | true |
PaintCorrectionAmount | 1.000000 |
PaintCorrectionBrightness | 0.171000 |
PaintCorrectionClarity | 0.000000 |
PaintCorrectionContrast | 0.195000 |
PaintCorrectionExposure | 0.000000 |
PaintCorrectionHue | 240.000000 |
PaintCorrectionMaskCenterWeight | 0.000000 |
PaintCorrectionMaskFlow (1) | 0.255125 |
PaintCorrectionMaskFlow | 0.106383 |
PaintCorrectionMaskRadius | 0.013361 |
PaintCorrectionMaskValue | 0.714000 |
PaintCorrectionMaskWhat | Mask/Paint |
PaintCorrectionSaturation | 0.000000 |
PaintCorrectionSharpness | 0.390000 |
PaintCorrectionWhat | Correction |
ParametricDarks | -20 |
ParametricHighlights | 0 |
ParametricHighlightSplit | 75 |
ParametricLights | +20 |
ParametricMidtoneSplit | 50 |
ParametricShadows | 0 |
ParametricShadowSplit | 25 |
PerspectiveHorizontal | 0 |
PerspectiveRotate | 0.0 |
PerspectiveScale | 100 |
PerspectiveVertical | 0 |
PostCropVignetteAmount | 0 |
ProcessVersion | 5.7 |
ProfileDescription | Adobe RGB (1998) |
RedHue | 0 |
RedSaturation | 0 |
Rights | Linn Bryhn Jacobsen |
Saturation (2) | +6 |
Saturation | Normal |
SaturationAdjustmentAqua | 0 |
SaturationAdjustmentBlue | 0 |
SaturationAdjustmentGreen | 0 |
SaturationAdjustmentMagenta | 0 |
SaturationAdjustmentOrange | +7 |
SaturationAdjustmentPurple | 0 |
SaturationAdjustmentRed | 0 |
SaturationAdjustmentYellow | +5 |
ScaleFactor35efl | 1.5 |
SceneCaptureType | Standard |
SensingMethod | One-chip color area |
SensitivityType | Unknown |
Shadows | 5 |
ShadowTint | 0 |
SharpenDetail | 47 |
SharpenEdgeMasking | 0 |
SharpenRadius | +1.5 |
Sharpness (2) | 81 |
Sharpness | Hard |
ShutterSpeed | 1/400 |
ShutterSpeedValue | 1/400 |
Software | K-5 Ver 1.01 |
SplitToningBalance | 0 |
SplitToningHighlightHue | 0 |
SplitToningHighlightSaturation | 0 |
SplitToningShadowHue | 0 |
SplitToningShadowSaturation | 0 |
Subject | Dyr, Ekorn, natur |
SubjectDistanceRange | Distant |
Tint | +5 |
ToneCurve | 0, 0, 32, 22, 64, 56, 128, 128, 192, 196, 255, 255 |
ToneCurveName | Medium Contrast |
Version | 6.3 |
Vibrance | +17 |
VignetteAmount | 0 |
WhiteBalance (2) | Custom |
WhiteBalance | Auto |