Felt | Verdi |
AlreadyApplied | True |
Aperture | 22.0 |
ApertureValue | 22.0 |
Artist | Svenn Fjeldheim |
BitsPerSample | 8 |
BlueHue | -79 |
BlueSaturation | -38 |
Brightness | +5 |
By-line | Svenn Fjeldheim |
CameraProfile | Adobe Standard |
ChromaticAberrationB | 0 |
ChromaticAberrationR | 0 |
CircleOfConfusion | 0.019 mm |
Clarity | +10 |
ColorComponents | 3 |
ColorMode | RGB |
ColorNoiseReduction | 5 |
ColorNoiseReductionDetail | 50 |
ColorSpace | sRGB |
ColorTemperature | 5382 |
Contrast | +69 |
ConvertToGrayscale | False |
CreateDate (1) | 2011:03:08 16:27:04.00+01:00 |
CreateDate | 2011:03:08 16:27:04 |
Creator | Svenn Fjeldheim |
CropAngle | 0 |
CropBottom | 1 |
CropLeft | 0 |
CropRight | 1 |
CropTop | 0 |
CustomRendered | Normal |
DateTimeDigitized | 2011:03:08 16:27:04.00+01:00 |
DateTimeOriginal (1) | 2011:03:08 16:27:04.00+01:00 |
DateTimeOriginal | 2011:03:08 16:27:04 |
Defringe | 2 |
DOF | inf (0.24 m - inf) |
ExifImageHeight | 567 |
ExifImageWidth | 850 |
Exposure | +1.24 |
ExposureCompensation | 0 |
ExposureMode | Manual |
ExposureProgram | Manual |
ExposureTime | 20 |
FillLight | 56 |
Firmware | 1.2.2 |
Flash | Off, Did not fire |
FlashCompensation | 0 |
FlashFired | False |
FlashFunction | False |
FlashMode | Off |
FlashRedEyeMode | False |
FlashReturn | No return detection |
FNumber | 22.0 |
FocalLength | 10.0 mm |
FocalLength35efl | 10.0 mm (35 mm equivalent: 15.7 mm) |
Format | image/jpeg |
FOV | 97.8 deg |
GrainAmount | 36 |
GrainFrequency | 50 |
GrainSize | 50 |
GreenHue | -84 |
GreenSaturation | -100 |
HasCrop | True |
HasSettings | True |
HighlightRecovery | 100 |
HueAdjustmentAqua | 0 |
HueAdjustmentBlue | 0 |
HueAdjustmentGreen | 0 |
HueAdjustmentMagenta | 0 |
HueAdjustmentOrange | -50 |
HueAdjustmentPurple | 0 |
HueAdjustmentRed | 0 |
HueAdjustmentYellow | -71 |
HyperfocalDistance | 0.24 m |
ICCProfileName | sRGB IEC61966-2.1 |
ImageHeight | 567 |
ImageNumber | 0 |
ImageSize | 850x567 |
ImageWidth | 850 |
ISO | 100 |
Label | |
Lens | EF-S10-22mm f/3.5-4.5 USM |
LensID (1) | 235 |
LensID | Canon EF-S 10-22mm f/3.5-4.5 USM |
LensInfo | 10-22mm f/? |
LightValue | 4.6 |
LuminanceAdjustmentAqua | 0 |
LuminanceAdjustmentBlue | 0 |
LuminanceAdjustmentGreen | 0 |
LuminanceAdjustmentMagenta | 0 |
LuminanceAdjustmentOrange | 0 |
LuminanceAdjustmentPurple | 0 |
LuminanceAdjustmentRed | 0 |
LuminanceAdjustmentYellow | 0 |
LuminanceNoiseReductionContrast | 0 |
LuminanceNoiseReductionDetail | 50 |
LuminanceSmoothing | 41 |
Make | Canon |
MaxApertureValue | 3.5 |
Megapixels | 0.482 |
MeteringMode | Multi-segment |
Model | Canon EOS 7D |
ModifyDate (1) | 2011:03:09 23:15:06+01:00 |
ModifyDate | 2011:03:09 23:15:06 |
Orientation | Horizontal (normal) |
ParametricDarks | +30 |
ParametricHighlights | +20 |
ParametricHighlightSplit | 75 |
ParametricLights | +20 |
ParametricMidtoneSplit | 50 |
ParametricShadows | +30 |
ParametricShadowSplit | 25 |
PostCropVignetteAmount | -15 |
PostCropVignetteFeather | 50 |
PostCropVignetteHighlightContrast | 0 |
PostCropVignetteMidpoint | 50 |
PostCropVignetteRoundness | 0 |
PostCropVignetteStyle | 1 |
ProcessVersion | 5.7 |
ProfileDescription | sRGB IEC61966-2.1 |
Rating | 0 |
RawFileName | IMG_9169.CR2 |
RedHue | -63 |
RedSaturation | +89 |
Saturation | -84 |
SaturationAdjustmentAqua | -12 |
SaturationAdjustmentBlue | -100 |
SaturationAdjustmentGreen | -45 |
SaturationAdjustmentMagenta | 0 |
SaturationAdjustmentOrange | 0 |
SaturationAdjustmentPurple | 0 |
SaturationAdjustmentRed | 0 |
SaturationAdjustmentYellow | -2 |
ScaleFactor35efl | 1.6 |
SceneCaptureType | Standard |
SerialNumber | 530503123 |
Shadows | 60 |
ShadowTint | +100 |
SharpenDetail | 47 |
SharpenEdgeMasking | 0 |
SharpenRadius | +1.6 |
Sharpness | 71 |
ShutterSpeed | 20 |
ShutterSpeedValue | 20 |
Software | Adobe Photoshop CS4 Windows |
SplitToningBalance | +10 |
SplitToningHighlightHue | 46 |
SplitToningHighlightSaturation | 71 |
SplitToningShadowHue | 244 |
SplitToningShadowSaturation | 10 |
SubjectDistance | 4294967295 m |
Tint | +30 |
ToneCurve | 0, 0, 32, 16, 64, 50, 128, 128, 192, 202, 255, 255 |
ToneCurveName | Strong Contrast |
URL_List | |
Version | 5.7 |
Vibrance | +10 |
VignetteAmount | -13 |
VignetteMidpoint | 30 |
WhiteBalance (2) | Custom |
WhiteBalance | Auto |