Felt | Verdi |
AlreadyApplied | True |
Aperture | 7.1 |
ApertureValue | 7.1 |
ApproximateFocusDistance | 4294967295 |
BitsPerSample | 8 |
BlueHue | +100 |
BlueSaturation | +100 |
Brightness | +47 |
CameraProfile | ACR 4.4 |
CFAPattern | [Green,Blue][Red,Green] |
ChromaticAberrationB | 0 |
ChromaticAberrationR | 0 |
CircleOfConfusion | 0.020 mm |
Clarity | +15 |
ColorComponents | 3 |
ColorNoiseReduction | 25 |
ColorNoiseReductionDetail | 50 |
ColorTemperature | 4900 |
Contrast (2) | +100 |
Contrast | Normal |
ConvertToGrayscale | False |
CreateDate (1) | 2011:04:03 12:06:26.20+02:00 |
CreateDate | 2011:04:03 12:06:26 |
CreatorTool | Adobe Photoshop Lightroom 3.3 |
CustomRendered | Normal |
DateTimeDigitized | 2011:04:03 12:06:26.20+02:00 |
DateTimeOriginal (1) | 2011:04:03 12:06:26.20+02:00 |
DateTimeOriginal | 2011:04:03 12:06:26 |
Defringe | 0 |
DigitalZoomRatio | 1 |
DOF | inf (77.28 m - inf) |
ExifImageHeight | 2592 |
ExifImageWidth | 3872 |
Exposure | +0.24 |
ExposureCompensation | 0 |
ExposureMode | Auto |
ExposureProgram | Aperture-priority AE |
ExposureTime | 1/800 |
FillLight | 15 |
Flash | No Flash |
FlashFired | False |
FlashFunction | False |
FlashMode | Unknown |
FlashRedEyeMode | False |
FlashReturn | No return detection |
FNumber | 7.1 |
FocalLength | 105.0 mm |
FocalLength35efl | 105.0 mm (35 mm equivalent: 157.0 mm) |
FocalLengthIn35mmFormat | 157 mm |
FOV | 13.1 deg |
GainControl | Low gain up |
GrainAmount | 0 |
GreenHue | -100 |
GreenSaturation | -100 |
HasCrop | False |
HasSettings | True |
HighlightRecovery | 100 |
HueAdjustmentAqua | 0 |
HueAdjustmentBlue | 0 |
HueAdjustmentGreen | 0 |
HueAdjustmentMagenta | 0 |
HueAdjustmentOrange | +29 |
HueAdjustmentPurple | 0 |
HueAdjustmentRed | +81 |
HueAdjustmentYellow | +5 |
HyperfocalDistance | 77.28 m |
ImageHeight | 2592 |
ImageNumber | 10375 |
ImageSize | 3872x2592 |
ImageWidth | 3872 |
ISO | 400 |
Keywords | Skien |
Lens | 105.0 mm f/2.8 |
LensID (1) | 50 |
LensID | AF Micro-Nikkor 105mm f/2.8D or Sigma Macro 105mm F2.8 EX DG |
LensInfo | 105mm f/2.8 |
LensManualDistortionAmount | 0 |
LensModel | 105.0 mm f/2.8 |
LensProfileEnable | 0 |
LensProfileSetup | LensDefaults |
LightSource | Unknown |
LightValue | 13.3 |
LuminanceAdjustmentAqua | -100 |
LuminanceAdjustmentBlue | 0 |
LuminanceAdjustmentGreen | +100 |
LuminanceAdjustmentMagenta | 0 |
LuminanceAdjustmentOrange | +100 |
LuminanceAdjustmentPurple | 0 |
LuminanceAdjustmentRed | +100 |
LuminanceAdjustmentYellow | +95 |
LuminanceNoiseReductionContrast | 0 |
LuminanceNoiseReductionDetail | 50 |
LuminanceSmoothing | 40 |
Make | NIKON CORPORATION |
MaxApertureValue | 2.8 |
Megapixels | 10.0 |
MeteringMode | Multi-segment |
Model | NIKON D80 |
ModifyDate (1) | 2011:04:04 20:37:40+02:00 |
ModifyDate | 2011:04:04 20:37:40 |
ParametricDarks | +11 |
ParametricHighlights | 0 |
ParametricHighlightSplit | 75 |
ParametricLights | +39 |
ParametricMidtoneSplit | 50 |
ParametricShadows | +32 |
ParametricShadowSplit | 25 |
PerspectiveHorizontal | 0 |
PerspectiveRotate | 0.0 |
PerspectiveScale | 100 |
PerspectiveVertical | 0 |
PostCropVignetteAmount | 0 |
ProcessVersion | 5.7 |
ProfileDescription | sRGB IEC61966-2.1 |
Rating | 5 |
RedHue | +100 |
RedSaturation | -69 |
Saturation (2) | -56 |
Saturation | High |
SaturationAdjustmentAqua | -100 |
SaturationAdjustmentBlue | -100 |
SaturationAdjustmentGreen | -100 |
SaturationAdjustmentMagenta | -100 |
SaturationAdjustmentOrange | -100 |
SaturationAdjustmentPurple | -100 |
SaturationAdjustmentRed | -100 |
SaturationAdjustmentYellow | -100 |
ScaleFactor35efl | 1.5 |
SceneCaptureType | Standard |
SceneType | Directly photographed |
SensingMethod | One-chip color area |
SensitivityType | Unknown |
SerialNumber | 4522573 |
Shadows | 43 |
ShadowTint | +100 |
SharpenDetail | 25 |
SharpenEdgeMasking | 26 |
SharpenRadius | +1.0 |
Sharpness (2) | 43 |
Sharpness | Hard |
ShutterSpeed | 1/800 |
ShutterSpeedValue | 1/800 |
Software | Ver.1.11 |
SplitToningBalance | 0 |
SplitToningHighlightHue | 47 |
SplitToningHighlightSaturation | 10 |
SplitToningShadowHue | 231 |
SplitToningShadowSaturation | 10 |
Subject | Skien |
SubjectDistance | 4294967295 m |
SubjectDistanceRange | Unknown |
Tint | 0 |
ToneCurve | 0, 0, 32, 16, 64, 50, 128, 128, 192, 202, 255, 255 |
ToneCurveName | Strong Contrast |
Version | 6.3 |
Vibrance | -100 |
VignetteAmount | +26 |
VignetteMidpoint | 67 |
WhiteBalance (2) | Custom |
WhiteBalance | Auto |