Felt | Verdi |
AlreadyApplied | True |
Aperture | 18.0 |
ApertureValue | 18.0 |
BitsPerSample | 8 |
BlueHue | 0 |
BlueSaturation | 0 |
Brightness | 0 |
CameraProfile | Embedded |
ChromaticAberrationB | 0 |
ChromaticAberrationR | 0 |
CircleOfConfusion | 0.031 mm |
Clarity | +29 |
ColorComponents | 3 |
ColorNoiseReduction | 0 |
Contrast | +39 |
ConvertToGrayscale | False |
CreateDate (1) | 2011:08:06 16:12:20.60+02:00 |
CreateDate | 2011:08:06 16:12:20 |
CreatorTool | Adobe Photoshop Lightroom |
CropAngle | 3.20266 |
CropBottom | 0.977765 |
CropHeight | 1626 |
CropLeft | 0.029404 |
CropRight | 0.969356 |
CropTop | 0.108174 |
CropUnit | pixels |
CropWidth | 3000 |
CustomRendered | Normal |
DateTimeDigitized | 2011:08:06 16:12:20.60+02:00 |
DateTimeOriginal (1) | 2011:08:06 16:12:20.60+02:00 |
DateTimeOriginal | 2011:08:06 16:12:20 |
Defringe | 0 |
ExifImageHeight | 1626 |
ExifImageWidth | 3000 |
Exposure | +0.38 |
ExposureCompensation | 0 |
ExposureMode | Manual |
ExposureProgram | Manual |
ExposureTime | 1/40 |
FillLight | 0 |
Firmware | 2.0.8 |
Flash | Off, Did not fire |
FlashCompensation | 0 |
FlashFired | False |
FlashFunction | False |
FlashMode | Off |
FlashRedEyeMode | False |
FlashReturn | No return detection |
FNumber | 18.0 |
FocalLength | 70.0 mm |
FocalLength35efl | 70.0 mm (35 mm equivalent: 68.3 mm) |
FOV | 29.5 deg |
GreenHue | 0 |
GreenSaturation | 0 |
HasCrop | True |
HasSettings | True |
HighlightRecovery | 0 |
HueAdjustmentAqua | 0 |
HueAdjustmentBlue | 0 |
HueAdjustmentGreen | 0 |
HueAdjustmentMagenta | 0 |
HueAdjustmentOrange | 0 |
HueAdjustmentPurple | 0 |
HueAdjustmentRed | 0 |
HueAdjustmentYellow | 0 |
HyperfocalDistance | 8.84 m |
ImageHeight | 1626 |
ImageNumber | 0 |
ImageSize | 3000x1626 |
ImageWidth | 3000 |
IncrementalTemperature | +5 |
IncrementalTint | 0 |
ISO | 320 |
Lens | EF70-200mm f/2.8L IS II USM |
LensInfo | 70-200mm f/? |
LightValue | 12.0 |
LuminanceAdjustmentAqua | 0 |
LuminanceAdjustmentBlue | 0 |
LuminanceAdjustmentGreen | 0 |
LuminanceAdjustmentMagenta | 0 |
LuminanceAdjustmentOrange | 0 |
LuminanceAdjustmentPurple | 0 |
LuminanceAdjustmentRed | 0 |
LuminanceAdjustmentYellow | 0 |
LuminanceSmoothing | 0 |
Make | Canon |
MaxApertureValue | 2.8 |
Megapixels | 4.9 |
MeteringMode | Multi-segment |
Model | Canon EOS 5D Mark II |
ModifyDate (1) | 2012:01:07 21:04:31+01:00 |
ModifyDate | 2012:01:07 21:04:31 |
ParametricDarks | 0 |
ParametricHighlights | +33 |
ParametricHighlightSplit | 90 |
ParametricLights | 0 |
ParametricMidtoneSplit | 51 |
ParametricShadows | -7 |
ParametricShadowSplit | 10 |
PostCropVignetteAmount | 0 |
ProfileDescription | sRGB IEC61966-2.1 |
RedHue | 0 |
RedSaturation | 0 |
Saturation | +5 |
SaturationAdjustmentAqua | 0 |
SaturationAdjustmentBlue | 0 |
SaturationAdjustmentGreen | 0 |
SaturationAdjustmentMagenta | 0 |
SaturationAdjustmentOrange | 0 |
SaturationAdjustmentPurple | 0 |
SaturationAdjustmentRed | 0 |
SaturationAdjustmentYellow | 0 |
ScaleFactor35efl | 1.0 |
SceneCaptureType | Standard |
SerialNumber | 930601673 |
Shadows | 0 |
ShadowTint | 0 |
SharpenDetail | 25 |
SharpenEdgeMasking | 0 |
SharpenRadius | +1.0 |
Sharpness | 0 |
ShutterSpeed | 1/40 |
ShutterSpeedValue | 1/40 |
SplitToningBalance | 0 |
SplitToningHighlightHue | 0 |
SplitToningHighlightSaturation | 0 |
SplitToningShadowHue | 0 |
SplitToningShadowSaturation | 0 |
ToneCurve | 0, 0, 255, 255 |
ToneCurveName | Linear |
Version | 4.5 |
Vibrance | +12 |
VignetteAmount | 0 |
WhiteBalance (2) | Custom |
WhiteBalance | Manual |