Felt | Verdi |
AlreadyApplied | True |
Aperture | 16.0 |
ApertureValue | 16.0 |
ApproximateFocusDistance | 4294967295 |
AutoLateralCA | 1 |
BitsPerSample | 8 |
Blacks2012 | +25 |
BlueHue | 0 |
BlueSaturation | 0 |
Brightness | +34 |
CameraProfile | Adobe Standard |
Clarity | 0 |
Clarity2012 | +34 |
ColorComponents | 3 |
ColorMode | RGB |
ColorNoiseReduction | 41 |
ColorNoiseReductionDetail | 50 |
ColorSpace | Uncalibrated |
ColorTemperature | 28000 |
Contrast | -4 |
Contrast2012 | +51 |
ConvertToGrayscale | False |
CreateDate (1) | 2012:03:25 19:49:03.00 |
CreateDate | 2012:03:25 19:49:03 |
CreatorTool | Adobe Photoshop CS5 Macintosh |
CropAngle | -0.779992 |
CropBottom | 0.765217 |
CropConstrainToWarp | 1 |
CropLeft | 0 |
CropRight | 0.992384 |
CropTop | 0.091802 |
CustomRendered | Normal |
DateCreated (1) | 2012:03:25 |
DateCreated | 2012:03:25 19:49:03 |
DateTimeOriginal | 2012:03:25 19:49:03 |
Defringe | 0 |
ExifImageHeight | 630 |
ExifImageWidth | 1310 |
Exposure | 0.00 |
Exposure2012 | +1.89 |
ExposureCompensation | 0 |
ExposureMode | Auto |
ExposureProgram | Bulb |
ExposureTime | 64 |
FillLight | 30 |
Firmware | 1.0.7 |
Flash | Off, Did not fire |
FlashCompensation | 0 |
FNumber | 16.0 |
FocalLength | 24.0 mm |
FocalLength35efl | 24.0 mm |
Format | image/jpeg |
GradientBasedCorrActive | true |
GradientBasedCorrAmount | 1.000000 |
GradientBasedCorrBrightness | 0.000000 |
GradientBasedCorrClarity (1) | -0.290000 |
GradientBasedCorrClarity | 0.000000 |
GradientBasedCorrClarity2012 | 0.000000 |
GradientBasedCorrContrast (1) | 0.700000 |
GradientBasedCorrContrast | 0.000000 |
GradientBasedCorrContrast2012 | 0.000000 |
GradientBasedCorrExposure (4) | 0.112500 |
GradientBasedCorrExposure (6) | -0.150000 |
GradientBasedCorrExposure | 0.000000 |
GradientBasedCorrExposure2012 | 0.000000 |
GradientBasedCorrHighlights2012 | 0.000000 |
GradientBasedCorrHue (1) | 0.000000 |
GradientBasedCorrHue (3) | 231.000000 |
GradientBasedCorrHue (5) | 223.000000 |
GradientBasedCorrHue (6) | 227.000000 |
GradientBasedCorrHue | 235.000000 |
GradientBasedCorrLuminanceNoise | 0.000000 |
GradientBasedCorrMaskFullX (1) | 0.539082 |
GradientBasedCorrMaskFullX (2) | 0.582788 |
GradientBasedCorrMaskFullX (3) | 0.573664 |
GradientBasedCorrMaskFullX (4) | 0.501322 |
GradientBasedCorrMaskFullX (5) | 0.760427 |
GradientBasedCorrMaskFullX (6) | 0.607430 |
GradientBasedCorrMaskFullX | 0.174026 |
GradientBasedCorrMaskFullY (1) | 0.340540 |
GradientBasedCorrMaskFullY (2) | 0.816764 |
GradientBasedCorrMaskFullY (3) | 0.114716 |
GradientBasedCorrMaskFullY (4) | 0.585612 |
GradientBasedCorrMaskFullY (5) | 0.849844 |
GradientBasedCorrMaskFullY (6) | 0.065878 |
GradientBasedCorrMaskFullY | 0.675705 |
GradientBasedCorrMaskValue | 1.000000 |
GradientBasedCorrMaskWhat | Mask/Gradient |
GradientBasedCorrMaskZeroX (1) | 0.543518 |
GradientBasedCorrMaskZeroX (2) | 0.587311 |
GradientBasedCorrMaskZeroX (3) | 0.576501 |
GradientBasedCorrMaskZeroX (4) | 0.498685 |
GradientBasedCorrMaskZeroX (5) | 0.758376 |
GradientBasedCorrMaskZeroX (6) | 0.611289 |
GradientBasedCorrMaskZeroX | 0.808732 |
GradientBasedCorrMaskZeroY (1) | 0.901870 |
GradientBasedCorrMaskZeroY (2) | 1.408980 |
GradientBasedCorrMaskZeroY (3) | 0.454746 |
GradientBasedCorrMaskZeroY (4) | 0.294531 |
GradientBasedCorrMaskZeroY (5) | 0.325830 |
GradientBasedCorrMaskZeroY (6) | 0.310025 |
GradientBasedCorrMaskZeroY | 0.194882 |
GradientBasedCorrMoire | 0.000000 |
GradientBasedCorrSaturation (1) | 0.380000 |
GradientBasedCorrSaturation (10) | 0.480000 |
GradientBasedCorrSaturation (11) | 0.000000 |
GradientBasedCorrSaturation (12) | 0.770000 |
GradientBasedCorrSaturation (4) | 0.800000 |
GradientBasedCorrSaturation (6) | 0.810000 |
GradientBasedCorrSaturation | 0.520000 |
GradientBasedCorrShadows2012 | 0.000000 |
GradientBasedCorrSharpness | 0.000000 |
GradientBasedCorrTemperature | 0.000000 |
GradientBasedCorrTint | 0.000000 |
GradientBasedCorrWhat | Correction |
GrainAmount | 0 |
GreenHue | 0 |
GreenSaturation | 0 |
HasCrop | True |
HasSettings | True |
HighlightRecovery | 0 |
Highlights2012 | -14 |
HueAdjustmentAqua | +4 |
HueAdjustmentBlue | +5 |
HueAdjustmentGreen | 0 |
HueAdjustmentMagenta | 0 |
HueAdjustmentOrange | 0 |
HueAdjustmentPurple | 0 |
HueAdjustmentRed | 0 |
HueAdjustmentYellow | 0 |
ICCProfileName | Adobe RGB (1998) |
ImageHeight | 630 |
ImageNumber | 0 |
ImageSize | 1310x630 |
ImageWidth | 1310 |
ISO | 100 |
Lens | EF24-105mm f/4L IS USM |
LensID (1) | 237 |
LensID | Canon EF 24-105mm f/4L IS USM |
LensInfo | 24-105mm f/? |
LensManualDistortionAmount | 0 |
LensModel | EF24-105mm f/4L IS USM |
LensProfileChromaticAberrationScale | 100 |
LensProfileDistortionScale | 100 |
LensProfileEnable | 1 |
LensProfileFilename | Canon EOS-1Ds Mark III (Canon EF 24-105mm f4 L IS USM) - RAW.lcp |
LensProfileName | Adobe (Canon EF 24-105mm f/4 L IS USM) |
LensProfileSetup | LensDefaults |
LensProfileVignettingScale | 100 |
LensSerialNumber | 00001a5826 |
LightValue | 2.0 |
LuminanceAdjustmentAqua | 0 |
LuminanceAdjustmentBlue | 0 |
LuminanceAdjustmentGreen | 0 |
LuminanceAdjustmentMagenta | 0 |
LuminanceAdjustmentOrange | 0 |
LuminanceAdjustmentPurple | 0 |
LuminanceAdjustmentRed | 0 |
LuminanceAdjustmentYellow | 0 |
LuminanceNoiseReductionContrast | 0 |
LuminanceNoiseReductionDetail | 50 |
LuminanceSmoothing | 16 |
Make | Canon |
MaxApertureValue | 4.0 |
Megapixels | 0.825 |
MeteringMode | Multi-segment |
Model | Canon EOS 5D Mark III |
ModifyDate (1) | 2012:03:26 11:51:54+02:00 |
ModifyDate | 2012:03:26 11:51:54 |
Orientation | Horizontal (normal) |
PaintCorrectionActive | true |
PaintCorrectionAmount | 1.000000 |
PaintCorrectionBrightness | 0.000000 |
PaintCorrectionClarity | 0.540000 |
PaintCorrectionClarity2012 | 0.000000 |
PaintCorrectionContrast | 0.460000 |
PaintCorrectionContrast2012 | 0.000000 |
PaintCorrectionExposure | 0.000000 |
PaintCorrectionExposure2012 | 0.000000 |
PaintCorrectionHighlights2012 | 0.000000 |
PaintCorrectionHue | 5.000000 |
PaintCorrectionLuminanceNoise | 0.000000 |
PaintCorrectionMaskCenterWeight (2) | 0.313251 |
PaintCorrectionMaskCenterWeight (4) | 0.362855 |
PaintCorrectionMaskCenterWeight (5) | 0.024519 |
PaintCorrectionMaskCenterWeight | 0.092037 |
PaintCorrectionMaskFlow (2) | 0.907216 |
PaintCorrectionMaskFlow | 0.931608 |
PaintCorrectionMaskRadius (1) | 0.077008 |
PaintCorrectionMaskRadius (2) | 0.077157 |
PaintCorrectionMaskRadius (3) | 0.148931 |
PaintCorrectionMaskRadius (4) | 0.140314 |
PaintCorrectionMaskRadius (5) | 0.278389 |
PaintCorrectionMaskRadius | 0.231799 |
PaintCorrectionMaskValue (1) | 0.510000 |
PaintCorrectionMaskValue | 0.000000 |
PaintCorrectionMaskWhat | Mask/Paint |
PaintCorrectionMoire | 0.000000 |
PaintCorrectionSaturation (1) | 0.260000 |
PaintCorrectionSaturation | 1.000000 |
PaintCorrectionShadows2012 | 0.000000 |
PaintCorrectionSharpness | 0.000000 |
PaintCorrectionTemperature | 0.000000 |
PaintCorrectionTint | 0.000000 |
PaintCorrectionWhat | Correction |
ParametricDarks | 0 |
ParametricHighlights | 0 |
ParametricHighlightSplit | 75 |
ParametricLights | 0 |
ParametricMidtoneSplit | 50 |
ParametricShadows | 0 |
ParametricShadowSplit | 25 |
PerspectiveHorizontal | 0 |
PerspectiveRotate | 0.0 |
PerspectiveScale | 100 |
PerspectiveVertical | 0 |
PostCropVignetteAmount | 0 |
ProcessVersion | 5.7 |
ProfileDescription | Adobe RGB (1998) |
Rating | 0 |
RawFileName | 5DM30026.CR2 |
RecommendedExposureIndex | 100 |
RedHue | 0 |
RedSaturation | 0 |
Saturation | +58 |
SaturationAdjustmentAqua | 0 |
SaturationAdjustmentBlue | 0 |
SaturationAdjustmentGreen | 0 |
SaturationAdjustmentMagenta | 0 |
SaturationAdjustmentOrange | 0 |
SaturationAdjustmentPurple | 0 |
SaturationAdjustmentRed | 0 |
SaturationAdjustmentYellow | 0 |
SceneCaptureType | Standard |
SensitivityType | Recommended Exposure Index |
SerialNumber | 013021001608 |
Shadows | 0 |
Shadows2012 | +14 |
ShadowTint | 0 |
SharpenDetail | 25 |
SharpenEdgeMasking | 0 |
SharpenRadius | +0.8 |
Sharpness | 41 |
ShutterSpeed | 64 |
ShutterSpeedValue | 64 |
Software | Adobe Photoshop CS5 Macintosh |
SplitToningBalance | 0 |
SplitToningHighlightHue | 0 |
SplitToningHighlightSaturation | 0 |
SplitToningShadowHue | 0 |
SplitToningShadowSaturation | 0 |
SubjectDistance | 4294967295 m |
Tint | +8 |
ToneCurve | 0, 0, 32, 22, 64, 56, 128, 128, 192, 196, 255, 255 |
ToneCurveBlue | 0, 0, 255, 255 |
ToneCurveGreen | 0, 0, 255, 255 |
ToneCurveName | Medium Contrast |
ToneCurveName2012 | Linear |
ToneCurvePV2012 | 0, 0, 255, 255 |
ToneCurvePV2012Blue | 0, 0, 255, 255 |
ToneCurvePV2012Green | 0, 0, 255, 255 |
ToneCurvePV2012Red | 0, 0, 255, 255 |
ToneCurveRed | 0, 0, 255, 255 |
URL_List | |
Version | 6.7 |
Vibrance | 0 |
VignetteAmount | 0 |
WhiteBalance (1) | Custom |
WhiteBalance | Auto |
Whites2012 | 0 |