Felt | Verdi |
AlreadyApplied | True |
Aperture | 5.6 |
ApertureValue | 5.6 |
BitsPerSample (1) | 8 8 8 |
BitsPerSample | 8 |
BlueHue | 0 |
BlueSaturation | 0 |
Brightness | +4 |
CameraProfile | Embedded |
ChromaticAberrationB | 0 |
ChromaticAberrationR | 0 |
CircleOfConfusion | 0.031 mm |
Clarity | +57 |
ColorComponents | 3 |
ColorMode | RGB |
ColorNoiseReduction | 0 |
ColorSpace | sRGB |
Contrast | +16 |
ConvertToGrayscale | False |
CreateDate (1) | 2012:11:11 14:21:14.00+01:00 |
CreateDate | 2012:11:11 14:21:14 |
CreatorTool | Adobe Photoshop Lightroom |
CropAngle | 0 |
CropBottom | 0.656608 |
CropHeight | 1011 |
CropLeft | 0.313216 |
CropRight | 0.581418 |
CropTop | 0.386494 |
CropUnit | pixels |
CropWidth | 1506 |
CustomRendered | Normal |
DateCreated (1) | 2012:11:11 |
DateCreated | 2012:11:11 14:21:14+01:00 |
DateTimeOriginal | 2012:11:11 14:21:14 |
Defringe | 0 |
ExifImageHeight | 1011 |
ExifImageWidth | 1506 |
Exposure | 0.00 |
ExposureCompensation | 0 |
ExposureMode | Manual |
ExposureProgram | Manual |
ExposureTime | 1/1250 |
FillLight | 0 |
Firmware | 2.0.8 |
Flash | Off, Did not fire |
FlashCompensation | 0 |
FNumber | 5.6 |
FocalLength | 400.0 mm |
FocalLength35efl | 400.0 mm (35 mm equivalent: 390.4 mm) |
Format | image/jpeg |
FOV | 5.3 deg |
GreenHue | 0 |
GreenSaturation | 0 |
HasCrop | True |
HasSettings | True |
HighlightRecovery | 25 |
HueAdjustmentAqua | 0 |
HueAdjustmentBlue | 0 |
HueAdjustmentGreen | 0 |
HueAdjustmentMagenta | 0 |
HueAdjustmentOrange | 0 |
HueAdjustmentPurple | 0 |
HueAdjustmentRed | 0 |
HueAdjustmentYellow | 0 |
HyperfocalDistance | 928.03 m |
ICCProfileName | sRGB IEC61966-2.1 |
ImageHeight | 1011 |
ImageNumber | 0 |
ImageSize | 1506x1011 |
ImageWidth | 1506 |
IncrementalTemperature | 0 |
IncrementalTint | 0 |
ISO | 500 |
Lens | EF400mm f/2.8L IS II USM |
LensInfo | 400mm f/? |
LightValue | 12.9 |
LuminanceAdjustmentAqua | 0 |
LuminanceAdjustmentBlue | 0 |
LuminanceAdjustmentGreen | 0 |
LuminanceAdjustmentMagenta | 0 |
LuminanceAdjustmentOrange | 0 |
LuminanceAdjustmentPurple | 0 |
LuminanceAdjustmentRed | 0 |
LuminanceAdjustmentYellow | 0 |
LuminanceSmoothing | 0 |
Make | Canon |
MaxApertureValue | 2.8 |
Megapixels | 1.5 |
MeteringMode | Multi-segment |
Model | Canon EOS 5D Mark II |
ModifyDate (1) | 2012:11:11 18:03:27+01:00 |
ModifyDate | 2012:11:11 18:03:27 |
Orientation | Horizontal (normal) |
ParametricDarks | -12 |
ParametricHighlights | +5 |
ParametricHighlightSplit | 75 |
ParametricLights | +26 |
ParametricMidtoneSplit | 50 |
ParametricShadows | +29 |
ParametricShadowSplit | 25 |
PhotometricInterpretation | RGB |
PostCropVignetteAmount | 0 |
ProfileDescription | sRGB IEC61966-2.1 |
RedHue | 0 |
RedSaturation | 0 |
Saturation | 0 |
SaturationAdjustmentAqua | 0 |
SaturationAdjustmentBlue | -21 |
SaturationAdjustmentGreen | 0 |
SaturationAdjustmentMagenta | 0 |
SaturationAdjustmentOrange | 0 |
SaturationAdjustmentPurple | 0 |
SaturationAdjustmentRed | 0 |
SaturationAdjustmentYellow | 0 |
ScaleFactor35efl | 1.0 |
SceneCaptureType | Standard |
SerialNumber | 930601673 |
Shadows | 0 |
ShadowTint | 0 |
SharpenDetail | 17 |
SharpenEdgeMasking | 100 |
SharpenRadius | +0.9 |
Sharpness | 25 |
ShutterSpeed | 1/1250 |
ShutterSpeedValue | 1/1250 |
Software | Adobe Photoshop CS5.1 Windows |
SplitToningBalance | 0 |
SplitToningHighlightHue | 0 |
SplitToningHighlightSaturation | 0 |
SplitToningShadowHue | 0 |
SplitToningShadowSaturation | 0 |
ToneCurve | 0, 0, 255, 255 |
ToneCurveName | Linear |
URL_List | |
Version | 4.5 |
Vibrance | 0 |
VignetteAmount | 0 |
WhiteBalance (1) | As Shot |
WhiteBalance | Manual |