Felt | Verdi |
AlreadyApplied | True |
Aperture | 8.0 |
ApertureValue | 8.0 |
ApproximateFocusDistance | 3.98 |
Artist | Jovan "Photojovan" Radjenovic |
AuthorsPosition | Photographer |
AutoLateralCA | 0 |
AutoWhiteVersion | 134348800 |
BitsPerSample | 8 |
Blacks2012 | -10 |
BlueHue | 0 |
BlueSaturation | 0 |
By-line | Jovan "Photojovan" Radjenovic |
By-lineTitle | Photographer |
CameraProfile | Embedded |
CaptionWriter | Jovan "Photojovan" Radjenovic |
CFAPattern | [Red,Green][Green,Blue] |
CircGradBasedCorrActive | true |
CircGradBasedCorrAmount | 1.000000 |
CircGradBasedCorrBrightness | 0.000000 |
CircGradBasedCorrClarity2012 (1) | 0.000000 |
CircGradBasedCorrClarity2012 (14) | 0.200000 |
CircGradBasedCorrClarity2012 (15) | 0.300000 |
CircGradBasedCorrClarity2012 (19) | -0.200000 |
CircGradBasedCorrClarity2012 (4) | 0.500000 |
CircGradBasedCorrClarity2012 (5) | 1.000000 |
CircGradBasedCorrClarity2012 (6) | 0.296300 |
CircGradBasedCorrClarity2012 (7) | -0.500000 |
CircGradBasedCorrClarity2012 | -0.300000 |
CircGradBasedCorrContrast2012 (1) | 0.100000 |
CircGradBasedCorrContrast2012 (13) | 0.300000 |
CircGradBasedCorrContrast2012 (15) | 0.400000 |
CircGradBasedCorrContrast2012 (19) | -0.200000 |
CircGradBasedCorrContrast2012 (3) | 0.000000 |
CircGradBasedCorrContrast2012 (4) | 0.200000 |
CircGradBasedCorrContrast2012 | -0.300000 |
CircGradBasedCorrDefringe | 0.000000 |
CircGradBasedCorrExposure2012 (13) | 0.000000 |
CircGradBasedCorrExposure2012 (14) | -0.050000 |
CircGradBasedCorrExposure2012 (17) | 0.025000 |
CircGradBasedCorrExposure2012 (18) | 0.075000 |
CircGradBasedCorrExposure2012 (5) | -0.100000 |
CircGradBasedCorrExposure2012 | 0.050000 |
CircGradBasedCorrHighlights2012 (1) | 0.100000 |
CircGradBasedCorrHighlights2012 (11) | 0.200000 |
CircGradBasedCorrHighlights2012 (12) | -0.200000 |
CircGradBasedCorrHighlights2012 (15) | -0.500000 |
CircGradBasedCorrHighlights2012 (2) | 0.000000 |
CircGradBasedCorrHighlights2012 | 0.300000 |
CircGradBasedCorrHue | 0.000000 |
CircGradBasedCorrLuminanceNoise | 0.000000 |
CircGradBasedCorrMaskAngle (10) | 3.488810 |
CircGradBasedCorrMaskAngle (12) | -29.040200 |
CircGradBasedCorrMaskAngle (13) | 21.234500 |
CircGradBasedCorrMaskAngle (14) | 7.146370 |
CircGradBasedCorrMaskAngle (16) | 34.942500 |
CircGradBasedCorrMaskAngle (17) | -43.738000 |
CircGradBasedCorrMaskAngle (19) | -13.499000 |
CircGradBasedCorrMaskAngle (2) | 31.126100 |
CircGradBasedCorrMaskAngle (20) | 13.266900 |
CircGradBasedCorrMaskAngle (3) | -29.376300 |
CircGradBasedCorrMaskAngle (4) | -0.985200 |
CircGradBasedCorrMaskAngle (6) | -9.247510 |
CircGradBasedCorrMaskAngle (8) | -16.864200 |
CircGradBasedCorrMaskAngle | 0.000000 |
CircGradBasedCorrMaskBottom (1) | 0.269953 |
CircGradBasedCorrMaskBottom (10) | 0.280512 |
CircGradBasedCorrMaskBottom (11) | 0.174820 |
CircGradBasedCorrMaskBottom (12) | 0.211872 |
CircGradBasedCorrMaskBottom (13) | 0.280727 |
CircGradBasedCorrMaskBottom (14) | 0.641581 |
CircGradBasedCorrMaskBottom (15) | 0.542101 |
CircGradBasedCorrMaskBottom (16) | 1.059100 |
CircGradBasedCorrMaskBottom (17) | 0.935990 |
CircGradBasedCorrMaskBottom (18) | 0.113874 |
CircGradBasedCorrMaskBottom (19) | 0.258288 |
CircGradBasedCorrMaskBottom (2) | 0.635962 |
CircGradBasedCorrMaskBottom (20) | 0.212055 |
CircGradBasedCorrMaskBottom (3) | 0.387461 |
CircGradBasedCorrMaskBottom (4) | 1.084570 |
CircGradBasedCorrMaskBottom (5) | 0.780636 |
CircGradBasedCorrMaskBottom (6) | 0.769671 |
CircGradBasedCorrMaskBottom (7) | 0.600157 |
CircGradBasedCorrMaskBottom (8) | 0.503596 |
CircGradBasedCorrMaskBottom (9) | 0.537290 |
CircGradBasedCorrMaskBottom | 0.675221 |
CircGradBasedCorrMaskFeather (2) | +100 |
CircGradBasedCorrMaskFeather | +50 |
CircGradBasedCorrMaskFlipped | true |
CircGradBasedCorrMaskLeft (1) | 0.454359 |
CircGradBasedCorrMaskLeft (10) | 0.481574 |
CircGradBasedCorrMaskLeft (11) | 0.434281 |
CircGradBasedCorrMaskLeft (12) | 0.516293 |
CircGradBasedCorrMaskLeft (13) | 0.319703 |
CircGradBasedCorrMaskLeft (14) | 0.111555 |
CircGradBasedCorrMaskLeft (15) | 0.341745 |
CircGradBasedCorrMaskLeft (16) | 0.895023 |
CircGradBasedCorrMaskLeft (17) | -0.135551 |
CircGradBasedCorrMaskLeft (18) | 0.427970 |
CircGradBasedCorrMaskLeft (19) | 0.528237 |
CircGradBasedCorrMaskLeft (2) | 0.082322 |
CircGradBasedCorrMaskLeft (20) | 0.450251 |
CircGradBasedCorrMaskLeft (3) | 0.459592 |
CircGradBasedCorrMaskLeft (4) | 0.189033 |
CircGradBasedCorrMaskLeft (5) | -0.257950 |
CircGradBasedCorrMaskLeft (6) | 0.692829 |
CircGradBasedCorrMaskLeft (7) | 0.467692 |
CircGradBasedCorrMaskLeft (8) | 0.595402 |
CircGradBasedCorrMaskLeft (9) | 0.686646 |
CircGradBasedCorrMaskLeft | 0.412197 |
CircGradBasedCorrMaskMidpoint | +50 |
CircGradBasedCorrMaskRight (1) | 0.571282 |
CircGradBasedCorrMaskRight (10) | 0.540508 |
CircGradBasedCorrMaskRight (11) | 0.600422 |
CircGradBasedCorrMaskRight (12) | 0.881581 |
CircGradBasedCorrMaskRight (13) | 0.369301 |
CircGradBasedCorrMaskRight (14) | 0.349015 |
CircGradBasedCorrMaskRight (15) | 0.692955 |
CircGradBasedCorrMaskRight (16) | 0.898878 |
CircGradBasedCorrMaskRight (17) | 0.295382 |
CircGradBasedCorrMaskRight (18) | 0.600420 |
CircGradBasedCorrMaskRight (19) | 0.645719 |
CircGradBasedCorrMaskRight (2) | 0.085882 |
CircGradBasedCorrMaskRight (20) | 0.475545 |
CircGradBasedCorrMaskRight (3) | 1.406580 |
CircGradBasedCorrMaskRight (4) | 0.820093 |
CircGradBasedCorrMaskRight (5) | 0.266154 |
CircGradBasedCorrMaskRight (6) | 1.305120 |
CircGradBasedCorrMaskRight (7) | 0.553846 |
CircGradBasedCorrMaskRight (8) | 0.808760 |
CircGradBasedCorrMaskRight (9) | 0.787592 |
CircGradBasedCorrMaskRight | 0.611987 |
CircGradBasedCorrMaskRoundness | 0 |
CircGradBasedCorrMaskTop (1) | 0.147888 |
CircGradBasedCorrMaskTop (10) | 0.200644 |
CircGradBasedCorrMaskTop (11) | -0.062550 |
CircGradBasedCorrMaskTop (12) | 0.027200 |
CircGradBasedCorrMaskTop (13) | -0.047159 |
CircGradBasedCorrMaskTop (14) | 0.229309 |
CircGradBasedCorrMaskTop (15) | 0.242181 |
CircGradBasedCorrMaskTop (16) | 0.724380 |
CircGradBasedCorrMaskTop (17) | 0.873153 |
CircGradBasedCorrMaskTop (18) | -0.093023 |
CircGradBasedCorrMaskTop (19) | 0.188256 |
CircGradBasedCorrMaskTop (2) | -0.210297 |
CircGradBasedCorrMaskTop (20) | 0.167127 |
CircGradBasedCorrMaskTop (3) | -0.035506 |
CircGradBasedCorrMaskTop (4) | 0.694727 |
CircGradBasedCorrMaskTop (5) | 0.283525 |
CircGradBasedCorrMaskTop (6) | 0.335178 |
CircGradBasedCorrMaskTop (7) | 0.501565 |
CircGradBasedCorrMaskTop (8) | 0.248913 |
CircGradBasedCorrMaskTop (9) | 0.426624 |
CircGradBasedCorrMaskTop | 0.588613 |
CircGradBasedCorrMaskValue | 1.000000 |
CircGradBasedCorrMaskVersion | +2 |
CircGradBasedCorrMaskWhat | Mask/CircularGradient |
CircGradBasedCorrMoire | 0.000000 |
CircGradBasedCorrSaturation | 0.000000 |
CircGradBasedCorrShadows2012 (10) | 0.200000 |
CircGradBasedCorrShadows2012 (14) | -0.200000 |
CircGradBasedCorrShadows2012 (18) | 0.300000 |
CircGradBasedCorrShadows2012 (4) | -0.300000 |
CircGradBasedCorrShadows2012 | -0.100000 |
CircGradBasedCorrSharpness (2) | -1.000000 |
CircGradBasedCorrSharpness | 0.000000 |
CircGradBasedCorrTemperature | 0.000000 |
CircGradBasedCorrTint | 0.000000 |
CircGradBasedCorrWhat | Correction |
CircleOfConfusion | 0.030 mm |
Clarity2012 | -20 |
ColorComponents | 3 |
ColorNoiseReduction | 0 |
ColorSpace | sRGB |
Contrast | Normal |
Contrast2012 | +10 |
ConvertToGrayscale | True |
Copyright | jovan©radjenovic 2014 |
CopyrightFlag | True |
CopyrightNotice | jovan©radjenovic 2014 |
CreateDate | 2014:02:08 21:29:05 |
Creator | Jovan "Photojovan" Radjenovic |
CreatorAddress | Sandeidgata 46 |
CreatorCity | Stavanger |
CreatorCountry | Norway |
CreatorPostalCode | 4014 |
CreatorRegion | Rogland |
CreatorTool | Adobe Photoshop Lightroom 5.3 (Windows) |
CreatorWorkEmail | artist@photojovan.com |
CreatorWorkTelephone | +47 99 89 00 86 |
CreatorWorkURL | www.photojovan.com |
CustomRendered | Normal |
DateCreated (1) | 2014:02:08 |
DateCreated | 2014:02:08 21:29:05 |
DateTimeOriginal | 2014:02:08 21:29:05 |
DigitalZoomRatio | 1 |
DOF | 1.05 m (3.52 - 4.57 m) |
Exposure2012 | +0.20 |
ExposureCompensation | 0 |
ExposureMode | Manual |
ExposureProgram | Manual |
ExposureTime | 1/250 |
Flash | Off, Did not fire |
FNumber | 8.0 |
FocalLength | 85.0 mm |
FocalLength35efl | 85.0 mm (35 mm equivalent: 85.0 mm) |
FocalLengthIn35mmFormat | 85 mm |
Format | image/jpeg |
FOV | 23.9 deg |
GainControl | None |
GradientBasedCorrActive | true |
GradientBasedCorrAmount | 1.000000 |
GradientBasedCorrBrightness | 0.000000 |
GradientBasedCorrClarity2012 | -0.200000 |
GradientBasedCorrContrast2012 | 0.000000 |
GradientBasedCorrDefringe | 0.000000 |
GradientBasedCorrExposure2012 | 0.025000 |
GradientBasedCorrHighlights2012 | 0.000000 |
GradientBasedCorrHue | 0.000000 |
GradientBasedCorrLuminanceNoise | 0.000000 |
GradientBasedCorrMaskFullX | 0.515247 |
GradientBasedCorrMaskFullY | 1.000000 |
GradientBasedCorrMaskValue | 1.000000 |
GradientBasedCorrMaskWhat | Mask/Gradient |
GradientBasedCorrMaskZeroX | 0.515247 |
GradientBasedCorrMaskZeroY | 0.523657 |
GradientBasedCorrMoire | 0.000000 |
GradientBasedCorrSaturation | 0.000000 |
GradientBasedCorrShadows2012 | 0.100000 |
GradientBasedCorrSharpness | 0.000000 |
GradientBasedCorrTemperature | 0.000000 |
GradientBasedCorrTint | 0.000000 |
GradientBasedCorrWhat | Correction |
GrainAmount | 0 |
GrayMixerAqua | -20 |
GrayMixerBlue | -30 |
GrayMixerGreen | 0 |
GrayMixerMagenta | +20 |
GrayMixerOrange | -10 |
GrayMixerPurple | -20 |
GrayMixerRed | +10 |
GrayMixerYellow | +10 |
GreenHue | 0 |
GreenSaturation | 0 |
HasCrop | False |
HasSettings | True |
Highlights2012 | -15 |
HyperfocalDistance | 30.06 m |
ImageHeight | 1024 |
ImageNumber | 12242 |
ImageSize | 781x1024 |
ImageWidth | 781 |
IncrementalTemperature | +10 |
IncrementalTint | 0 |
ISO | 100 |
Label | Grön |
Lens | 85.0 mm f/1.4 |
LensID (1) | 174 |
LensID | AF-S Nikkor 85mm f/1.4G |
LensInfo | 85mm f/1.4 |
LensManualDistortionAmount | 0 |
LensModel | 85.0 mm f/1.4 |
LensProfileEnable | 0 |
LensProfileSetup | LensDefaults |
LightSource | Unknown |
LightValue | 14.0 |
LuminanceNoiseReductionContrast | 0 |
LuminanceNoiseReductionDetail | 50 |
LuminanceSmoothing | 10 |
Make | NIKON CORPORATION |
Marked | True |
MaxApertureValue | 1.4 |
Megapixels | 0.800 |
MeteringMode | Multi-segment |
Model | NIKON D800 |
ModifyDate (1) | 2014:02:14 11:09:06+01:00 |
ModifyDate | 2014:02:14 11:09:06 |
ParametricDarks | -5 |
ParametricHighlights | 0 |
ParametricHighlightSplit | 75 |
ParametricLights | +10 |
ParametricMidtoneSplit | 50 |
ParametricShadows | -5 |
ParametricShadowSplit | 25 |
PerspectiveAspect | 0 |
PerspectiveHorizontal | 0 |
PerspectiveRotate | 0.0 |
PerspectiveScale | 100 |
PerspectiveUpright | 0 |
PerspectiveVertical | 0 |
PostCropVignetteAmount | 0 |
ProcessVersion | 6.7 |
ProfileDescription | sRGB IEC61966-2.1 |
RedHue | 0 |
RedSaturation | 0 |
Rights | jovan©radjenovic 2014 |
Saturation | Normal |
ScaleFactor35efl | 1.0 |
SceneCaptureType | Standard |
SceneType | Directly photographed |
SensingMethod | One-chip color area |
SensitivityType | Recommended Exposure Index |
SerialNumber | 6027199 |
Shadows2012 | 0 |
ShadowTint | 0 |
SharpenDetail | 25 |
SharpenEdgeMasking | 0 |
SharpenRadius | +1.0 |
Sharpness (1) | 0 |
Sharpness | Normal |
ShutterSpeed | 1/250 |
ShutterSpeedValue | 1/250 |
Software | Adobe Photoshop Lightroom 5.3 (Windows) |
SplitToningBalance | -50 |
SplitToningHighlightHue | 240 |
SplitToningHighlightSaturation | 8 |
SplitToningShadowHue | 40 |
SplitToningShadowSaturation | 5 |
SubjectDistanceRange | Unknown |
ToneCurveName2012 | Linear |
ToneCurvePV2012 | 0, 0, 255, 255 |
ToneCurvePV2012Blue | 0, 0, 255, 255 |
ToneCurvePV2012Green | 0, 0, 255, 255 |
ToneCurvePV2012Red | 0, 0, 255, 255 |
URL | http://www.regeringen.se/content/1/c4/26/85/146cffc2.pdf |
UsageTerms | jovan©radjenovic 2014 |
Version | 8.3 |
VignetteAmount | 0 |
WebStatement | http://www.regeringen.se/content/1/c4/26/85/146cffc2.pdf |
WhiteBalance (1) | Custom |
WhiteBalance | Auto |
Whites2012 | -15 |
Writer-Editor | Jovan "Photojovan" Radjenovic |